BEGIN:VCALENDAR
VERSION:2.0
PRODID:-//Epilepsy Foundation of Minnesota - ECPv6.15.20//NONSGML v1.0//EN
CALSCALE:GREGORIAN
METHOD:PUBLISH
X-WR-CALNAME:Epilepsy Foundation of Minnesota
X-ORIGINAL-URL:https://www.epilepsyfoundationmn.org
X-WR-CALDESC:Events for Epilepsy Foundation of Minnesota
REFRESH-INTERVAL;VALUE=DURATION:PT1H
X-Robots-Tag:noindex
X-PUBLISHED-TTL:PT1H
BEGIN:VTIMEZONE
TZID:America/Chicago
BEGIN:DAYLIGHT
TZOFFSETFROM:-0600
TZOFFSETTO:-0500
TZNAME:CDT
DTSTART:20210314T080000
END:DAYLIGHT
BEGIN:STANDARD
TZOFFSETFROM:-0500
TZOFFSETTO:-0600
TZNAME:CST
DTSTART:20211107T070000
END:STANDARD
BEGIN:DAYLIGHT
TZOFFSETFROM:-0600
TZOFFSETTO:-0500
TZNAME:CDT
DTSTART:20220313T080000
END:DAYLIGHT
BEGIN:STANDARD
TZOFFSETFROM:-0500
TZOFFSETTO:-0600
TZNAME:CST
DTSTART:20221106T070000
END:STANDARD
BEGIN:DAYLIGHT
TZOFFSETFROM:-0600
TZOFFSETTO:-0500
TZNAME:CDT
DTSTART:20230312T080000
END:DAYLIGHT
BEGIN:STANDARD
TZOFFSETFROM:-0500
TZOFFSETTO:-0600
TZNAME:CST
DTSTART:20231105T070000
END:STANDARD
END:VTIMEZONE
BEGIN:VEVENT
DTSTART;TZID=America/Chicago:20220629T183000
DTEND;TZID=America/Chicago:20220629T183000
DTSTAMP:20260423T154243
CREATED:20220520T001819Z
LAST-MODIFIED:20220623T150530Z
UID:48035-1656527400-1656527400@www.epilepsyfoundationmn.org
SUMMARY:Wellness Wednesday Webinar: Childhood Epilepsies and Seizure Types
DESCRIPTION:What do parents and caregivers need to know about epilepsy and seizures in children? Hear from an expert in the field of neurology on medical treatments for children with epilepsy\, developmental issues to be aware of\, learning and school considerations\, and social/emotional concerns and supports. This webinar gives an overview of caring for a child with epilepsy in all aspects of their life.\n\n\n\nThank you to our sponsor of this month’s webinar\, Jazz Pharmaceuticals!\nREGISTER HERE
URL:https://www.epilepsyfoundationmn.org/event/wellness-wednesday-webinar-childhood-epilepsies-and-seizure-types/
END:VEVENT
END:VCALENDAR