BEGIN:VCALENDAR
VERSION:2.0
PRODID:-//Epilepsy Foundation of Minnesota - ECPv6.15.13//NONSGML v1.0//EN
CALSCALE:GREGORIAN
METHOD:PUBLISH
X-WR-CALNAME:Epilepsy Foundation of Minnesota
X-ORIGINAL-URL:https://www.epilepsyfoundationmn.org
X-WR-CALDESC:Events for Epilepsy Foundation of Minnesota
REFRESH-INTERVAL;VALUE=DURATION:PT1H
X-Robots-Tag:noindex
X-PUBLISHED-TTL:PT1H
BEGIN:VTIMEZONE
TZID:America/Chicago
BEGIN:DAYLIGHT
TZOFFSETFROM:-0600
TZOFFSETTO:-0500
TZNAME:CDT
DTSTART:20220313T080000
END:DAYLIGHT
BEGIN:STANDARD
TZOFFSETFROM:-0500
TZOFFSETTO:-0600
TZNAME:CST
DTSTART:20221106T070000
END:STANDARD
BEGIN:DAYLIGHT
TZOFFSETFROM:-0600
TZOFFSETTO:-0500
TZNAME:CDT
DTSTART:20230312T080000
END:DAYLIGHT
BEGIN:STANDARD
TZOFFSETFROM:-0500
TZOFFSETTO:-0600
TZNAME:CST
DTSTART:20231105T070000
END:STANDARD
BEGIN:DAYLIGHT
TZOFFSETFROM:-0600
TZOFFSETTO:-0500
TZNAME:CDT
DTSTART:20240310T080000
END:DAYLIGHT
BEGIN:STANDARD
TZOFFSETFROM:-0500
TZOFFSETTO:-0600
TZNAME:CST
DTSTART:20241103T070000
END:STANDARD
END:VTIMEZONE
BEGIN:VEVENT
DTSTART;TZID=America/Chicago:20230412T183000
DTEND;TZID=America/Chicago:20230412T194500
DTSTAMP:20260420T185951
CREATED:20230127T140816Z
LAST-MODIFIED:20230404T131603Z
UID:50327-1681324200-1681328700@www.epilepsyfoundationmn.org
SUMMARY:Wellness Wednesday Webinar: Epilepsy and Aging
DESCRIPTION:While epilepsy can begin at any stage of life\, people over age 65 are among those with the highest incidence of new-onset epilepsy. And as those diagnosed at a younger age grow older\, the number of seniors living with epilepsy is growing rapidly. In this webinar\, Julie Hanna\, MD\,  epileptologist at the Minnesota Epilepsy Group\, will explore the factors that put older adults at higher risk for epilepsy\, special concerns around epilepsy in this age group\, and distinguishing between comorbidities of epilepsy and the normal symptoms of aging.\nRegister today.\nThank you Sunovion Pharmaceuticals for sponsoring this webinar!
URL:https://www.epilepsyfoundationmn.org/event/wellness-wednesday-webinar-epilepsy-aging/
LOCATION:Virtual Event
CATEGORIES:Virtual
END:VEVENT
END:VCALENDAR