BEGIN:VCALENDAR
VERSION:2.0
PRODID:-//Epilepsy Foundation of Minnesota - ECPv6.15.13//NONSGML v1.0//EN
CALSCALE:GREGORIAN
METHOD:PUBLISH
X-ORIGINAL-URL:https://www.epilepsyfoundationmn.org
X-WR-CALDESC:Events for Epilepsy Foundation of Minnesota
REFRESH-INTERVAL;VALUE=DURATION:PT1H
X-Robots-Tag:noindex
X-PUBLISHED-TTL:PT1H
BEGIN:VTIMEZONE
TZID:America/Chicago
BEGIN:DAYLIGHT
TZOFFSETFROM:-0600
TZOFFSETTO:-0500
TZNAME:CDT
DTSTART:20220313T080000
END:DAYLIGHT
BEGIN:STANDARD
TZOFFSETFROM:-0500
TZOFFSETTO:-0600
TZNAME:CST
DTSTART:20221106T070000
END:STANDARD
BEGIN:DAYLIGHT
TZOFFSETFROM:-0600
TZOFFSETTO:-0500
TZNAME:CDT
DTSTART:20230312T080000
END:DAYLIGHT
BEGIN:STANDARD
TZOFFSETFROM:-0500
TZOFFSETTO:-0600
TZNAME:CST
DTSTART:20231105T070000
END:STANDARD
BEGIN:DAYLIGHT
TZOFFSETFROM:-0600
TZOFFSETTO:-0500
TZNAME:CDT
DTSTART:20240310T080000
END:DAYLIGHT
BEGIN:STANDARD
TZOFFSETFROM:-0500
TZOFFSETTO:-0600
TZNAME:CST
DTSTART:20241103T070000
END:STANDARD
END:VTIMEZONE
BEGIN:VEVENT
DTSTART;TZID=America/Chicago:20230222T183000
DTEND;TZID=America/Chicago:20230222T194500
DTSTAMP:20260421T173358
CREATED:20221223T143323Z
LAST-MODIFIED:20230216T203413Z
UID:49960-1677090600-1677095100@www.epilepsyfoundationmn.org
SUMMARY:Wellness Wednesday Webinar: Transition Planning for Youth With Epilepsy
DESCRIPTION:Moving from childhood to adulthood is a major transition period for all youth\, but especially for those with epilepsy. Learn about when to begin the planning process for this transition period\, moving from pediatric to adult medical care\, and consideration of future options\, including guardianship\, living independently\, advancing to continued education\, and joining the workforce. Join Dr. Nicole Williams Doonan from Gillette Children’s Specialty Healthcare for an exploration of the changes this new time of life brings.\nRegister today.
URL:https://www.epilepsyfoundationmn.org/event/wellness-wednesday-webinar-transition-planning-for-youth-with-epilepsy/
CATEGORIES:Virtual
END:VEVENT
END:VCALENDAR