BEGIN:VCALENDAR
VERSION:2.0
PRODID:-//Epilepsy Foundation of Minnesota - ECPv6.15.20//NONSGML v1.0//EN
CALSCALE:GREGORIAN
METHOD:PUBLISH
X-ORIGINAL-URL:https://www.epilepsyfoundationmn.org
X-WR-CALDESC:Events for Epilepsy Foundation of Minnesota
REFRESH-INTERVAL;VALUE=DURATION:PT1H
X-Robots-Tag:noindex
X-PUBLISHED-TTL:PT1H
BEGIN:VTIMEZONE
TZID:America/Chicago
BEGIN:DAYLIGHT
TZOFFSETFROM:-0600
TZOFFSETTO:-0500
TZNAME:CDT
DTSTART:20210314T080000
END:DAYLIGHT
BEGIN:STANDARD
TZOFFSETFROM:-0500
TZOFFSETTO:-0600
TZNAME:CST
DTSTART:20211107T070000
END:STANDARD
BEGIN:DAYLIGHT
TZOFFSETFROM:-0600
TZOFFSETTO:-0500
TZNAME:CDT
DTSTART:20220313T080000
END:DAYLIGHT
BEGIN:STANDARD
TZOFFSETFROM:-0500
TZOFFSETTO:-0600
TZNAME:CST
DTSTART:20221106T070000
END:STANDARD
BEGIN:DAYLIGHT
TZOFFSETFROM:-0600
TZOFFSETTO:-0500
TZNAME:CDT
DTSTART:20230312T080000
END:DAYLIGHT
BEGIN:STANDARD
TZOFFSETFROM:-0500
TZOFFSETTO:-0600
TZNAME:CST
DTSTART:20231105T070000
END:STANDARD
END:VTIMEZONE
BEGIN:VEVENT
DTSTART;TZID=America/Chicago:20220223T183000
DTEND;TZID=America/Chicago:20220223T183000
DTSTAMP:20260425T140959
CREATED:20220127T164221Z
LAST-MODIFIED:20220214T233950Z
UID:46755-1645641000-1645641000@www.epilepsyfoundationmn.org
SUMMARY:Wellness Wednesday Webinar: Medical Cannabis in Minnesota
DESCRIPTION:A complete overview of medical cannabis for treating epilepsy in Minnesota. Included in this webinar is a pharmacist from Leafline Labs who shares how medical cannabis works to treat epilepsy and how it differs from over-the-counter CBD products. We’ll also touch on how to access medical cannabis and how to work with a doctor to decide if it’s an appropriate treatment option. This is a great introduction for those interested in learning more and curious if it might be a potential treatment for their specific seizure types and epilepsy.\nREGISTER HERE
URL:https://www.epilepsyfoundationmn.org/event/wellness-wednesday-webinar-medical-cannabis-in-minnesota/
END:VEVENT
END:VCALENDAR