BEGIN:VCALENDAR
VERSION:2.0
PRODID:-//Epilepsy Foundation of Minnesota - ECPv6.15.13//NONSGML v1.0//EN
CALSCALE:GREGORIAN
METHOD:PUBLISH
X-WR-CALNAME:Epilepsy Foundation of Minnesota
X-ORIGINAL-URL:https://www.epilepsyfoundationmn.org
X-WR-CALDESC:Events for Epilepsy Foundation of Minnesota
REFRESH-INTERVAL;VALUE=DURATION:PT1H
X-Robots-Tag:noindex
X-PUBLISHED-TTL:PT1H
BEGIN:VTIMEZONE
TZID:America/Chicago
BEGIN:DAYLIGHT
TZOFFSETFROM:-0600
TZOFFSETTO:-0500
TZNAME:CDT
DTSTART:20210314T080000
END:DAYLIGHT
BEGIN:STANDARD
TZOFFSETFROM:-0500
TZOFFSETTO:-0600
TZNAME:CST
DTSTART:20211107T070000
END:STANDARD
BEGIN:DAYLIGHT
TZOFFSETFROM:-0600
TZOFFSETTO:-0500
TZNAME:CDT
DTSTART:20220313T080000
END:DAYLIGHT
BEGIN:STANDARD
TZOFFSETFROM:-0500
TZOFFSETTO:-0600
TZNAME:CST
DTSTART:20221106T070000
END:STANDARD
BEGIN:DAYLIGHT
TZOFFSETFROM:-0600
TZOFFSETTO:-0500
TZNAME:CDT
DTSTART:20230312T080000
END:DAYLIGHT
BEGIN:STANDARD
TZOFFSETFROM:-0500
TZOFFSETTO:-0600
TZNAME:CST
DTSTART:20231105T070000
END:STANDARD
END:VTIMEZONE
BEGIN:VEVENT
DTSTART;TZID=America/Chicago:20221110T183000
DTEND;TZID=America/Chicago:20221110T193000
DTSTAMP:20260421T063502
CREATED:20221005T181013Z
LAST-MODIFIED:20221018T164632Z
UID:49003-1668105000-1668108600@www.epilepsyfoundationmn.org
SUMMARY:Advocacy Listening Session
DESCRIPTION:Join epilepsy advocates across the state to discuss our 2023 policy priorities\, and share about policy issues that impact the lives of people living with epilepsy. We hope you will join us! Please register at the form below.\n\nJOIN MEETING
URL:https://www.epilepsyfoundationmn.org/event/advocacy-listening-session/
LOCATION:Virtual Event
CATEGORIES:Virtual
END:VEVENT
BEGIN:VEVENT
DTSTART;TZID=America/Chicago:20221130T183000
DTEND;TZID=America/Chicago:20221130T194500
DTSTAMP:20260421T063502
CREATED:20220926T162749Z
LAST-MODIFIED:20220926T164224Z
UID:48941-1669833000-1669837500@www.epilepsyfoundationmn.org
SUMMARY:Wellness Wednesday Webinar: Psychogenic Non-Epileptic Seizures (PNES)
DESCRIPTION:What are the differences between epileptic seizures and psychogenic non-epileptic seizures (PNES)\, and how can you tell which kind you have? Join Dr. Julia Doss\, nationally recognized authority on non-epileptic seizures\, to learn how PNES differs from epilepsy\, what causes it\, how it’s diagnosed\, and treatment options shown to be successful.\nREGISTER HERE
URL:https://www.epilepsyfoundationmn.org/event/wellness-wednesday-webinar-pnes/
LOCATION:MN
END:VEVENT
END:VCALENDAR