BEGIN:VCALENDAR
VERSION:2.0
PRODID:-//Epilepsy Foundation of Minnesota - ECPv6.15.13//NONSGML v1.0//EN
CALSCALE:GREGORIAN
METHOD:PUBLISH
X-ORIGINAL-URL:https://www.epilepsyfoundationmn.org
X-WR-CALDESC:Events for Epilepsy Foundation of Minnesota
REFRESH-INTERVAL;VALUE=DURATION:PT1H
X-Robots-Tag:noindex
X-PUBLISHED-TTL:PT1H
BEGIN:VTIMEZONE
TZID:America/Chicago
BEGIN:DAYLIGHT
TZOFFSETFROM:-0600
TZOFFSETTO:-0500
TZNAME:CDT
DTSTART:20210314T080000
END:DAYLIGHT
BEGIN:STANDARD
TZOFFSETFROM:-0500
TZOFFSETTO:-0600
TZNAME:CST
DTSTART:20211107T070000
END:STANDARD
BEGIN:DAYLIGHT
TZOFFSETFROM:-0600
TZOFFSETTO:-0500
TZNAME:CDT
DTSTART:20220313T080000
END:DAYLIGHT
BEGIN:STANDARD
TZOFFSETFROM:-0500
TZOFFSETTO:-0600
TZNAME:CST
DTSTART:20221106T070000
END:STANDARD
BEGIN:DAYLIGHT
TZOFFSETFROM:-0600
TZOFFSETTO:-0500
TZNAME:CDT
DTSTART:20230312T080000
END:DAYLIGHT
BEGIN:STANDARD
TZOFFSETFROM:-0500
TZOFFSETTO:-0600
TZNAME:CST
DTSTART:20231105T070000
END:STANDARD
END:VTIMEZONE
BEGIN:VEVENT
DTSTART;TZID=America/Chicago:20221026T183000
DTEND;TZID=America/Chicago:20221026T194500
DTSTAMP:20260421T115735
CREATED:20220926T162559Z
LAST-MODIFIED:20221023T172313Z
UID:48939-1666809000-1666813500@www.epilepsyfoundationmn.org
SUMMARY:Wellness Wednesday Webinar: Sudden Unexpected Death in Epilepsy (SUDEP)
DESCRIPTION:Sudden Unexpected Death in Epilepsy (SUDEP) is a difficult topic to discuss\, both for those living with epilepsy and the doctors who treat them. In this webinar\, Alison Kukla and Cate Brocker from the Epilepsy Foundation of America will cover what is currently known about SUDEP\, how to approach this conversation with your doctor\, risk reduction strategies\, and available supports. Join Alison Kukla from the Epilepsy Foundation of America for an in-depth look into this challenging topic.\nREGISTER HERE
URL:https://www.epilepsyfoundationmn.org/event/wellness-wednesday-webinar-sudep/
LOCATION:MN
END:VEVENT
END:VCALENDAR