BEGIN:VCALENDAR
VERSION:2.0
PRODID:-//Epilepsy Foundation of Minnesota - ECPv6.15.13//NONSGML v1.0//EN
CALSCALE:GREGORIAN
METHOD:PUBLISH
X-ORIGINAL-URL:https://www.epilepsyfoundationmn.org
X-WR-CALDESC:Events for Epilepsy Foundation of Minnesota
REFRESH-INTERVAL;VALUE=DURATION:PT1H
X-Robots-Tag:noindex
X-PUBLISHED-TTL:PT1H
BEGIN:VTIMEZONE
TZID:America/Chicago
BEGIN:DAYLIGHT
TZOFFSETFROM:-0600
TZOFFSETTO:-0500
TZNAME:CDT
DTSTART:20210314T080000
END:DAYLIGHT
BEGIN:STANDARD
TZOFFSETFROM:-0500
TZOFFSETTO:-0600
TZNAME:CST
DTSTART:20211107T070000
END:STANDARD
BEGIN:DAYLIGHT
TZOFFSETFROM:-0600
TZOFFSETTO:-0500
TZNAME:CDT
DTSTART:20220313T080000
END:DAYLIGHT
BEGIN:STANDARD
TZOFFSETFROM:-0500
TZOFFSETTO:-0600
TZNAME:CST
DTSTART:20221106T070000
END:STANDARD
BEGIN:DAYLIGHT
TZOFFSETFROM:-0600
TZOFFSETTO:-0500
TZNAME:CDT
DTSTART:20230312T080000
END:DAYLIGHT
BEGIN:STANDARD
TZOFFSETFROM:-0500
TZOFFSETTO:-0600
TZNAME:CST
DTSTART:20231105T070000
END:STANDARD
END:VTIMEZONE
BEGIN:VEVENT
DTSTART;TZID=America/Chicago:20220402T150000
DTEND;TZID=America/Chicago:20220402T170000
DTSTAMP:20260420T004942
CREATED:20220314T211019Z
LAST-MODIFIED:20220331T164212Z
UID:47072-1648911600-1648918800@www.epilepsyfoundationmn.org
SUMMARY:St. Cloud Youth & Family Event: Fairytales on Ice *REGISTRATION FULL*
DESCRIPTION:Registration is full. We are no longer taking reservations for this event. \n\nJoin other families impacted by epilepsy at this spectacular production presented by Paramount Center for the Arts with characters on ice from Rapunzel\, Pinocchio\, Aladdin\, Tinker Bell\, and The Little Mermaid! This event is free for those with epilepsy and $10 for additional guests. Financial assistance is available. Payment will be taken at the event.\n\nSpace is limited\, so please RSVP to reserve your spot. If you have questions\, please contact Northland/Central MN Regional Outreach Manager Lisa Peterson at lisa.peterson@efmn.org or 218.624.1330.
URL:https://www.epilepsyfoundationmn.org/event/st-cloud-fairytales-on-ice/
LOCATION:Paramount Center for the Arts\, 913 West St. Germain Street\, St\, Cloud\, MN\, 56301\, United States
END:VEVENT
BEGIN:VEVENT
DTSTART;TZID=America/Chicago:20220404T183000
DTEND;TZID=America/Chicago:20220404T193000
DTSTAMP:20260420T004942
CREATED:20220314T215235Z
LAST-MODIFIED:20220329T231235Z
UID:47077-1649097000-1649100600@www.epilepsyfoundationmn.org
SUMMARY:Oakdale Adult Craft Night: Make Your Own Windchimes
DESCRIPTION:Get to know other adults living with epilepsy while channeling your creativity as we make DIY windchimes! All needed supplies and instructions will be provided to create chimes that look and sound beautiful. This event is FREE to attend and guests are welcome. \n\nIf you have questions\, please contact East Metro Regional Outreach Manager Angela Bowles Edwards at abedwards@efmn.org or 651-368-6209.
URL:https://www.epilepsyfoundationmn.org/event/make-your-own-windchimes/
LOCATION:Oakdale Library\, 1010 Heron Ave N\, Oakdale\, MN\, 55128\, United States
END:VEVENT
BEGIN:VEVENT
DTSTART;TZID=America/Chicago:20220405T180000
DTEND;TZID=America/Chicago:20220405T193000
DTSTAMP:20260420T004942
CREATED:20220314T235253Z
LAST-MODIFIED:20220329T231229Z
UID:47080-1649181600-1649187000@www.epilepsyfoundationmn.org
SUMMARY:Savage Family Fun Event: Art and Games
DESCRIPTION:Gather with other families living with epilepsy at the Savage Library and connect while partaking in fun Perler bead art projects and/or testing your board game skills. This event is open to youth\, teens\, and adults with epilepsy along with their families. This event is FREE to attend.\n\nIf you have questions\, please contact West Metro Regional Outreach Manager Erik Williams at ewilliams@efmn.org or 651.287.2319.
URL:https://www.epilepsyfoundationmn.org/event/savage-art-and-games/
LOCATION:Savage Library\, 13090 Alabama Ave\, Savage\, MN\, 55378\, United States
END:VEVENT
BEGIN:VEVENT
DTSTART;TZID=America/Chicago:20220412T180000
DTEND;TZID=America/Chicago:20220412T193000
DTSTAMP:20260420T004942
CREATED:20220315T000245Z
LAST-MODIFIED:20220331T201401Z
UID:47085-1649786400-1649791800@www.epilepsyfoundationmn.org
SUMMARY:St. Paul Family Fun Event: Make Your Own Instrument
DESCRIPTION:Join other families living with epilepsy at the Hameline Midway Library Auditorium for a chance to connect and make some music! Together we’ll build\, decorate\, and play our very own musical instruments. All supplies will be provided. This event is open to youth\, teens\, and adults with epilepsy along with their families. This event is FREE to attend and guests are welcome.\n\nIf you have questions\, please contact East Metro Regional Outreach Manager Angela Bowles Edwards at abedwards@efmn.org or 651-368-6209.
URL:https://www.epilepsyfoundationmn.org/event/st-paul-family-fun-event-make-your-own-instrument/
LOCATION:Hamline Midway Library\, 1558 W Minnehaha Ave\, St. Paul\, MN\, 55104\, United States
END:VEVENT
BEGIN:VEVENT
DTSTART;TZID=America/Chicago:20220414T180000
DTEND;TZID=America/Chicago:20220414T190000
DTSTAMP:20260420T004942
CREATED:20220317T214431Z
LAST-MODIFIED:20220329T231402Z
UID:47113-1649959200-1649962800@www.epilepsyfoundationmn.org
SUMMARY:Mankato Youth & Family Mini-Golf
DESCRIPTION:Bring your family and loved ones to join with others from the community at Wow! Zone for a few fun games of Mini-Golf. There are plenty of other fun games for those looking for more options. This event is open to youth\, teens\, and adults with epilepsy along with their friends and families. This event is free for those living with epilepsy and additional guests are welcome to join at $5.99 per person\, paid directly at the event.\n\nIf you have questions\, please contact Southern Minnesota Regional Outreach Manager Martin Hernandez at mhernandez@efmn.org or 507.287.2103.
URL:https://www.epilepsyfoundationmn.org/event/mankato-mini-golf/
LOCATION:Wow Zone\, 2030 Adams St\, Mankato\, MN\, 56001\, United States
END:VEVENT
BEGIN:VEVENT
DTSTART;TZID=America/Chicago:20220414T180000
DTEND;TZID=America/Chicago:20220414T193000
DTSTAMP:20260420T004942
CREATED:20220317T205037Z
LAST-MODIFIED:20220329T231409Z
UID:47104-1649959200-1649964600@www.epilepsyfoundationmn.org
SUMMARY:Savage Young Adult Event: Art and Games
DESCRIPTION:Gather with other young adults living with epilepsy at the Savage Library and connect while testing your board game skills and/or getting in touch with your younger creative sides with fun Perler bead art projects. This event is FREE to attend and guests are welcome to join. \n\nIf you have questions\, please contact West Metro Regional Outreach Manager Erik Williams at ewilliams@efmn.org or 651.287.2319.
URL:https://www.epilepsyfoundationmn.org/event/savage-young-adult-event-art-and-games/
LOCATION:Savage Library\, 13090 Alabama Ave\, Savage\, MN\, 55378\, United States
END:VEVENT
BEGIN:VEVENT
DTSTART;TZID=America/Chicago:20220419T173000
DTEND;TZID=America/Chicago:20220419T193000
DTSTAMP:20260420T004942
CREATED:20220318T193415Z
LAST-MODIFIED:20220329T231358Z
UID:47140-1650389400-1650396600@www.epilepsyfoundationmn.org
SUMMARY:Duluth Youth & Family Event: Duluth Children's Museum
DESCRIPTION:Join other families impacted by epilepsy to play\, discover\, and explore. Pizza dinner will be provided. Space is limited\, so please RSVP ASAP to reserve your spot. This event is free for those with epilepsy and $10 for additional guests. \n\nIf you have any questions\, please contact Northland/ Central MN Regional Outreach Manager Lisa Peterson at lisa.peterson@efmn.org or 218.624.1330.
URL:https://www.epilepsyfoundationmn.org/event/duluth-childrens-museum/
LOCATION:Duluth Children’s  Museum\, 2125 W Superior St.\, Duluth\, MN\, 55806\, United States
END:VEVENT
BEGIN:VEVENT
DTSTART;TZID=America/Chicago:20220420T180000
DTEND;TZID=America/Chicago:20220420T193000
DTSTAMP:20260420T004942
CREATED:20220317T210809Z
LAST-MODIFIED:20220414T212025Z
UID:47107-1650477600-1650483000@www.epilepsyfoundationmn.org
SUMMARY:Minneapolis Adult Sculpture Garden Event
DESCRIPTION:Join other adults living with epilepsy for a Minneapolis Sculpture Garden adventure. Connect with peers while enjoying the beautiful artwork and downtown skyline. This event is FREE to attend and guests are welcome.\n\nIf you have questions\, please contact West Metro Regional Outreach Manager Erik Williams at ewilliams@efmn.org or 651.287.2319.
URL:https://www.epilepsyfoundationmn.org/event/minneapolis-adult-sculpture-garden-event/
LOCATION:Minneapolis Sculpture Garden\, 725 Vineland Pl\, Minneap\, MN\, 55403\, United States
END:VEVENT
BEGIN:VEVENT
DTSTART;TZID=America/Chicago:20220421T170000
DTEND;TZID=America/Chicago:20220421T180000
DTSTAMP:20260420T004942
CREATED:20220317T215905Z
LAST-MODIFIED:20220329T231347Z
UID:47115-1650560400-1650564000@www.epilepsyfoundationmn.org
SUMMARY:Austin Youth & Family Event: Hormel Nature Center
DESCRIPTION:Bring your family and loved ones for some fresh air and nature. Connect with others while taking in some natural wonders and enjoying a walk through the many trails at the Hormel Nature Center.\n\nIf you have questions\, please contact Southern Minnesota Regional Outreach Manager Martin Hernandez at mhernandez@efmn.org or 507.287.2103.
URL:https://www.epilepsyfoundationmn.org/event/hormel-nature-center/
LOCATION:Hormel Nature Center\, 1304 21st St NE\, Austin\, MN\, 55912\, United States
END:VEVENT
BEGIN:VEVENT
DTSTART;TZID=America/Chicago:20220425T180000
DTEND;TZID=America/Chicago:20220425T190000
DTSTAMP:20260420T004942
CREATED:20220318T192215Z
LAST-MODIFIED:20220329T231344Z
UID:47137-1650909600-1650913200@www.epilepsyfoundationmn.org
SUMMARY:West St. Paul Young Adult Event: Make Your Own Succulent Planter
DESCRIPTION:Join other young adults living with epilepsy at Wentworth Library to chat and connect while creating our very own succulent planters! All supplies and plants will be provided. This event is free to attend\, and guests are welcome.\n\nIf you have questions\, please contact East Metro Regional Outreach Manager Angela Bowles Edwards at abedwards@efmn.org or 651-368-6209.
URL:https://www.epilepsyfoundationmn.org/event/make-your-own-succulent-planter/
LOCATION:Wentworth Library\, 199 Wentworth Ave E\, West St Paul\, MN\, 55118\, United States
END:VEVENT
BEGIN:VEVENT
DTSTART;TZID=America/Chicago:20220428T180000
DTEND;TZID=America/Chicago:20220428T190000
DTSTAMP:20260420T004942
CREATED:20220318T184315Z
LAST-MODIFIED:20220329T231338Z
UID:47120-1651168800-1651172400@www.epilepsyfoundationmn.org
SUMMARY:Rochester Youth & Family: Quarry Hill Nature Center
DESCRIPTION:Bring your family and loved ones to enjoy nature and some fresh air. We invite you to join us to connect with others impacted by epilepsy while enjoying a walk through the many trails at the Quarry Nature Center. This event is free for all!\n\nIf you have questions\, please contact Southern Minnesota Regional Outreach Manager Martin Hernandez at mhernandez@efmn.org or 507.287.2103.
URL:https://www.epilepsyfoundationmn.org/event/rochester-quarry-hill-nature-center/
LOCATION:Quarry Hill Nature Center\, 701 Silver Creek Rd NE\, Rochester\, MN\, 55906\, United States
END:VEVENT
BEGIN:VEVENT
DTSTART;TZID=America/Chicago:20220430T140000
DTEND;TZID=America/Chicago:20220430T160000
DTSTAMP:20260420T004942
CREATED:20220321T161642Z
LAST-MODIFIED:20220331T203635Z
UID:47143-1651327200-1651334400@www.epilepsyfoundationmn.org
SUMMARY:Grand Rapids Youth & Family Event: Guided Acrylic Painting Class
DESCRIPTION:Enjoy a fun day with other individuals and families impacted by epilepsy to create your own acrylic painting on a canvas. Space is limited\, so please RSVP ASAP to reserve your spot. This event is free for those with epilepsy and $10 for additional guests.  Payment will be taken at the event. Financial assistance is available.\n\nIf you have any questions\, please contact Northland/ Central MN Regional Outreach Manager Lisa Peterson at lisa.peterson@efmn.org or 218.624.1330.
URL:https://www.epilepsyfoundationmn.org/event/grand-rapids-acrylic-painting/
LOCATION:MacRostie Art Center\, 405 NW 1st Ave\, Grand Rapids\, MN\, 55744\, United States
END:VEVENT
END:VCALENDAR