BEGIN:VCALENDAR
VERSION:2.0
PRODID:-//Epilepsy Foundation of Minnesota - ECPv6.15.13//NONSGML v1.0//EN
CALSCALE:GREGORIAN
METHOD:PUBLISH
X-ORIGINAL-URL:https://www.epilepsyfoundationmn.org
X-WR-CALDESC:Events for Epilepsy Foundation of Minnesota
REFRESH-INTERVAL;VALUE=DURATION:PT1H
X-Robots-Tag:noindex
X-PUBLISHED-TTL:PT1H
BEGIN:VTIMEZONE
TZID:America/Chicago
BEGIN:DAYLIGHT
TZOFFSETFROM:-0600
TZOFFSETTO:-0500
TZNAME:CDT
DTSTART:20210314T080000
END:DAYLIGHT
BEGIN:STANDARD
TZOFFSETFROM:-0500
TZOFFSETTO:-0600
TZNAME:CST
DTSTART:20211107T070000
END:STANDARD
BEGIN:DAYLIGHT
TZOFFSETFROM:-0600
TZOFFSETTO:-0500
TZNAME:CDT
DTSTART:20220313T080000
END:DAYLIGHT
BEGIN:STANDARD
TZOFFSETFROM:-0500
TZOFFSETTO:-0600
TZNAME:CST
DTSTART:20221106T070000
END:STANDARD
BEGIN:DAYLIGHT
TZOFFSETFROM:-0600
TZOFFSETTO:-0500
TZNAME:CDT
DTSTART:20230312T080000
END:DAYLIGHT
BEGIN:STANDARD
TZOFFSETFROM:-0500
TZOFFSETTO:-0600
TZNAME:CST
DTSTART:20231105T070000
END:STANDARD
END:VTIMEZONE
BEGIN:VEVENT
DTSTART;TZID=America/Chicago:20220301T180000
DTEND;TZID=America/Chicago:20220301T190000
DTSTAMP:20260420T095235
CREATED:20211216T024703Z
LAST-MODIFIED:20220214T233752Z
UID:46198-1646157600-1646161200@www.epilepsyfoundationmn.org
SUMMARY:Sauk Rapids Family Fun Event: Sleigh Rides
DESCRIPTION:Families impacted by epilepsy can meet others\, find support\, and have fun while enjoying the outdoors through sleigh rides at RJ Stables in Sauk Rapids. This event is open to youth\, teens\, and adults with epilepsy along with their families.\n\nThis is free for people with epilepsy\, and $10 for each guest or family member. Please pay at the event. Financial assistance is available.\n\nIf you have questions\, please contact Central Northland Regional Outreach Manager Lisa Peterson at lisa.peterson@efmn.org or 218.624.1330.\n\n*All attendees of in-person events must bring with them proof of vaccination or a negative COVID test result\, taken within the last 48 hours. All attendees are encouraged to wear masks.
URL:https://www.epilepsyfoundationmn.org/event/sauk-rapids-family-fun/
LOCATION:RJ Stables\, 4074 5th Ave NE\, Sauk Rapids\, MN\, 56379\, United States
END:VEVENT
BEGIN:VEVENT
DTSTART;TZID=America/Chicago:20220305T130000
DTEND;TZID=America/Chicago:20220305T150000
DTSTAMP:20260420T095235
CREATED:20211216T010001Z
LAST-MODIFIED:20220304T212113Z
UID:46185-1646485200-1646492400@www.epilepsyfoundationmn.org
SUMMARY:CANCELED: Duluth Family Fun Event: Sleigh Rides
DESCRIPTION:Thank you for your interest. This event has been canceled due to the freezing-rain forecast. Please continue to visit the calendar for more in-person events! \n\nIf you have questions\, please contact Central Northland Regional Outreach Manager Lisa Peterson at lisa.peterson@efmn.org or 218.624.1330.
URL:https://www.epilepsyfoundationmn.org/event/duluth-family-fun-event-sleigh-rides/
LOCATION:Countryside Rides\, 4488 W Lismore Rd\, Duluth\, MN\, 55803\, United States
END:VEVENT
BEGIN:VEVENT
DTSTART;TZID=America/Chicago:20220321T173000
DTEND;TZID=America/Chicago:20220321T190000
DTSTAMP:20260420T095235
CREATED:20220214T223326Z
LAST-MODIFIED:20220222T154659Z
UID:46865-1647883800-1647889200@www.epilepsyfoundationmn.org
SUMMARY:St. Paul Open To All Social Event: Interpretive Nature Hike
DESCRIPTION:Stretch your legs and enjoy the great outdoors at the Dodge Nature Center in West St. Paul! One of Dodge’s naturalists will lead us on a leisurely walk (<1 mile) to explore the prairie\, ponds\, and forests to find out what the wildlife at Dodge Nature Center is doing as winter turns into spring. Warm beverages will be provided and participants will have access to indoor bathrooms as needed.\n\nMeet the group in the parking lot at 365 Marie Avenue W in West St. Paul. The event is free for individuals living with epilepsy and $5 for guests. All are welcome!\n\nFor more information\, please contact Angela Bowles Edwards at abedwards@efmn.org or 651-368-6209.\n\n*All attendees of in-person events must bring with them proof of vaccination or a negative COVID test result\, taken within the last 48 hours. All attendees are encouraged to wear masks.
URL:https://www.epilepsyfoundationmn.org/event/st-paul-open-to-all-social-event-interpretive-nature-hike/
LOCATION:Dodge Nature Center\, 365 Marie Ave W\, West St. Paul\, MN\, 55118\, United States
END:VEVENT
BEGIN:VEVENT
DTSTART;TZID=America/Chicago:20220322T183000
DTEND;TZID=America/Chicago:20220322T193000
DTSTAMP:20260420T095235
CREATED:20220214T231256Z
LAST-MODIFIED:20220214T233820Z
UID:46869-1647973800-1647977400@www.epilepsyfoundationmn.org
SUMMARY:Virtual Open To All Social Event: Bingo Night
DESCRIPTION:All ages are welcome to participate in EFMN’s Virtual Bingo Night! Make fun connections with others living with epilepsy while competing for gift card prizes for some of your favorite treats.\n\nIf you have questions\, please contact West Metro Regional Outreach Manager Erik Williams at ewilliams@efmn.org or 651.287.2319.
URL:https://www.epilepsyfoundationmn.org/event/virtual-open-to-all-social-event-bingo-night/
LOCATION:MN\, United States
CATEGORIES:Virtual
END:VEVENT
BEGIN:VEVENT
DTSTART;TZID=America/Chicago:20220323T180000
DTEND;TZID=America/Chicago:20220323T190000
DTSTAMP:20260420T095235
CREATED:20220215T005947Z
LAST-MODIFIED:20220218T184850Z
UID:46876-1648058400-1648062000@www.epilepsyfoundationmn.org
SUMMARY:Mankato Open to All Social Event - Community Meal
DESCRIPTION:Come together with others in your community for food and conversation at Pizza Ranch in Mankato. This gathering is open to all people with epilepsy and family members and guests are welcome to join. The cost per person is $14 for the buffet\, paid to Pizza Ranch.\n\nIf you have questions\, please contact Southern MN Regional Outreach Manager Martin Hernandez at mhernandez@efmn.org or 507.287.2103.\n\n*All attendees of in-person events must bring with them proof of vaccination or a negative COVID test result\, taken within the last 48 hours. All attendees are encouraged to wear masks.
URL:https://www.epilepsyfoundationmn.org/event/mankato-open-to-all-social-event-community-meal/
LOCATION:Mankato Pizza Ranch\, 1551 Tullamore St.\, Mankato\, MN\, United States
END:VEVENT
BEGIN:VEVENT
DTSTART;TZID=America/Chicago:20220324T180000
DTEND;TZID=America/Chicago:20220324T190000
DTSTAMP:20260420T095235
CREATED:20220215T012257Z
LAST-MODIFIED:20220218T184922Z
UID:46879-1648144800-1648148400@www.epilepsyfoundationmn.org
SUMMARY:Austin Open to All Social Event - Community Meal
DESCRIPTION:Come together with others in your community for food and conversation at Pizza Ranch in Austin. This gathering is open to all people with epilepsy and family members and guests are welcome to join. The cost per person is $14 for the buffet\, paid to Pizza Ranch.\n\nIf you have questions\, please contact Southern MN Regional Outreach Manager Martin Hernandez at mhernandez@efmn.org or 507.287.2103.\n\n*All attendees of in-person events must bring with them proof of vaccination or a negative COVID test result\, taken within the last 48 hours. All attendees are encouraged to wear masks when possible.
URL:https://www.epilepsyfoundationmn.org/event/austin-open-to-all-social-community-meal/
LOCATION:Austin Pizza Ranch\, 1300 18th Ave NW\, Suite B\, Austin\, MN\, 55912\, United States
END:VEVENT
BEGIN:VEVENT
DTSTART;TZID=America/Chicago:20220328T183000
DTEND;TZID=America/Chicago:20220328T193000
DTSTAMP:20260420T095235
CREATED:20220215T020228Z
LAST-MODIFIED:20220215T020346Z
UID:46884-1648492200-1648495800@www.epilepsyfoundationmn.org
SUMMARY:Virtual Open To All Social Event: Family Feud Night
DESCRIPTION:Join us for some friendly competition at EFMN’s Virtual Family Feud Night for all ages! Get to know your fellow teammates and take turns answering questions as we see who will come out on top. Survey says… it’s sure to be a fun night!\n\nIf you have questions\, please contact East Metro Regional Outreach Manager Angela Bowles Edwards at abedwards@efmn.org.
URL:https://www.epilepsyfoundationmn.org/event/virtual-open-to-all-social-event-family-feud/
LOCATION:MN\, United States
END:VEVENT
BEGIN:VEVENT
DTSTART;TZID=America/Chicago:20220329T180000
DTEND;TZID=America/Chicago:20220329T190000
DTSTAMP:20260420T095235
CREATED:20220215T023319Z
LAST-MODIFIED:20220329T231124Z
UID:46888-1648576800-1648580400@www.epilepsyfoundationmn.org
SUMMARY:Rochester Open to All Social Event - Community Meal
DESCRIPTION:Come together with others in your community for food and conversation at Pizza Ranch in Rochester. This gathering is open to all people with epilepsy and family members and guests are welcome to join. The cost per person is $14 for the buffet\, paid to Pizza Ranch.\n\nIf you have questions\, please contact Southern MN Regional Outreach Manager Martin Hernandez at mhernandez@efmn.org or 507.287.2103.
URL:https://www.epilepsyfoundationmn.org/event/rochester-open-to-all-social-event-community-meal/
LOCATION:Stewartville Pizza Ranch\, 1580 2nd Ave NW\, Stewartville\, MN\, 55976\, United States
END:VEVENT
BEGIN:VEVENT
DTSTART;TZID=America/Chicago:20220329T180000
DTEND;TZID=America/Chicago:20220329T200000
DTSTAMP:20260420T095235
CREATED:20220215T021411Z
LAST-MODIFIED:20220329T231143Z
UID:46882-1648576800-1648584000@www.epilepsyfoundationmn.org
SUMMARY:Grand Rapids Open to All Social Event - Group Games
DESCRIPTION:Meet others\, find support\, and have fun while playing board games\, corn hole\, pool\, and more at the Kiesler Wellness Center in Grand Rapids. This event is open to people of all ages impacted by epilepsy along with family members.  Dinner is included.  The cost is $3 per person\, you can pay by cash or check payable to EFMN at the event\, and financial assistance is available.  \n\nIf you have questions\, please contact Northland/Central MN Regional Outreach Manager Lisa Peterson at lisa.peterson@efmn.org or 218.624.1330.
URL:https://www.epilepsyfoundationmn.org/event/grand-rapids-open-to-all-social-event-group-games/
LOCATION:Kiesler Wellness Center\, 3130 SE 2nd Ave\, Grand Rapids\, MN\, 55744\, United States
END:VEVENT
BEGIN:VEVENT
DTSTART;TZID=America/Chicago:20220330T180000
DTEND;TZID=America/Chicago:20220330T190000
DTSTAMP:20260420T095235
CREATED:20220215T024326Z
LAST-MODIFIED:20220329T231148Z
UID:46891-1648663200-1648666800@www.epilepsyfoundationmn.org
SUMMARY:Metro Open to All Social Event - Richardson Nature Center Bonfire
DESCRIPTION:Bundle up and get outside and connected at the Richardson Nature Center Bonfire in Bloomington. All ages are invited to join for fun outdoor activities like track finding and scavenger hunts or simply stay toasty warm by the fire. And what’s a bonfire without tasty s’mores to go with it? Free for all to attend.\n\nIf you have questions\, please contact West Metro Regional Outreach Manager Erik Williams at ewilliams@efmn.org or 651.287.2319.
URL:https://www.epilepsyfoundationmn.org/event/metro-open-to-all-social-event-richardson-nature-center-bonfire/
LOCATION:Richardson Nature Center\, 8737 East Bush Lake Road\, Bloomington\, MN\, 55438\, United States
END:VEVENT
END:VCALENDAR