BEGIN:VCALENDAR
VERSION:2.0
PRODID:-//Epilepsy Foundation of Minnesota - ECPv6.15.13//NONSGML v1.0//EN
CALSCALE:GREGORIAN
METHOD:PUBLISH
X-WR-CALNAME:Epilepsy Foundation of Minnesota
X-ORIGINAL-URL:https://www.epilepsyfoundationmn.org
X-WR-CALDESC:Events for Epilepsy Foundation of Minnesota
REFRESH-INTERVAL;VALUE=DURATION:PT1H
X-Robots-Tag:noindex
X-PUBLISHED-TTL:PT1H
BEGIN:VTIMEZONE
TZID:America/Chicago
BEGIN:DAYLIGHT
TZOFFSETFROM:-0600
TZOFFSETTO:-0500
TZNAME:CDT
DTSTART:20210314T080000
END:DAYLIGHT
BEGIN:STANDARD
TZOFFSETFROM:-0500
TZOFFSETTO:-0600
TZNAME:CST
DTSTART:20211107T070000
END:STANDARD
BEGIN:DAYLIGHT
TZOFFSETFROM:-0600
TZOFFSETTO:-0500
TZNAME:CDT
DTSTART:20220313T080000
END:DAYLIGHT
BEGIN:STANDARD
TZOFFSETFROM:-0500
TZOFFSETTO:-0600
TZNAME:CST
DTSTART:20221106T070000
END:STANDARD
BEGIN:DAYLIGHT
TZOFFSETFROM:-0600
TZOFFSETTO:-0500
TZNAME:CDT
DTSTART:20230312T080000
END:DAYLIGHT
BEGIN:STANDARD
TZOFFSETFROM:-0500
TZOFFSETTO:-0600
TZNAME:CST
DTSTART:20231105T070000
END:STANDARD
END:VTIMEZONE
BEGIN:VEVENT
DTSTART;TZID=America/Chicago:20220216T183000
DTEND;TZID=America/Chicago:20220216T193000
DTSTAMP:20260420T232439
CREATED:20220121T211202Z
LAST-MODIFIED:20220215T194036Z
UID:46661-1645036200-1645039800@www.epilepsyfoundationmn.org
SUMMARY:Virtual Social Event: Trivia Night
DESCRIPTION:Join us for a Harry Potter-Themed Trivia Night! Come solo or with a team to spend an evening with others to test your Harry Potter knowledge and get to know others living with epilepsy! (It’s a plus if you come knowing what house you belong to.)\n\n\nIf you have questions\, please contact Southern Minnesota Regional Outreach Manager Martin Hernandez at mhernandez@efmn.org or 507.287.2103.\n\n\n\nTo provide the best experience possible\, we need a few things from you. Before registering for this event\, please make sure you have the following:\n\n 	A device that enables you to communicate with others – through a computer\, tablet\, or phone. A camera is preferred so that you can see others and they can see you\, but it is not required.
URL:https://www.epilepsyfoundationmn.org/event/family-fun-virtual-event-harry-potter-trivia/
LOCATION:Virtual Event via Zoom Meeting
END:VEVENT
BEGIN:VEVENT
DTSTART;TZID=America/Chicago:20220222T183000
DTEND;TZID=America/Chicago:20220222T193000
DTSTAMP:20260420T232439
CREATED:20220121T210023Z
LAST-MODIFIED:20220214T233723Z
UID:46659-1645554600-1645558200@www.epilepsyfoundationmn.org
SUMMARY:Virtual Event: Bingo Night
DESCRIPTION:Open to all ages\, we welcome you to participate in EFMN’s Virtual Bingo Night! Make fun connections with others living with epilepsy while competing for gift card prizes for some of your favorite treats. \n\nIf you have questions\, please contact West Metro Regional Outreach Manager Erik Williams at ewilliams@efmn.org or 651.287.2319.\n\n\nTo provide the best experience possible\, we need a few things from you. Before registering for this event\, please make sure you have the following:\n\n 	A device that enables you to communicate with others – through a computer\, tablet\, or phone. A camera is preferred so that you can see others and they can see you\, but it is not required.
URL:https://www.epilepsyfoundationmn.org/event/event-bingo-night/
LOCATION:Virtual Event via Zoom Meeting
CATEGORIES:Duluth Region,Fargo/Moorhead Region,Rochester Region,St Cloud Region,Twin Cities Region,Virtual
END:VEVENT
END:VCALENDAR