BEGIN:VCALENDAR
VERSION:2.0
PRODID:-//Epilepsy Foundation of Minnesota - ECPv6.15.13//NONSGML v1.0//EN
CALSCALE:GREGORIAN
METHOD:PUBLISH
X-ORIGINAL-URL:https://www.epilepsyfoundationmn.org
X-WR-CALDESC:Events for Epilepsy Foundation of Minnesota
REFRESH-INTERVAL;VALUE=DURATION:PT1H
X-Robots-Tag:noindex
X-PUBLISHED-TTL:PT1H
BEGIN:VTIMEZONE
TZID:America/Chicago
BEGIN:DAYLIGHT
TZOFFSETFROM:-0600
TZOFFSETTO:-0500
TZNAME:CDT
DTSTART:20200308T080000
END:DAYLIGHT
BEGIN:STANDARD
TZOFFSETFROM:-0500
TZOFFSETTO:-0600
TZNAME:CST
DTSTART:20201101T070000
END:STANDARD
BEGIN:DAYLIGHT
TZOFFSETFROM:-0600
TZOFFSETTO:-0500
TZNAME:CDT
DTSTART:20210314T080000
END:DAYLIGHT
BEGIN:STANDARD
TZOFFSETFROM:-0500
TZOFFSETTO:-0600
TZNAME:CST
DTSTART:20211107T070000
END:STANDARD
BEGIN:DAYLIGHT
TZOFFSETFROM:-0600
TZOFFSETTO:-0500
TZNAME:CDT
DTSTART:20220313T080000
END:DAYLIGHT
BEGIN:STANDARD
TZOFFSETFROM:-0500
TZOFFSETTO:-0600
TZNAME:CST
DTSTART:20221106T070000
END:STANDARD
END:VTIMEZONE
BEGIN:VEVENT
DTSTART;TZID=America/Chicago:20211016T130000
DTEND;TZID=America/Chicago:20211016T130000
DTSTAMP:20260420T012214
CREATED:20210820T040748Z
LAST-MODIFIED:20211014T135741Z
UID:45062-1634389200-1634389200@www.epilepsyfoundationmn.org
SUMMARY:Shining Star Event
DESCRIPTION:The annual Shining Stars event at Nickelodeon Universe in the Mall of America is returning this year on Saturday\, October 16. Families from across the state are invited to come and meet others who have a child with epilepsy/seizures. There is scheduled time to connect with other youth\, teens\, and parents\, followed by an afternoon of rides and fun.\n\nThis event is specifically for Shining Stars (youth with epilepsy) and their family. However\, becoming a Shining Star is easy and free for those who want to join\, simply fill out this form here.\n\n \nREGISTRATION IS CLOSED.
URL:https://www.epilepsyfoundationmn.org/event/shining-star-event/
LOCATION:Mall of America\, 60 E Broadway\, Bloomington\, MN\, 55425\, United States
END:VEVENT
END:VCALENDAR