BEGIN:VCALENDAR
VERSION:2.0
PRODID:-//Epilepsy Foundation of Minnesota - ECPv6.15.20//NONSGML v1.0//EN
CALSCALE:GREGORIAN
METHOD:PUBLISH
X-WR-CALNAME:Epilepsy Foundation of Minnesota
X-ORIGINAL-URL:https://www.epilepsyfoundationmn.org
X-WR-CALDESC:Events for Epilepsy Foundation of Minnesota
REFRESH-INTERVAL;VALUE=DURATION:PT1H
X-Robots-Tag:noindex
X-PUBLISHED-TTL:PT1H
BEGIN:VTIMEZONE
TZID:America/Chicago
BEGIN:DAYLIGHT
TZOFFSETFROM:-0600
TZOFFSETTO:-0500
TZNAME:CDT
DTSTART:20230312T080000
END:DAYLIGHT
BEGIN:STANDARD
TZOFFSETFROM:-0500
TZOFFSETTO:-0600
TZNAME:CST
DTSTART:20231105T070000
END:STANDARD
BEGIN:DAYLIGHT
TZOFFSETFROM:-0600
TZOFFSETTO:-0500
TZNAME:CDT
DTSTART:20240310T080000
END:DAYLIGHT
BEGIN:STANDARD
TZOFFSETFROM:-0500
TZOFFSETTO:-0600
TZNAME:CST
DTSTART:20241103T070000
END:STANDARD
BEGIN:DAYLIGHT
TZOFFSETFROM:-0600
TZOFFSETTO:-0500
TZNAME:CDT
DTSTART:20250309T080000
END:DAYLIGHT
BEGIN:STANDARD
TZOFFSETFROM:-0500
TZOFFSETTO:-0600
TZNAME:CST
DTSTART:20251102T070000
END:STANDARD
END:VTIMEZONE
BEGIN:VEVENT
DTSTART;TZID=America/Chicago:20240404T183000
DTEND;TZID=America/Chicago:20240404T193000
DTSTAMP:20260425T080219
CREATED:20240313T195543Z
LAST-MODIFIED:20240313T200333Z
UID:52588-1712255400-1712259000@www.epilepsyfoundationmn.org
SUMMARY:Young Adult Connect
DESCRIPTION:A space for young adults with epilepsy to meet others and talk about life updates\, challenges\, and successes with others who understand the epilepsy journey. This is a young adult-led group looking to create peer-to-peer support and connection. For more information\, please contact Lisa Necastro at lisa.necastro@efmn.org or 651-287-2358
URL:https://www.epilepsyfoundationmn.org/event/young-adult-connect-6/
LOCATION:Virtual Event via Zoom Meeting
CATEGORIES:Virtual
END:VEVENT
BEGIN:VEVENT
DTSTART;TZID=America/Chicago:20240409T173000
DTEND;TZID=America/Chicago:20240409T190000
DTSTAMP:20260425T080219
CREATED:20240313T175212Z
LAST-MODIFIED:20240313T175212Z
UID:52552-1712683800-1712689200@www.epilepsyfoundationmn.org
SUMMARY:East Grand Forks In Person Connect Group
DESCRIPTION:Individuals and family members impacted by epilepsy are invited to come together to meet others\, share the triumphs and challenges of living with seizures\, and connect with those who understand the epilepsy journey. Sandwiches and beverages will be served. Please contact Lisa Necastro at lisa.necastro@efmn.org or 651-287-2358 with any questions.
URL:https://www.epilepsyfoundationmn.org/event/east-grand-forks-in-person-connect-group/
LOCATION:Campbell Library\, 422 4th St NW\, East Grand Forks\, MN\, 56721
CATEGORIES:Fargo/Moorhead Region
END:VEVENT
BEGIN:VEVENT
DTSTART;TZID=America/Chicago:20240409T183000
DTEND;TZID=America/Chicago:20240409T193000
DTSTAMP:20260425T080219
CREATED:20240314T130031Z
LAST-MODIFIED:20240314T130031Z
UID:52633-1712687400-1712691000@www.epilepsyfoundationmn.org
SUMMARY:Teen Connect Group
DESCRIPTION:This space is for teens with epilepsy to meet others who understand the journey they’re on. Join us to hang out\, make new friends\, and talk about growing up and living with epilepsy. For more information\, please contact Erik Williams at ewilliams@efmn.org or 651.262.9345
URL:https://www.epilepsyfoundationmn.org/event/teen-connect-group-4/
LOCATION:Virtual Event via Zoom Meeting
CATEGORIES:Virtual
END:VEVENT
BEGIN:VEVENT
DTSTART;TZID=America/Chicago:20240409T190000
DTEND;TZID=America/Chicago:20240409T200000
DTSTAMP:20260425T080219
CREATED:20240313T203105Z
LAST-MODIFIED:20240313T203105Z
UID:52598-1712689200-1712692800@www.epilepsyfoundationmn.org
SUMMARY:Parents with Epilepsy Connect Group
DESCRIPTION:Parents living with epilepsy come together to meet others\, share the triumphs and challenges of living with seizures and connect with those who understand the epilepsy journey. For more information\, please contact Jessica Devens Rodning at jessica.rodning@efmn.org or 651.287.2301
URL:https://www.epilepsyfoundationmn.org/event/parents-with-epilepsy-connect-group-4/
LOCATION:Virtual Event via Zoom Meeting
CATEGORIES:Virtual
END:VEVENT
BEGIN:VEVENT
DTSTART;TZID=America/Chicago:20240410T183000
DTEND;TZID=America/Chicago:20240410T193000
DTSTAMP:20260425T080219
CREATED:20240329T195630Z
LAST-MODIFIED:20240329T210049Z
UID:52677-1712773800-1712777400@www.epilepsyfoundationmn.org
SUMMARY:Peer Led Connect Group:  Significant Others/Partners
DESCRIPTION:Join other significant others for an hour to discuss the highs and lows of your journey and hear from other significant others about how we best care for ourselves while caring for our loved ones with epilepsy.\n\n \n\nJoin Zoom Meeting: https://us02web.zoom.us/j/86770016932?pwd=YlBFS3VkZ1U5Q0VxbmlFWWd0S1pzZz09\n\nMeeting ID: 867 7001 6932\n\nPasscode: 096545\n\nFor questions or to RSVP\, contact Shawn Reinke at  shawn.reinke@outlook.com  or 320-291-6938.  *Prefers a text before calling.
URL:https://www.epilepsyfoundationmn.org/event/peer-led-connect-group-significant-others-partners/
LOCATION:Virtual Event via Zoom Meeting
CATEGORIES:Virtual
END:VEVENT
BEGIN:VEVENT
DTSTART;TZID=America/Chicago:20240416T183000
DTEND;TZID=America/Chicago:20240416T200000
DTSTAMP:20260425T080219
CREATED:20240313T182530Z
LAST-MODIFIED:20240313T182530Z
UID:52560-1713292200-1713297600@www.epilepsyfoundationmn.org
SUMMARY:St. Paul Community Pizza Party
DESCRIPTION:Come share connections and stories with other individuals and families impacted by epilepsy while enjoying a pizza dinner at Davanni’s in St. Paul. All ages are welcome\, dinner is free for the person living with epilepsy and additional family and friends are invited for $5 per person or $10 per family. If you have any questions\, please contact Metro Outreach Manager\, Erik Williams\, at ewilliams@efmn.org or 651-287-2319.
URL:https://www.epilepsyfoundationmn.org/event/st-paul-community-pizza-party/
LOCATION:Davanni’s\, 41 Cleveland Ave S\, St. Paul\, MN\, 55105
CATEGORIES:Twin Cities Region
END:VEVENT
BEGIN:VEVENT
DTSTART;TZID=America/Chicago:20240417T173000
DTEND;TZID=America/Chicago:20240417T183000
DTSTAMP:20260425T080219
CREATED:20240313T211849Z
LAST-MODIFIED:20240313T211849Z
UID:52617-1713375000-1713378600@www.epilepsyfoundationmn.org
SUMMARY:GRUPO DE CONEXIÓN EN ESPAÑOL
DESCRIPTION:La epilepsia puede ser una condición aislante sin el apoyo de otros\, pero creemos que nadie debería tener que enfrentar la epilepsia solo. Esta reunión virtual es una oportunidad para conectarse con otras personas hispanohablantes\, compartir experiencias y dar/recibir apoyo. Son bienvenidos personas con epilepsia\, cuidadores\, padres\, u otros seres queridos de alguien con epilepsia. Si tiene preguntas\, por favor contacte a Angela (651-368-6209\, llamada/texto). enlace de zoom: https://us02web.zoom.us/j/82188284802 ID de reunión: 821 8828 4802
URL:https://www.epilepsyfoundationmn.org/event/grupo-de-conexion-en-espanol-14/
LOCATION:Virtual Event via Zoom Meeting
CATEGORIES:Virtual
END:VEVENT
BEGIN:VEVENT
DTSTART;TZID=America/Chicago:20240418T111500
DTEND;TZID=America/Chicago:20240418T121500
DTSTAMP:20260425T080219
CREATED:20240314T132010Z
LAST-MODIFIED:20240314T132010Z
UID:52642-1713438900-1713442500@www.epilepsyfoundationmn.org
SUMMARY:Epilepsy & Seizure Disorders: Awareness\, Networking & Mentoring in BLA
DESCRIPTION:A place for people to share their experiences\, their encouragement and support for one another and to network together.\n\n\nSupporting each other goes beyond just sending an encouraging message\, which we do rely on through difficult stages in our journey and we allow this space for each other to steam out and vent\, it also means going to or showing up in support of each others events.\n\nEvent Details: \n10:15A – 11:15A Jessie F. Hallett Memorial Library Crosby\, MN 56441\n\nFor more information: \n\nContact persons: Jenifer or Barb\nContact phone: (218) 833-2199\nContact email: contact@epilepsyadvocates.org\n\nOr message us on Facebook 😊
URL:https://www.epilepsyfoundationmn.org/event/epilepsy-seizure-disorders-awareness-networking-mentoring-in-bla-2/
LOCATION:Jessie F. Hallett Memorial Library\, 101 1st St SE\, Crosby\, MN\, 56441\, United States
CATEGORIES:Duluth Region
END:VEVENT
BEGIN:VEVENT
DTSTART;TZID=America/Chicago:20240418T183000
DTEND;TZID=America/Chicago:20240418T193000
DTSTAMP:20260425T080219
CREATED:20240313T205415Z
LAST-MODIFIED:20240313T205415Z
UID:52607-1713465000-1713468600@www.epilepsyfoundationmn.org
SUMMARY:Parent/Caregiver Connect Group
DESCRIPTION:Meet other parents\, grandparents\, and caregivers who live day-to-day caring for a child with seizures and/or epilepsy. This is an opportunity to meet others\, offer peer-to-peer support\, share resources and experiences\, and talk honestly about the triumphs and challenges of a child’s epilepsy journey. For more information\, please contact Lisa Peterson at lisa.peterson@efmn.org or 218.624.1330
URL:https://www.epilepsyfoundationmn.org/event/parent-caregiver-connect-group-4/
LOCATION:Virtual Event via Zoom Meeting
CATEGORIES:Virtual
END:VEVENT
BEGIN:VEVENT
DTSTART;TZID=America/Chicago:20240422T173000
DTEND;TZID=America/Chicago:20240422T183000
DTSTAMP:20260425T080219
CREATED:20240329T221317Z
LAST-MODIFIED:20240329T221317Z
UID:52681-1713807000-1713810600@www.epilepsyfoundationmn.org
SUMMARY:Rochester Pizza Meet and Greet
DESCRIPTION:Individuals and family members of all ages impacted by epilepsy are invited to join EFMN for pizza\, games and conversation. Meet the new southern MN Outreach Manager. Please contact Jessica Devens-Rodning at Jessica.rodning@efmn.org or 651-287-2301 with any questions.
URL:https://www.epilepsyfoundationmn.org/event/rochester-pizza-meet-and-greet/
LOCATION:Zadeo’s Pizza\, 1021 15th Avenue SE\, Rochester\, MN\, 55904\, United States
CATEGORIES:Rochester Region
END:VEVENT
BEGIN:VEVENT
DTSTART;TZID=America/Chicago:20240423T190000
DTEND;TZID=America/Chicago:20240423T194500
DTSTAMP:20260425T080220
CREATED:20240409T142626Z
LAST-MODIFIED:20240410T152336Z
UID:52734-1713898800-1713901500@www.epilepsyfoundationmn.org
SUMMARY:Camp Oz Information Session
DESCRIPTION:This information session will provide an opportunity to learn more about all Camp Programs at EFMN. In particular\, we will focus on our week-long residential Camp Oz at YMCA Camp St. Croix in Hudson WI. Join Camp Oz Co-Directors Erik Williams and Amy Haugen to learn more about the Camp Oz week\, Camp Oz is open to youth aged 9-17.
URL:https://www.epilepsyfoundationmn.org/event/camp-oz-information-session/
LOCATION:Virtual Event via Zoom Meeting
CATEGORIES:Virtual
END:VEVENT
BEGIN:VEVENT
DTSTART;TZID=America/Chicago:20240425T183000
DTEND;TZID=America/Chicago:20240425T193000
DTSTAMP:20260425T080220
CREATED:20240314T123318Z
LAST-MODIFIED:20240314T123318Z
UID:52624-1714069800-1714073400@www.epilepsyfoundationmn.org
SUMMARY:Adult Connect Group
DESCRIPTION:Adults living with epilepsy come together to meet others\, share the triumphs and challenges of living with seizures and connect with those who understand the epilepsy journey. For more information\, please contact Erik Williams at ewilliams@efmn.org or 651.262.9345
URL:https://www.epilepsyfoundationmn.org/event/adult-connect-group-4/
LOCATION:Virtual Event via Zoom Meeting
CATEGORIES:Virtual
END:VEVENT
BEGIN:VEVENT
DTSTART;TZID=America/Chicago:20240427T150000
DTEND;TZID=America/Chicago:20240427T170000
DTSTAMP:20260425T080220
CREATED:20240313T180422Z
LAST-MODIFIED:20240313T180422Z
UID:52557-1714230000-1714237200@www.epilepsyfoundationmn.org
SUMMARY:Grand Rapids Pizza\, Games and Craft Event
DESCRIPTION:Individuals and family members of all ages impacted by epilepsy are invited to join EFMN for pizza\, games\, crafts and conversation. You’re welcome to bring a store bought potluck item.  Please contact Lisa Peterson at lisa.peterson@efmn.org or 218.624.1330
URL:https://www.epilepsyfoundationmn.org/event/grand-rapids-pizza-games-and-craft-event/
LOCATION:Kiesler Wellness Center\, 3130 SE 2nd Ave\, Grand Rapids\, MN\, 55744\, United States
CATEGORIES:Duluth Region
END:VEVENT
BEGIN:VEVENT
DTSTART;TZID=America/Chicago:20240429T173000
DTEND;TZID=America/Chicago:20240429T183000
DTSTAMP:20260425T080220
CREATED:20240329T222100Z
LAST-MODIFIED:20240329T222100Z
UID:52686-1714411800-1714415400@www.epilepsyfoundationmn.org
SUMMARY:Mankato Pizza Connect
DESCRIPTION:Individuals and family members of all ages impacted by epilepsy are invited to join EFMN for pizza\, games and conversation.  Please contact Jessica Devens-Rodning at Jessica.rodning@efmn.org or 651-287-2301 with any questions.
URL:https://www.epilepsyfoundationmn.org/event/mankato-pizza-connect/
LOCATION:Mankato Pizza Ranch\, 1551 Tullamore St.\, Mankato\, MN\, United States
CATEGORIES:Rochester Region
END:VEVENT
BEGIN:VEVENT
DTSTART;TZID=America/Chicago:20240430T173000
DTEND;TZID=America/Chicago:20240430T183000
DTSTAMP:20260425T080220
CREATED:20240313T183510Z
LAST-MODIFIED:20240313T183728Z
UID:52565-1714498200-1714501800@www.epilepsyfoundationmn.org
SUMMARY:Open Gym Family Connect Group
DESCRIPTION:This group gives kids a safe environment to play with their peers and siblings while parents share experiences with each other in regards to epilepsy. Please contact Lisa Necastro at lisa.necastro@efmn.org or 651-287-2358 with any questions.
URL:https://www.epilepsyfoundationmn.org/event/open-gym-family-connect-group/
LOCATION:Explorer Academy\, 1780 17th St S\, Fargo\, ND\, 58103\, United States
CATEGORIES:Fargo/Moorhead Region
END:VEVENT
END:VCALENDAR