BEGIN:VCALENDAR
VERSION:2.0
PRODID:-//Epilepsy Foundation of Minnesota - ECPv6.15.13//NONSGML v1.0//EN
CALSCALE:GREGORIAN
METHOD:PUBLISH
X-ORIGINAL-URL:https://www.epilepsyfoundationmn.org
X-WR-CALDESC:Events for Epilepsy Foundation of Minnesota
REFRESH-INTERVAL;VALUE=DURATION:PT1H
X-Robots-Tag:noindex
X-PUBLISHED-TTL:PT1H
BEGIN:VTIMEZONE
TZID:America/Chicago
BEGIN:DAYLIGHT
TZOFFSETFROM:-0600
TZOFFSETTO:-0500
TZNAME:CDT
DTSTART:20220313T080000
END:DAYLIGHT
BEGIN:STANDARD
TZOFFSETFROM:-0500
TZOFFSETTO:-0600
TZNAME:CST
DTSTART:20221106T070000
END:STANDARD
BEGIN:DAYLIGHT
TZOFFSETFROM:-0600
TZOFFSETTO:-0500
TZNAME:CDT
DTSTART:20230312T080000
END:DAYLIGHT
BEGIN:STANDARD
TZOFFSETFROM:-0500
TZOFFSETTO:-0600
TZNAME:CST
DTSTART:20231105T070000
END:STANDARD
BEGIN:DAYLIGHT
TZOFFSETFROM:-0600
TZOFFSETTO:-0500
TZNAME:CDT
DTSTART:20240310T080000
END:DAYLIGHT
BEGIN:STANDARD
TZOFFSETFROM:-0500
TZOFFSETTO:-0600
TZNAME:CST
DTSTART:20241103T070000
END:STANDARD
END:VTIMEZONE
BEGIN:VEVENT
DTSTART;TZID=America/Chicago:20231205T180000
DTEND;TZID=America/Chicago:20231205T200000
DTSTAMP:20260420T111812
CREATED:20231018T181432Z
LAST-MODIFIED:20231018T181432Z
UID:51945-1701799200-1701806400@www.epilepsyfoundationmn.org
SUMMARY:Grand Rapids Winter Crafts and Fun Event
DESCRIPTION:Individuals and family members of all ages impacted by epilepsy are invited to join EFMN for a Winter Fun Event with crafts and activities . You’re welcome to bring a store bought potluck item. Contact Lisa Peterson at lisa.peterson@efmn.org or 218-624-1330 with questions.
URL:https://www.epilepsyfoundationmn.org/event/grand-rapids-winter-crafts-and-fun-event/
LOCATION:Kiesler Wellness Center\, 3130 SE 2nd Ave\, Grand Rapids\, MN\, 55744\, United States
CATEGORIES:Duluth Region
END:VEVENT
BEGIN:VEVENT
DTSTART;TZID=America/Chicago:20231212T170000
DTEND;TZID=America/Chicago:20231212T183000
DTSTAMP:20260420T111812
CREATED:20231018T184536Z
LAST-MODIFIED:20231018T184536Z
UID:51953-1702400400-1702405800@www.epilepsyfoundationmn.org
SUMMARY:Marshall Coffee and Connect
DESCRIPTION:Come together with individuals and families of all ages impacted by epilepsy for conversation over coffee or cocoa and meet the new Southern MN Regional Outreach Manager\, Jessica Rodning! Children’s coloring pages will be available. All are welcome! Please contact Lisa Necastro with any questions at lisa.necastro@efmn.org or 651-287-2358
URL:https://www.epilepsyfoundationmn.org/event/marshall-coffee-and-connect/
LOCATION:Caribou Coffee Marshall\, 1416 E College Drive\, Marshall\, MN\, 56258\, United States
CATEGORIES:Fargo/Moorhead Region
END:VEVENT
BEGIN:VEVENT
DTSTART;TZID=America/Chicago:20231219T173000
DTEND;TZID=America/Chicago:20231219T183000
DTSTAMP:20260420T111812
CREATED:20231019T134123Z
LAST-MODIFIED:20231107T172858Z
UID:51962-1703007000-1703010600@www.epilepsyfoundationmn.org
SUMMARY:EFMN with Ellis and Friends Connect
DESCRIPTION:This group gives kids a safe environment to play with their peers and their siblings while parents share experiences with each other in regards to epilepsy. Please contact Lisa Necastro at lisa.necastro@efmn.org or 651-287-2358 with any questions.
URL:https://www.epilepsyfoundationmn.org/event/efmn-with-ellis-and-friends-connect/
LOCATION:Explorer Academy\, 1780 17th St S\, Fargo\, ND\, 58103\, United States
CATEGORIES:Fargo/Moorhead Region
END:VEVENT
END:VCALENDAR