BEGIN:VCALENDAR
VERSION:2.0
PRODID:-//Epilepsy Foundation of Minnesota - ECPv6.15.13//NONSGML v1.0//EN
CALSCALE:GREGORIAN
METHOD:PUBLISH
X-ORIGINAL-URL:https://www.epilepsyfoundationmn.org
X-WR-CALDESC:Events for Epilepsy Foundation of Minnesota
REFRESH-INTERVAL;VALUE=DURATION:PT1H
X-Robots-Tag:noindex
X-PUBLISHED-TTL:PT1H
BEGIN:VTIMEZONE
TZID:America/Chicago
BEGIN:DAYLIGHT
TZOFFSETFROM:-0600
TZOFFSETTO:-0500
TZNAME:CDT
DTSTART:20220313T080000
END:DAYLIGHT
BEGIN:STANDARD
TZOFFSETFROM:-0500
TZOFFSETTO:-0600
TZNAME:CST
DTSTART:20221106T070000
END:STANDARD
BEGIN:DAYLIGHT
TZOFFSETFROM:-0600
TZOFFSETTO:-0500
TZNAME:CDT
DTSTART:20230312T080000
END:DAYLIGHT
BEGIN:STANDARD
TZOFFSETFROM:-0500
TZOFFSETTO:-0600
TZNAME:CST
DTSTART:20231105T070000
END:STANDARD
BEGIN:DAYLIGHT
TZOFFSETFROM:-0600
TZOFFSETTO:-0500
TZNAME:CDT
DTSTART:20240310T080000
END:DAYLIGHT
BEGIN:STANDARD
TZOFFSETFROM:-0500
TZOFFSETTO:-0600
TZNAME:CST
DTSTART:20241103T070000
END:STANDARD
END:VTIMEZONE
BEGIN:VEVENT
DTSTART;TZID=America/Chicago:20231102T183000
DTEND;TZID=America/Chicago:20231102T193000
DTSTAMP:20260419T190557
CREATED:20230913T194711Z
LAST-MODIFIED:20231023T151514Z
UID:51769-1698949800-1698953400@www.epilepsyfoundationmn.org
SUMMARY:Young Adult Virtual Connect Group
DESCRIPTION:A space for young adults with epilepsy to meet others and talk about life updates\, challenges\, and successes with others who understand the epilepsy journey. This is a young adult-led group looking to create peer-to-peer support and connection. For more information\, please contact Lisa Peterson at lisa.peterson@efmn.org or 218-624-1330.
URL:https://www.epilepsyfoundationmn.org/event/young-adult-virtual-connect-group-6/
LOCATION:Virtual Event via Zoom Meeting
CATEGORIES:Virtual
END:VEVENT
BEGIN:VEVENT
DTSTART;TZID=America/Chicago:20231108T183000
DTEND;TZID=America/Chicago:20231108T194500
DTSTAMP:20260419T190557
CREATED:20230127T141201Z
LAST-MODIFIED:20231024T140238Z
UID:50331-1699468200-1699472700@www.epilepsyfoundationmn.org
SUMMARY:Wellness Wednesday Webinar: Impact of Epilepsy on Cognition and Memory
DESCRIPTION:From the impact of seizures themselves to the effects of anti-seizure medications\, epilepsy can lead to changes in thinking and memory for people living with epilepsy. Ann Hempel\, PhD\, ABPP-CN\, a pediatric neuropsychologist at the Minnesota Epilepsy Group who serves on EFMN’s Professional Advisory Board\, will discuss the cognitive deficits and memory challenges commonly associated with epilepsy and strategies for coping with these changes.\nRegister today.
URL:https://www.epilepsyfoundationmn.org/event/wellness-wednesday-webinar-impact-of-epilepsy-on-cognition-and-memory/
LOCATION:Virtual Event
CATEGORIES:Virtual
END:VEVENT
BEGIN:VEVENT
DTSTART;TZID=America/Chicago:20231114T183000
DTEND;TZID=America/Chicago:20231114T193000
DTSTAMP:20260419T190557
CREATED:20230913T191010Z
LAST-MODIFIED:20230913T191010Z
UID:51755-1699986600-1699990200@www.epilepsyfoundationmn.org
SUMMARY:Teen Virtual Connect Group
DESCRIPTION:This space is for teens with epilepsy to meet others who understand the journey they’re on. Join us to hang out\, make new friends\, and talk about growing up and living with epilepsy. For more information\, please contact Lisa Peterson at lisa.peterson@efmn.org or 218-624-1330
URL:https://www.epilepsyfoundationmn.org/event/teen-virtual-connect-group-19/
LOCATION:Virtual Event via Zoom Meeting
CATEGORIES:Virtual
END:VEVENT
BEGIN:VEVENT
DTSTART;TZID=America/Chicago:20231114T190000
DTEND;TZID=America/Chicago:20231114T200000
DTSTAMP:20260419T190557
CREATED:20230913T193851Z
LAST-MODIFIED:20230913T193851Z
UID:51765-1699988400-1699992000@www.epilepsyfoundationmn.org
SUMMARY:Parents with Epilepsy Virtual Connect Group
DESCRIPTION:Parents living with epilepsy come together to meet others\, share the triumphs and challenges of living with seizures and connect with those who understand the epilepsy journey. For more information\, please contact Lisa Necastro at lisa.necastro@efmn.org or 651-287-2358
URL:https://www.epilepsyfoundationmn.org/event/parents-with-epilepsy-virtual-connect-group-5/
LOCATION:Virtual Event via Zoom Meeting
CATEGORIES:Virtual
END:VEVENT
BEGIN:VEVENT
DTSTART;VALUE=DATE:20231116
DTEND;VALUE=DATE:20231117
DTSTAMP:20260419T190557
CREATED:20231017T173031Z
LAST-MODIFIED:20231017T173044Z
UID:51927-1700092800-1700179199@www.epilepsyfoundationmn.org
SUMMARY:Give to the Max Day
DESCRIPTION:When you Give to the Max for the epilepsy community you help empower people living with seizures to connect with the resources they need most. Save the date!
URL:https://www.epilepsyfoundationmn.org/event/give-to-the-max-day-2/
END:VEVENT
BEGIN:VEVENT
DTSTART;TZID=America/Chicago:20231116T183000
DTEND;TZID=America/Chicago:20231116T193000
DTSTAMP:20260419T190557
CREATED:20230913T192946Z
LAST-MODIFIED:20230913T192946Z
UID:51761-1700159400-1700163000@www.epilepsyfoundationmn.org
SUMMARY:Parent/Caregiver Virtual Connect Group
DESCRIPTION:Meet other parents\, grandparents\, and caregivers who live day-to-day caring for a child with seizures and/or epilepsy. This is an opportunity to meet others\, offer peer-to-peer support\, share resources and experiences\, and talk honestly about the triumphs and challenges of a child’s epilepsy journey. For more information\, please contact Lisa Peterson at lisa.peterson@efmn.org or 218-624-1330
URL:https://www.epilepsyfoundationmn.org/event/parent-caregiver-virtual-connect-group-12/
LOCATION:Virtual Event via Zoom Meeting
CATEGORIES:Virtual
END:VEVENT
BEGIN:VEVENT
DTSTART;TZID=America/Chicago:20231118T140000
DTEND;TZID=America/Chicago:20231118T190000
DTSTAMP:20260419T190557
CREATED:20231018T150419Z
LAST-MODIFIED:20231018T150419Z
UID:51931-1700316000-1700334000@www.epilepsyfoundationmn.org
SUMMARY:Aquarium BentleyVille Tour of Lights
DESCRIPTION:Join EFMN on opening night of Bentleyville at the Aquarium with a bird’s eye view of Bentleyville on Saturday\, November 18th from 2-7PM. Arrive any time after 2:00 PM to explore the exhibits. Dinner will be served at 4:00 PM\, we’ll watch the lights go on at Bentleyville at 5:00 PM\, and you can head over to Bentleyville with your family when you’re ready. This event is free to those with epilepsy and $10 for each additional guest. Financial support is available. If you have any questions please contact Lisa Peterson at lisa.peterson@efmn.org or 218-624-1330
URL:https://www.epilepsyfoundationmn.org/event/aquarium-bentleyville-tour-of-lights/
LOCATION:Great Lakes Aquarium\, 353 Harbor Drive\, Duluth\, MN\, 55802\, United States
CATEGORIES:Duluth Region
END:VEVENT
BEGIN:VEVENT
DTSTART;TZID=America/Chicago:20231121T163000
DTEND;TZID=America/Chicago:20231121T180000
DTSTAMP:20260419T190557
CREATED:20231018T153054Z
LAST-MODIFIED:20231018T153054Z
UID:51936-1700584200-1700589600@www.epilepsyfoundationmn.org
SUMMARY:Moorhead Tree Lighting
DESCRIPTION:Individuals and family members of all ages impacted by epilepsy are invited to join EFMN to kick off the holiday season at the Moorhead Holiday Tree Lighting. Let’s meet up at Third Drop Coffee 115 4th St S\, in Moorhead then walk around the corner with a warm beverage to the tree lighting at Rourke Art Gallery.
URL:https://www.epilepsyfoundationmn.org/event/moorhead-tree-lighting/
LOCATION:Third Drop Coffee\, 115 4th Street South\, Moorhead\, MN\, 56560\, United States
CATEGORIES:Fargo/Moorhead Region
END:VEVENT
BEGIN:VEVENT
DTSTART;TZID=America/Chicago:20231121T183000
DTEND;TZID=America/Chicago:20231121T193000
DTSTAMP:20260419T190557
CREATED:20230913T191934Z
LAST-MODIFIED:20230913T191934Z
UID:51758-1700591400-1700595000@www.epilepsyfoundationmn.org
SUMMARY:Adult Virtual Connect Group
DESCRIPTION:Adults living with epilepsy come together to meet others\, share the triumphs and challenges of living with seizures and connect with those who understand the epilepsy journey. For more information\, please contact Lisa Necastro at lisa.necastro@efmn.org or 651-287-2358
URL:https://www.epilepsyfoundationmn.org/event/adult-virtual-connect-group-22/
LOCATION:Virtual Event via Zoom Meeting
CATEGORIES:Virtual
END:VEVENT
BEGIN:VEVENT
DTSTART;TZID=America/Chicago:20231128T173000
DTEND;TZID=America/Chicago:20231128T183000
DTSTAMP:20260419T190557
CREATED:20231019T132204Z
LAST-MODIFIED:20231019T133214Z
UID:51958-1701192600-1701196200@www.epilepsyfoundationmn.org
SUMMARY:EFMN with Ellis and Friends
DESCRIPTION:This group gives kids a safe environment to play with their peers and their siblings while parents share experiences with each other in regards to epilepsy. Please contact Lisa Necastro at lisa.necastro@efmn.org or 651-287-2358 with any questions.
URL:https://www.epilepsyfoundationmn.org/event/efmn-with-ellis-and-friends/
LOCATION:Explorer Academy\, 1780 17th St S\, Fargo\, ND\, 58103\, United States
CATEGORIES:Fargo/Moorhead Region
END:VEVENT
BEGIN:VEVENT
DTSTART;TZID=America/Chicago:20231129T173000
DTEND;TZID=America/Chicago:20231129T183000
DTSTAMP:20260419T190557
CREATED:20230913T184443Z
LAST-MODIFIED:20230913T184505Z
UID:51746-1701279000-1701282600@www.epilepsyfoundationmn.org
SUMMARY:Grupo de conexión en Español
DESCRIPTION:La epilepsia puede ser una condición aislante sin el apoyo de otros\, pero creemos que nadie debería tener que enfrentar la epilepsia solo. Esta reunión virtual es una oportunidad para conectarse con otras personas hispanohablantes\, compartir experiencias y dar/recibir apoyo. Son bienvenidos personas con epilepsia\, cuidadores\, padres\, u otros seres queridos de alguien con epilepsia. Si tiene preguntas\, por favor contacte a Angela (651-368-6209\, llamada/texto). enlace de zoom: https://us02web.zoom.us/j/82188284802 ID de reunión: 821 8828 4802\n\n 
URL:https://www.epilepsyfoundationmn.org/event/grupo-de-conexion-en-espanol-10/
LOCATION:Virtual Event via Zoom Meeting
CATEGORIES:Virtual
END:VEVENT
END:VCALENDAR