BEGIN:VCALENDAR
VERSION:2.0
PRODID:-//Epilepsy Foundation of Minnesota - ECPv6.15.13//NONSGML v1.0//EN
CALSCALE:GREGORIAN
METHOD:PUBLISH
X-ORIGINAL-URL:https://www.epilepsyfoundationmn.org
X-WR-CALDESC:Events for Epilepsy Foundation of Minnesota
REFRESH-INTERVAL;VALUE=DURATION:PT1H
X-Robots-Tag:noindex
X-PUBLISHED-TTL:PT1H
BEGIN:VTIMEZONE
TZID:America/Chicago
BEGIN:DAYLIGHT
TZOFFSETFROM:-0600
TZOFFSETTO:-0500
TZNAME:CDT
DTSTART:20220313T080000
END:DAYLIGHT
BEGIN:STANDARD
TZOFFSETFROM:-0500
TZOFFSETTO:-0600
TZNAME:CST
DTSTART:20221106T070000
END:STANDARD
BEGIN:DAYLIGHT
TZOFFSETFROM:-0600
TZOFFSETTO:-0500
TZNAME:CDT
DTSTART:20230312T080000
END:DAYLIGHT
BEGIN:STANDARD
TZOFFSETFROM:-0500
TZOFFSETTO:-0600
TZNAME:CST
DTSTART:20231105T070000
END:STANDARD
BEGIN:DAYLIGHT
TZOFFSETFROM:-0600
TZOFFSETTO:-0500
TZNAME:CDT
DTSTART:20240310T080000
END:DAYLIGHT
BEGIN:STANDARD
TZOFFSETFROM:-0500
TZOFFSETTO:-0600
TZNAME:CST
DTSTART:20241103T070000
END:STANDARD
END:VTIMEZONE
BEGIN:VEVENT
DTSTART;TZID=America/Chicago:20231002T183000
DTEND;TZID=America/Chicago:20231002T200000
DTSTAMP:20260420T012619
CREATED:20230926T192134Z
LAST-MODIFIED:20230926T192134Z
UID:51829-1696271400-1696276800@www.epilepsyfoundationmn.org
SUMMARY:Metro In Person Connect Group
DESCRIPTION:Individuals and family members impacted by epilepsy are invited to come together to meet others\, share the triumphs and challenges of living with seizures\, and connect with those who understand the epilepsy journey at the EFMN Office in Bloomington. If you have questions\, please contact Metro Outreach Manager Erik Williams at ewilliams@efmn.org or 651.287.2319.
URL:https://www.epilepsyfoundationmn.org/event/metro-in-person-connect-group/
LOCATION:Epilepsy Foundation of Minnesota\, 7760 France Avenue South\, Suite 210\, Bloomington\, MN\, 55435\, United States
CATEGORIES:Twin Cities Region
END:VEVENT
BEGIN:VEVENT
DTSTART;TZID=America/Chicago:20231005T183000
DTEND;TZID=America/Chicago:20231005T193000
DTSTAMP:20260420T012619
CREATED:20230913T131410Z
LAST-MODIFIED:20230913T131410Z
UID:51729-1696530600-1696534200@www.epilepsyfoundationmn.org
SUMMARY:Young Adult Virtual Connect Group
DESCRIPTION:A space for young adults with epilepsy to meet others and talk about life updates\, challenges\, and successes with others who understand the epilepsy journey. This is a young adult-led group looking to create peer-to-peer support and connection. For more information\, please contact Lisa Necastro at lisa.necastro@efmn.org or 651-287-2358
URL:https://www.epilepsyfoundationmn.org/event/young-adult-virtual-connect-group-5/
LOCATION:Virtual Event via Zoom Meeting
CATEGORIES:Virtual
END:VEVENT
BEGIN:VEVENT
DTSTART;TZID=America/Chicago:20231010T183000
DTEND;TZID=America/Chicago:20231010T193000
DTSTAMP:20260420T012619
CREATED:20230913T183446Z
LAST-MODIFIED:20230913T183446Z
UID:51741-1696962600-1696966200@www.epilepsyfoundationmn.org
SUMMARY:Teen Virtual Connect Group
DESCRIPTION:This space is for teens with epilepsy to meet others who understand the journey they’re on. Join us to hang out\, make new friends\, and talk about growing up and living with epilepsy. For more information\, please contact Erik Williams at ewilliams@efmn.org or 651-262-9345
URL:https://www.epilepsyfoundationmn.org/event/teen-virtual-connect-group-18/
LOCATION:Virtual Event via Zoom Meeting
CATEGORIES:Virtual
END:VEVENT
BEGIN:VEVENT
DTSTART;TZID=America/Chicago:20231010T190000
DTEND;TZID=America/Chicago:20231010T200000
DTSTAMP:20260420T012619
CREATED:20230913T133124Z
LAST-MODIFIED:20230913T133124Z
UID:51732-1696964400-1696968000@www.epilepsyfoundationmn.org
SUMMARY:Parents with Epilepsy Virtual Connect Group
DESCRIPTION:Parents living with epilepsy come together to meet others\, share the triumphs and challenges of living with seizures and connect with those who understand the epilepsy journey. For more information\, please contact Lisa Peterson at lisa.peterson@efmn.org or  218-624-1330
URL:https://www.epilepsyfoundationmn.org/event/parents-with-epilepsy-virtual-connect-group-4/
LOCATION:Virtual Event via Zoom Meeting
CATEGORIES:Virtual
END:VEVENT
BEGIN:VEVENT
DTSTART;TZID=America/Chicago:20231017T183000
DTEND;TZID=America/Chicago:20231017T193000
DTSTAMP:20260420T012619
CREATED:20230913T185255Z
LAST-MODIFIED:20230913T185445Z
UID:51749-1697567400-1697571000@www.epilepsyfoundationmn.org
SUMMARY:Rare and Complex Diagnoses Virtual Connect Group
DESCRIPTION:A space for people impacted by a rare epilepsy or complex diagnosis to meet others and talk about life updates\, challenges\, and successes with others who understand the rare epilepsy/complex diagnosis journey. This includes parents and caregivers to children with rare epilepsy\, as well as adults. This is a group looking to create peer-to-peer support and connection. For more information\, please contact Amy Haugen at amy.haugen@efmn.org or 320.203.9722
URL:https://www.epilepsyfoundationmn.org/event/rare-and-complex-diagnoses-virtual-connect-group/
LOCATION:Virtual Event via Zoom Meeting
CATEGORIES:Virtual
END:VEVENT
BEGIN:VEVENT
DTSTART;TZID=America/Chicago:20231018T173000
DTEND;TZID=America/Chicago:20231018T183000
DTSTAMP:20260420T012619
CREATED:20230913T184036Z
LAST-MODIFIED:20230913T184036Z
UID:51744-1697650200-1697653800@www.epilepsyfoundationmn.org
SUMMARY:Grupo de conexión en Español
DESCRIPTION:La epilepsia puede ser una condición aislante sin el apoyo de otros\, pero creemos que nadie debería tener que enfrentar la epilepsia solo. Esta reunión virtual es una oportunidad para conectarse con otras personas hispanohablantes\, compartir experiencias y dar/recibir apoyo. Son bienvenidos personas con epilepsia\, cuidadores\, padres\, u otros seres queridos de alguien con epilepsia. Si tiene preguntas\, por favor contacte a Angela (651-368-6209\, llamada/texto). enlace de zoom: https://us02web.zoom.us/j/82188284802 ID de reunión: 821 8828 4802
URL:https://www.epilepsyfoundationmn.org/event/grupo-de-conexion-en-espanol-9/
LOCATION:Virtual Event via Zoom Meeting
CATEGORIES:Virtual
END:VEVENT
BEGIN:VEVENT
DTSTART;TZID=America/Chicago:20231019T183000
DTEND;TZID=America/Chicago:20231019T193000
DTSTAMP:20260420T012619
CREATED:20230913T142316Z
LAST-MODIFIED:20230913T142316Z
UID:51735-1697740200-1697743800@www.epilepsyfoundationmn.org
SUMMARY:Parent/Caregiver Virtual Connect Group
DESCRIPTION:Meet other parents\, grandparents\, and caregivers who live day-to-day caring for a child with seizures and/or epilepsy. This is an opportunity to meet others\, offer peer-to-peer support\, share resources and experiences\, and talk honestly about the triumphs and challenges of a child’s epilepsy journey. For more information\, please contact Erik Williams at ewilliams@efmn.org or 651-262-9345
URL:https://www.epilepsyfoundationmn.org/event/parent-caregiver-virtual-connect-group-11/
LOCATION:Virtual Event via Zoom Meeting
CATEGORIES:Virtual
END:VEVENT
BEGIN:VEVENT
DTSTART;TZID=America/Chicago:20231024T173000
DTEND;TZID=America/Chicago:20231024T183000
DTSTAMP:20260420T012619
CREATED:20231013T184741Z
LAST-MODIFIED:20231013T184741Z
UID:51915-1698168600-1698172200@www.epilepsyfoundationmn.org
SUMMARY:EFMN with Ellis and Friends Family Connect
DESCRIPTION:This group gives kids a safe environment to play with their peers and their siblings while parents share experiences with each other in regards to epilepsy. Please contact Lisa Necastro at lisa.necastro@efmn.org or 651-287-2358 with any questions.
URL:https://www.epilepsyfoundationmn.org/event/efmn-with-ellis-and-friends-family-connect-2/
LOCATION:Explorer Academy\, 1780 17th St S\, Fargo\, ND\, 58103\, United States
CATEGORIES:Fargo/Moorhead Region
END:VEVENT
BEGIN:VEVENT
DTSTART;TZID=America/Chicago:20231024T173000
DTEND;TZID=America/Chicago:20231024T193000
DTSTAMP:20260420T012619
CREATED:20230926T194605Z
LAST-MODIFIED:20230926T194605Z
UID:51834-1698168600-1698175800@www.epilepsyfoundationmn.org
SUMMARY:St. Cloud Fall Fun and Crafts Social Event
DESCRIPTION:Individuals and family members of all ages impacted by epilepsy are invited to join EFMN for a Fall Fun Event with crafts and activities at the Great River Regional Library in St. Cloud. You’re welcome to bring a store bought potluck item. Contact Lisa Peterson at lisa.peterson@efmn.org or 218-624-1330
URL:https://www.epilepsyfoundationmn.org/event/st-cloud-fall-fun-and-crafts-social-event/
LOCATION:Great River Regional Library\, 1300 W. St. Germain St\,\, St. Cloud\, MN\, 56301\, United States
CATEGORIES:St Cloud Region
END:VEVENT
BEGIN:VEVENT
DTSTART;TZID=America/Chicago:20231026T183000
DTEND;TZID=America/Chicago:20231026T193000
DTSTAMP:20260420T012619
CREATED:20230913T181919Z
LAST-MODIFIED:20230913T181919Z
UID:51738-1698345000-1698348600@www.epilepsyfoundationmn.org
SUMMARY:Adult Virtual Connect Group
DESCRIPTION:Adults living with epilepsy come together to meet others\, share the triumphs and challenges of living with seizures and connect with those who understand the epilepsy journey. For more information\, please contact Amy Haugen at amy.haugen@efmn.org or 320.203.9722
URL:https://www.epilepsyfoundationmn.org/event/adult-virtual-connect-group-21/
LOCATION:Virtual Event via Zoom Meeting
CATEGORIES:Virtual
END:VEVENT
END:VCALENDAR