BEGIN:VCALENDAR
VERSION:2.0
PRODID:-//Epilepsy Foundation of Minnesota - ECPv6.15.13//NONSGML v1.0//EN
CALSCALE:GREGORIAN
METHOD:PUBLISH
X-WR-CALNAME:Epilepsy Foundation of Minnesota
X-ORIGINAL-URL:https://www.epilepsyfoundationmn.org
X-WR-CALDESC:Events for Epilepsy Foundation of Minnesota
REFRESH-INTERVAL;VALUE=DURATION:PT1H
X-Robots-Tag:noindex
X-PUBLISHED-TTL:PT1H
BEGIN:VTIMEZONE
TZID:America/Chicago
BEGIN:DAYLIGHT
TZOFFSETFROM:-0600
TZOFFSETTO:-0500
TZNAME:CDT
DTSTART:20220313T080000
END:DAYLIGHT
BEGIN:STANDARD
TZOFFSETFROM:-0500
TZOFFSETTO:-0600
TZNAME:CST
DTSTART:20221106T070000
END:STANDARD
BEGIN:DAYLIGHT
TZOFFSETFROM:-0600
TZOFFSETTO:-0500
TZNAME:CDT
DTSTART:20230312T080000
END:DAYLIGHT
BEGIN:STANDARD
TZOFFSETFROM:-0500
TZOFFSETTO:-0600
TZNAME:CST
DTSTART:20231105T070000
END:STANDARD
BEGIN:DAYLIGHT
TZOFFSETFROM:-0600
TZOFFSETTO:-0500
TZNAME:CDT
DTSTART:20240310T080000
END:DAYLIGHT
BEGIN:STANDARD
TZOFFSETFROM:-0500
TZOFFSETTO:-0600
TZNAME:CST
DTSTART:20241103T070000
END:STANDARD
END:VTIMEZONE
BEGIN:VEVENT
DTSTART;TZID=America/Chicago:20230824T090000
DTEND;TZID=America/Chicago:20230904T210000
DTSTAMP:20260421T040259
CREATED:20220627T203231Z
LAST-MODIFIED:20230626T200302Z
UID:48302-1692867600-1693861200@www.epilepsyfoundationmn.org
SUMMARY:Minnesota State Fair
DESCRIPTION:EFMN is back at the Minnesota State Fair with a larger-than-life booth and a mission to educate on the importance of being seizure smart\, everywhere you go. We are thrilled to reconnect with our wonderful community from August 24th-September 4th for 12 days of fun\, education\, and connection. \nIf you are interested in helping EFMN promote our “Be Seizure Smart @ The Minnesota State Fair” community health initiative then please consider signing up to volunteer! Volunteers will receive an exclusive EFMN T-shirt and a free ticket to the fair on the day of their volunteer shift. You can register to volunteer by clicking the “Sign up to volunteer here!” link below. All volunteers must be 18+ years of age and available for pre-fair training in late July or early August. \nIf you have any questions or need additional information please contact Jasmine Porter at jporter@efmn.org or 651-287-2313. \n\nSign up to volunteer here!
URL:https://www.epilepsyfoundationmn.org/event/minnesota-state-fair/
LOCATION:Minnesota State Fair\, 1265 Snelling Ave N\, St. Paul\, MN\, 55108\, United States
END:VEVENT
BEGIN:VEVENT
DTSTART;TZID=America/Chicago:20230907T183000
DTEND;TZID=America/Chicago:20230907T193000
DTSTAMP:20260421T040259
CREATED:20230615T162410Z
LAST-MODIFIED:20230615T162410Z
UID:51468-1694111400-1694115000@www.epilepsyfoundationmn.org
SUMMARY:Young Adult Virtual Connect Group
DESCRIPTION:A space for young adults with epilepsy to meet others and talk about life updates\, challenges\, and successes with others who understand the epilepsy journey. This is a young adult-led group looking to create peer-to-peer support and connection. For more information\, please contact Lisa Necastro at lisa.necastro@efmn.org or 651-287-2358
URL:https://www.epilepsyfoundationmn.org/event/young-adult-virtual-connect-group-4/
LOCATION:Virtual Event via Zoom Meeting
CATEGORIES:Virtual
END:VEVENT
BEGIN:VEVENT
DTSTART;TZID=America/Chicago:20230910T150000
DTEND;TZID=America/Chicago:20230910T170000
DTSTAMP:20260421T040259
CREATED:20230531T125557Z
LAST-MODIFIED:20230906T131832Z
UID:51338-1694358000-1694365200@www.epilepsyfoundationmn.org
SUMMARY:UPDATED EVENT DETAILS: Willmar Area Pizza and Bowling at Alley on Ash
DESCRIPTION:Meet up with other individuals and families living with epilepsy at Alley on Ash Bowling to share your epilepsy journey over pizza and bowling! This event is open to youth\, teens\, and adults with epilepsy along with their family. This event is free for those living with epilepsy and additional family and friends are welcome for a cost of $5 per individual guest or $10 per family.\n\nIf you have questions\, please contact Western MN Regional Outreach Manager Lisa Necastro at  lisa.necastro@efmn.org or 651.287.2358.
URL:https://www.epilepsyfoundationmn.org/event/willmar-area-big-kahuna-fun-park-event/
LOCATION:Alley on Ash\, 19 Ash St SE\,\, New London\, MN\, 56273\, United States
CATEGORIES:Fargo/Moorhead Region
END:VEVENT
BEGIN:VEVENT
DTSTART;TZID=America/Chicago:20230911T060000
DTEND;TZID=America/Chicago:20230911T194500
DTSTAMP:20260421T040259
CREATED:20220616T195043Z
LAST-MODIFIED:20230626T160325Z
UID:48220-1694412000-1694461500@www.epilepsyfoundationmn.org
SUMMARY:United in Epilepsy Golf Endurance Challenge
DESCRIPTION:This summer\, the Epilepsy Foundation of Minnesota will gather its community of epilepsy (golf) champions to raise support for the programs that empower our family\, friends\, and neighbors with seizures to lead the lives they want to live.\n\nSave the date for Monday\, September 11th for the Epilepsy Foundation of Minnesota’s second annual United in Epilepsy Golf Endurance Challenge. We will gather together at TPC Twin Cities\, Minnesota’s only PGA Tour-owned course\, for a marathon of 36 holes of golf while raising funds to support people impacted by epilepsy.\nRegistration opening soon.
URL:https://www.epilepsyfoundationmn.org/event/united-in-epilepsy-golf-endurance-challenge/
LOCATION:TPC Twin Cities\, 11444 Tournament Players Pkwy\, Blaine\, MI\, 55449\, United States
END:VEVENT
BEGIN:VEVENT
DTSTART;TZID=America/Chicago:20230912T183000
DTEND;TZID=America/Chicago:20230912T193000
DTSTAMP:20260421T040259
CREATED:20230615T160954Z
LAST-MODIFIED:20230905T190647Z
UID:51462-1694543400-1694547000@www.epilepsyfoundationmn.org
SUMMARY:Teen Virtual Connect Group
DESCRIPTION:This space is for teens with epilepsy to meet others who understand the journey they’re on. Join us to hang out\, make new friends\, and talk about growing up and living with epilepsy. For more information\, please contact Erik Williams at ewilliams@efmn.org or  651-262-9345
URL:https://www.epilepsyfoundationmn.org/event/teen-virtual-connect-group-17/
LOCATION:Virtual Event via Zoom Meeting
CATEGORIES:Virtual
END:VEVENT
BEGIN:VEVENT
DTSTART;TZID=America/Chicago:20230912T190000
DTEND;TZID=America/Chicago:20230912T200000
DTSTAMP:20260421T040259
CREATED:20230615T161653Z
LAST-MODIFIED:20230905T190800Z
UID:51465-1694545200-1694548800@www.epilepsyfoundationmn.org
SUMMARY:Parents with Epilepsy Virtual Connect Group
DESCRIPTION:Parents living with epilepsy come together to meet others\, share the triumphs and challenges of living with seizures and connect with those who understand the epilepsy journey. For more information\, please contact Lisa Peterson at lisa.peterson@efmn.org or 218-624-1330.
URL:https://www.epilepsyfoundationmn.org/event/parents-with-epilepsy-virtual-connect-group-3/
LOCATION:Virtual Event via Zoom Meeting
CATEGORIES:Virtual
END:VEVENT
BEGIN:VEVENT
DTSTART;TZID=America/Chicago:20230920T173000
DTEND;TZID=America/Chicago:20230920T183000
DTSTAMP:20260421T040259
CREATED:20230706T190252Z
LAST-MODIFIED:20230706T190252Z
UID:51588-1695231000-1695234600@www.epilepsyfoundationmn.org
SUMMARY:Grupo de conexión en Español
DESCRIPTION:La epilepsia puede ser una condición aislante sin el apoyo de otros\, pero creemos que nadie debería tener que enfrentar la epilepsia solo. Esta reunión virtual es una oportunidad para conectarse con otras personas hispanohablantes\, compartir experiencias y dar/recibir apoyo. Son bienvenidos personas con epilepsia\, cuidadores\, padres\, u otros seres queridos de alguien con epilepsia. Si tiene preguntas\, por favor contacte a Angela (651-368-6209\, llamada/texto). enlace de zoom: https://us02web.zoom.us/j/82188284802 ID de reunión: 821 8828 4802
URL:https://www.epilepsyfoundationmn.org/event/grupo-de-conexion-en-espanol-8/
LOCATION:Virtual Event via Zoom Meeting
CATEGORIES:Virtual
END:VEVENT
BEGIN:VEVENT
DTSTART;TZID=America/Chicago:20230920T183000
DTEND;TZID=America/Chicago:20230920T194500
DTSTAMP:20260421T040259
CREATED:20230127T141047Z
LAST-MODIFIED:20230811T144517Z
UID:50329-1695234600-1695239100@www.epilepsyfoundationmn.org
SUMMARY:Wellness Wednesday Webinar: Genetics and Epilepsy
DESCRIPTION:The relationship between genetics and epilepsy is an area of study that has evolved rapidly in recent years. This webinar will address the role genetics can play in epilepsy\, including specific syndromes linked to genetic factors\, when to consider genetic testing\, and the latest research on genetic epilepsies. Join Douglas Smith\, MD\, a pediatric epileptologist at the Minnesota Epilepsy Group\, as he shares his expertise on this complex topic.\nRegister today.
URL:https://www.epilepsyfoundationmn.org/event/wellness-wednesday-webinar-genetics-and-epilepsy/
LOCATION:Virtual Event
CATEGORIES:Virtual
END:VEVENT
BEGIN:VEVENT
DTSTART;TZID=America/Chicago:20230921T183000
DTEND;TZID=America/Chicago:20230921T193000
DTSTAMP:20260421T040259
CREATED:20230615T163128Z
LAST-MODIFIED:20230615T163128Z
UID:51471-1695321000-1695324600@www.epilepsyfoundationmn.org
SUMMARY:Parent/Caregiver Virtual Connect Group
DESCRIPTION:Meet other parents\, grandparents\, and caregivers who live day-to-day caring for a child with seizures and/or epilepsy. This is an opportunity to meet others\, offer peer-to-peer support\, share resources and experiences\, and talk honestly about the triumphs and challenges of a child’s epilepsy journey. For more information\, please contact Lisa Necastro at lisa.necastro@efmn.org or 651-287-2358
URL:https://www.epilepsyfoundationmn.org/event/parent-caregiver-virtual-connect-group-10/
LOCATION:Virtual Event via Zoom Meeting
CATEGORIES:Virtual
END:VEVENT
BEGIN:VEVENT
DTSTART;TZID=America/Chicago:20230923T130000
DTEND;TZID=America/Chicago:20230923T160000
DTSTAMP:20260421T040259
CREATED:20220815T181135Z
LAST-MODIFIED:20230906T162815Z
UID:48665-1695474000-1695484800@www.epilepsyfoundationmn.org
SUMMARY:Mall of America Shining Star Event
DESCRIPTION:The annual Shining Stars event at Nickelodeon Universe in the Mall of America is returning this year on Saturday\, September 23. Families from across the state are invited to come and meet others who have a child with epilepsy/seizures. There is scheduled time to connect with other youth\, teens\, and parents\, followed by an afternoon of rides and fun.\n\nYour Shining Star will receive a free Unlimited Ride Wristband for Nickelodeon Universe. Additional Wristbands for guests are $18 (Wristbands purchase at Nickelodeon Universe are $44.99).\n\nThis event is specifically for Shining Stars (youth with epilepsy) and their family. However\, becoming a Shining Star is easy and free for those who want to join\, simply fill out this form here.\nRegister today!
URL:https://www.epilepsyfoundationmn.org/event/moa-shining-star-event/
LOCATION:Mall of America\, 60 E Broadway\, Bloomington\, MN\, 55425\, United States
END:VEVENT
BEGIN:VEVENT
DTSTART;TZID=America/Chicago:20230926T173000
DTEND;TZID=America/Chicago:20230926T183000
DTSTAMP:20260421T040259
CREATED:20230905T202909Z
LAST-MODIFIED:20230905T203420Z
UID:51711-1695749400-1695753000@www.epilepsyfoundationmn.org
SUMMARY:EFMN with Ellis and Friends Family Connect
DESCRIPTION:This group gives kids a safe environment to play with their peers and their siblings while parents share experiences with each other in regards to epilepsy. Please contact Lisa Necastro at lisa.necastro@efmn.org or 651-287-2358 for any questions.
URL:https://www.epilepsyfoundationmn.org/event/efmn-with-ellis-and-friends-family-connect/
LOCATION:Explorer Academy\, 1780 17th St S\, Fargo\, ND\, 58103\, United States
CATEGORIES:Fargo/Moorhead Region
END:VEVENT
BEGIN:VEVENT
DTSTART;TZID=America/Chicago:20230928T183000
DTEND;TZID=America/Chicago:20230928T193000
DTSTAMP:20260421T040259
CREATED:20230615T163945Z
LAST-MODIFIED:20230615T163945Z
UID:51474-1695925800-1695929400@www.epilepsyfoundationmn.org
SUMMARY:Adult Virtual Connect Group
DESCRIPTION:Adults living with epilepsy come together to meet others\, share the triumphs and challenges of living with seizures and connect with those who understand the epilepsy journey. For more information\, please contact Lisa Peterson at lisa.peterson@efmn.org or 218-624-1330
URL:https://www.epilepsyfoundationmn.org/event/adult-virtual-connect-group-20/
LOCATION:Virtual Event via Zoom Meeting
CATEGORIES:Virtual
END:VEVENT
BEGIN:VEVENT
DTSTART;TZID=America/Chicago:20230930T120000
DTEND;TZID=America/Chicago:20230930T140000
DTSTAMP:20260421T040259
CREATED:20230802T165810Z
LAST-MODIFIED:20230802T165810Z
UID:51663-1696075200-1696082400@www.epilepsyfoundationmn.org
SUMMARY:Grand Forks Area Picnic
DESCRIPTION:Join us on September 30 for a picnic gathering for individuals\, families\, and friends impacted by epilepsy. The Epilepsy Foundation of Minnesota will provide the main course and bottled water. Feel free to bring a store bought food item to share. You are also welcome to bring a lawn game to share. If you have questions\, please contact Western MN Regional Outreach Manager Lisa Necastro at lisa.necastro@efmn.org or 651.287.2358.
URL:https://www.epilepsyfoundationmn.org/event/grand-forks-area-picnic/
LOCATION:Sertoma Park\, 3300 11th Ave S\, Grand Forks\, ND\, 58201\, United States
CATEGORIES:Fargo/Moorhead Region
END:VEVENT
BEGIN:VEVENT
DTSTART;TZID=America/Chicago:20230930T130000
DTEND;TZID=America/Chicago:20230930T160000
DTSTAMP:20260421T040259
CREATED:20230926T175530Z
LAST-MODIFIED:20230926T175530Z
UID:51825-1696078800-1696089600@www.epilepsyfoundationmn.org
SUMMARY:Combine for a Cure
DESCRIPTION:Come support Dale as he combines his Corn crop and donates it to JDRF (Juvenile diabetes research foundation) and EFMN (Epilepsy foundation of Minnesota). The event will be located 1/4 mile west of 1825 270th St E Randolph MN. Food\, Water\, Pop\, and ice cold beer will be provided.\n\nWe will have another silent auction as well so don’t miss out on some awesome items\, if you want to donate something to the silent auction please reach out to me. Taking items now. Live entertainment… Absolute Power LLC will be there with music and Karaoke so don’t forget to bring you’re singing voice.\n\n***Donations welcome***\n\nThanks everyone and stop by and join in on the back road farming fun.\n\nPlz share this everywhere!!
URL:https://www.epilepsyfoundationmn.org/event/combine-for-a-cure/
LOCATION:1825 270th St E Randolph\, MN 55065\, 1825 270th St E\, Randolph\, MN\, 55065\, United States
END:VEVENT
END:VCALENDAR