BEGIN:VCALENDAR
VERSION:2.0
PRODID:-//Epilepsy Foundation of Minnesota - ECPv6.15.13//NONSGML v1.0//EN
CALSCALE:GREGORIAN
METHOD:PUBLISH
X-WR-CALNAME:Epilepsy Foundation of Minnesota
X-ORIGINAL-URL:https://www.epilepsyfoundationmn.org
X-WR-CALDESC:Events for Epilepsy Foundation of Minnesota
REFRESH-INTERVAL;VALUE=DURATION:PT1H
X-Robots-Tag:noindex
X-PUBLISHED-TTL:PT1H
BEGIN:VTIMEZONE
TZID:America/Chicago
BEGIN:DAYLIGHT
TZOFFSETFROM:-0600
TZOFFSETTO:-0500
TZNAME:CDT
DTSTART:20220313T080000
END:DAYLIGHT
BEGIN:STANDARD
TZOFFSETFROM:-0500
TZOFFSETTO:-0600
TZNAME:CST
DTSTART:20221106T070000
END:STANDARD
BEGIN:DAYLIGHT
TZOFFSETFROM:-0600
TZOFFSETTO:-0500
TZNAME:CDT
DTSTART:20230312T080000
END:DAYLIGHT
BEGIN:STANDARD
TZOFFSETFROM:-0500
TZOFFSETTO:-0600
TZNAME:CST
DTSTART:20231105T070000
END:STANDARD
BEGIN:DAYLIGHT
TZOFFSETFROM:-0600
TZOFFSETTO:-0500
TZNAME:CDT
DTSTART:20240310T080000
END:DAYLIGHT
BEGIN:STANDARD
TZOFFSETFROM:-0500
TZOFFSETTO:-0600
TZNAME:CST
DTSTART:20241103T070000
END:STANDARD
END:VTIMEZONE
BEGIN:VEVENT
DTSTART;TZID=America/Chicago:20230813T140000
DTEND;TZID=America/Chicago:20230813T153000
DTSTAMP:20260421T054425
CREATED:20230531T123626Z
LAST-MODIFIED:20230531T125253Z
UID:51333-1691935200-1691940600@www.epilepsyfoundationmn.org
SUMMARY:Bemidji Ice Cream and Mini Golf
DESCRIPTION:Meet up with other individuals and families living with epilepsy at Boardwalk Minigolf to test your golf skills and enjoy some ice cream right on Lake Bemidji. This event is open to youth\, teens\, and adults with epilepsy along with their family. This event is free for those living with epilepsy and additional family and friends are welcome for a cost of $5 per individual guest or $10 per family. If you have questions\, please contact Western MN Regional Outreach Manager Lisa Necastro at lisa.necastro@efmn.org or 651.287.2358.
URL:https://www.epilepsyfoundationmn.org/event/bemidji-ice-cream-and-mini-golf/
LOCATION:Boardwalk Mini Golf\, 610 Lakeshore Drive NE\, Bemidji\, MN\, 56601\, United States
CATEGORIES:Fargo/Moorhead Region
END:VEVENT
BEGIN:VEVENT
DTSTART;TZID=America/Chicago:20230815T183000
DTEND;TZID=America/Chicago:20230815T193000
DTSTAMP:20260421T054425
CREATED:20230615T155415Z
LAST-MODIFIED:20230615T155415Z
UID:51459-1692124200-1692127800@www.epilepsyfoundationmn.org
SUMMARY:Loss of Loved One Virtual Connect Group
DESCRIPTION:Losing a loved one to epilepsy is a difficult journey. EFMN invites you to attend our quarterly Loss of Loved One Connect Group to find peer support\, helpful resources\, and to talk honestly about your grieving process. This group is specifically open to anyone who has lost a loved one to an epilepsy-related death. For more information contact Amy Haugen\, Programs and Regional Outreach Director at amy.haugen@efmn.org or 320.203.9722
URL:https://www.epilepsyfoundationmn.org/event/loss-of-loved-one-virtual-connect-group-5/
LOCATION:Virtual Event via Zoom Meeting
CATEGORIES:Virtual
END:VEVENT
BEGIN:VEVENT
DTSTART;TZID=America/Chicago:20230816T173000
DTEND;TZID=America/Chicago:20230816T183000
DTSTAMP:20260421T054425
CREATED:20230706T190105Z
LAST-MODIFIED:20230706T190105Z
UID:51585-1692207000-1692210600@www.epilepsyfoundationmn.org
SUMMARY:Grupo de conexión en Español
DESCRIPTION:La epilepsia puede ser una condición aislante sin el apoyo de otros\, pero creemos que nadie debería tener que enfrentar la epilepsia solo. Esta reunión virtual es una oportunidad para conectarse con otras personas hispanohablantes\, compartir experiencias y dar/recibir apoyo. Son bienvenidos personas con epilepsia\, cuidadores\, padres\, u otros seres queridos de alguien con epilepsia. Si tiene preguntas\, por favor contacte a Angela (651-368-6209\, llamada/texto). enlace de zoom: https://us02web.zoom.us/j/82188284802 ID de reunión: 821 8828 4802
URL:https://www.epilepsyfoundationmn.org/event/grupo-de-conexion-en-espanol-7/
LOCATION:Virtual Event via Zoom Meeting
CATEGORIES:Virtual
END:VEVENT
BEGIN:VEVENT
DTSTART;TZID=America/Chicago:20230817T183000
DTEND;TZID=America/Chicago:20230817T193000
DTSTAMP:20260421T054425
CREATED:20230615T153110Z
LAST-MODIFIED:20230615T153110Z
UID:51453-1692297000-1692300600@www.epilepsyfoundationmn.org
SUMMARY:Parent/Caregiver  Virtual Connect Group
DESCRIPTION:Meet other parents\, grandparents\, and caregivers who live day-to-day caring for a child with seizures and/or epilepsy. This is an opportunity to meet others\, offer peer-to-peer support\, share resources and experiences\, and talk honestly about the triumphs and challenges of a child’s epilepsy journey. For more information\, please contact Erik Williams at ewilliams@efmn.org or 651-262-9345
URL:https://www.epilepsyfoundationmn.org/event/parent-caregiver-virtual-connect-group-9/
LOCATION:Virtual Event via Zoom Meeting
CATEGORIES:Virtual
END:VEVENT
BEGIN:VEVENT
DTSTART;TZID=America/Chicago:20230822T180000
DTEND;TZID=America/Chicago:20230822T193000
DTSTAMP:20260421T054425
CREATED:20230530T205149Z
LAST-MODIFIED:20230531T130922Z
UID:51324-1692727200-1692732600@www.epilepsyfoundationmn.org
SUMMARY:Metro Picnic- St. Paul
DESCRIPTION:Join us on August 22 for a picnic gathering for individuals\, families\, and friends impacted by epilepsy. The Epilepsy Foundation of Minnesota will provide the main course and bottled water. Feel free to bring a store bought food item to share. You are also welcome to bring a lawn game to share. If you have questions\, please contact Metro Regional Outreach Manager Erik Williams at ewilliams@efmn.org or 651.287.2319.
URL:https://www.epilepsyfoundationmn.org/event/metro-picnic-st-paul-08-22-2023/
LOCATION:Como Park West Picnic Grounds\, 1300 Midway Pkwy\, Saint Paul\, MN\, 55103\, United States
CATEGORIES:Twin Cities Region
END:VEVENT
BEGIN:VEVENT
DTSTART;TZID=America/Chicago:20230824T090000
DTEND;TZID=America/Chicago:20230904T210000
DTSTAMP:20260421T054425
CREATED:20220627T203231Z
LAST-MODIFIED:20230626T200302Z
UID:48302-1692867600-1693861200@www.epilepsyfoundationmn.org
SUMMARY:Minnesota State Fair
DESCRIPTION:EFMN is back at the Minnesota State Fair with a larger-than-life booth and a mission to educate on the importance of being seizure smart\, everywhere you go. We are thrilled to reconnect with our wonderful community from August 24th-September 4th for 12 days of fun\, education\, and connection. \nIf you are interested in helping EFMN promote our “Be Seizure Smart @ The Minnesota State Fair” community health initiative then please consider signing up to volunteer! Volunteers will receive an exclusive EFMN T-shirt and a free ticket to the fair on the day of their volunteer shift. You can register to volunteer by clicking the “Sign up to volunteer here!” link below. All volunteers must be 18+ years of age and available for pre-fair training in late July or early August. \nIf you have any questions or need additional information please contact Jasmine Porter at jporter@efmn.org or 651-287-2313. \n\nSign up to volunteer here!
URL:https://www.epilepsyfoundationmn.org/event/minnesota-state-fair/
LOCATION:Minnesota State Fair\, 1265 Snelling Ave N\, St. Paul\, MN\, 55108\, United States
END:VEVENT
BEGIN:VEVENT
DTSTART;TZID=America/Chicago:20230824T183000
DTEND;TZID=America/Chicago:20230824T193000
DTSTAMP:20260421T054425
CREATED:20230615T154111Z
LAST-MODIFIED:20230615T154111Z
UID:51456-1692901800-1692905400@www.epilepsyfoundationmn.org
SUMMARY:Adult Virtual Connect Group
DESCRIPTION:Adults living with epilepsy come together to meet others\, share the triumphs and challenges of living with seizures and connect with those who understand the epilepsy journey. For more information\, please contact Erik Williams at ewilliams@efmn.org or 651-262-9345
URL:https://www.epilepsyfoundationmn.org/event/adult-virtual-connect-group-19/
CATEGORIES:Virtual
END:VEVENT
END:VCALENDAR