BEGIN:VCALENDAR
VERSION:2.0
PRODID:-//Epilepsy Foundation of Minnesota - ECPv6.15.13//NONSGML v1.0//EN
CALSCALE:GREGORIAN
METHOD:PUBLISH
X-WR-CALNAME:Epilepsy Foundation of Minnesota
X-ORIGINAL-URL:https://www.epilepsyfoundationmn.org
X-WR-CALDESC:Events for Epilepsy Foundation of Minnesota
REFRESH-INTERVAL;VALUE=DURATION:PT1H
X-Robots-Tag:noindex
X-PUBLISHED-TTL:PT1H
BEGIN:VTIMEZONE
TZID:America/Chicago
BEGIN:DAYLIGHT
TZOFFSETFROM:-0600
TZOFFSETTO:-0500
TZNAME:CDT
DTSTART:20220313T080000
END:DAYLIGHT
BEGIN:STANDARD
TZOFFSETFROM:-0500
TZOFFSETTO:-0600
TZNAME:CST
DTSTART:20221106T070000
END:STANDARD
BEGIN:DAYLIGHT
TZOFFSETFROM:-0600
TZOFFSETTO:-0500
TZNAME:CDT
DTSTART:20230312T080000
END:DAYLIGHT
BEGIN:STANDARD
TZOFFSETFROM:-0500
TZOFFSETTO:-0600
TZNAME:CST
DTSTART:20231105T070000
END:STANDARD
BEGIN:DAYLIGHT
TZOFFSETFROM:-0600
TZOFFSETTO:-0500
TZNAME:CDT
DTSTART:20240310T080000
END:DAYLIGHT
BEGIN:STANDARD
TZOFFSETFROM:-0500
TZOFFSETTO:-0600
TZNAME:CST
DTSTART:20241103T070000
END:STANDARD
END:VTIMEZONE
BEGIN:VEVENT
DTSTART;TZID=America/Chicago:20230502T170000
DTEND;TZID=America/Chicago:20230502T183000
DTSTAMP:20260421T055604
CREATED:20230321T180655Z
LAST-MODIFIED:20230321T180655Z
UID:50825-1683046800-1683052200@www.epilepsyfoundationmn.org
SUMMARY:Fargo/Moorhead Pizza Event
DESCRIPTION:Individuals and family members of all ages impacted by epilepsy are invited to join EFMN for pizza and time to connect with others at Pizza Ranch. The pizza buffet is free for individuals living with epilepsy and $5 per individual guest or $10 per family. For more information contact Lisa Necastro at lisa.necastro@efmn.org or 651-287-2358
URL:https://www.epilepsyfoundationmn.org/event/fargo-moorhead-pizza-event/
LOCATION:Fargo Pizza Ranch\, 4480 23rd Ave S A\, Fargo\, ND\, 58104\, United States
CATEGORIES:Fargo/Moorhead Region
END:VEVENT
BEGIN:VEVENT
DTSTART;TZID=America/Chicago:20230502T173000
DTEND;TZID=America/Chicago:20230502T193000
DTSTAMP:20260421T055604
CREATED:20230321T162449Z
LAST-MODIFIED:20230321T162449Z
UID:50816-1683048600-1683055800@www.epilepsyfoundationmn.org
SUMMARY:Saint Cloud Tacos and Game Night
DESCRIPTION:Individuals and family members of all ages impacted by epilepsy are invited to join EFMN for tacos and potatoe ole’s from Taco John’s\, conversation\, and activities. You’re welcome to bring a store bought potluck item and/or a board games/activity to share. For more information contact Lisa Peterson at lisa.peterson@efmn.org or 218-624-1330
URL:https://www.epilepsyfoundationmn.org/event/saint-cloud-tacos-and-game-night/
LOCATION:Great River Regional Library\, 1300 W. St. Germain St\,\, St. Cloud\, MN\, 56301\, United States
CATEGORIES:Duluth Region
END:VEVENT
BEGIN:VEVENT
DTSTART;TZID=America/Chicago:20230503T170000
DTEND;TZID=America/Chicago:20230503T190000
DTSTAMP:20260421T055604
CREATED:20230321T181356Z
LAST-MODIFIED:20230321T194410Z
UID:50828-1683133200-1683140400@www.epilepsyfoundationmn.org
SUMMARY:Brainerd Tacos and Game Night
DESCRIPTION:Individuals and family members of all ages impacted by epilepsy are invited to join EFMN for tacos and potatoe ole’s from Taco John’s\, conversation\, and activities. You’re welcome to bring a store bought potluck item and/or a board games/activity to share. For more information contact Lisa Peterson at lisa.peterson@efmn.org or 218-624-1330
URL:https://www.epilepsyfoundationmn.org/event/brainerd-tacos-and-game-night/
LOCATION:Brainerd Public Library\, 416 S 5th St\, Brainerd\, MN\, 56401\, United States
CATEGORIES:Duluth Region
END:VEVENT
BEGIN:VEVENT
DTSTART;TZID=America/Chicago:20230504T183000
DTEND;TZID=America/Chicago:20230504T193000
DTSTAMP:20260421T055604
CREATED:20230318T135055Z
LAST-MODIFIED:20230417T151649Z
UID:50763-1683225000-1683228600@www.epilepsyfoundationmn.org
SUMMARY:Young Adults Connect Group
DESCRIPTION:A space for young adults with epilepsy to meet others and talk about life updates\, challenges\, and successes with others who understand the epilepsy journey. This  group looks to create peer-to-peer support and connection. For more information\, please contact  Erik Williams at ewilliams@efmn.org or  651-262-9345.
URL:https://www.epilepsyfoundationmn.org/event/young-adults-connect-group/
LOCATION:Virtual Event via Zoom Meeting
CATEGORIES:Virtual
END:VEVENT
BEGIN:VEVENT
DTSTART;TZID=America/Chicago:20230507T090000
DTEND;TZID=America/Chicago:20230507T143000
DTSTAMP:20260421T055604
CREATED:20230316T190026Z
LAST-MODIFIED:20230316T190145Z
UID:50732-1683450000-1683469800@www.epilepsyfoundationmn.org
SUMMARY:Shining Stars Splash at Arrowwood
DESCRIPTION:Calling all Shining Stars to come make a splash with EFMN! Shining Stars and their families are invited to join in a day of fun at the Big Splash Waterpark at Arrowwood Resort in Alexandria\, MN. Your adventure can take you on three 4-story-tall waterslides\, float down the Lazy River on an inner tube\, relax in the tropical whirlpool spa\, try the basketball shootout\, lily pad water walk\, and more! Also\, enjoy the opportunity to connect with other Shining Stars families over a slice of pizza and soft drink. People with epilepsy splash for free\, and additional family and friends are welcome for a cost of $5 per individual guest or $10 per family. EFMN is committed to supporting all people who would like to attend our social events. If you need financial support\, please check the box in the payment section of the form below.\n\nIf you have any questions\, please contact Regional Outreach Manager Lisa Necastro at lisa.necastro@efmn.org or 651-287-2358.
URL:https://www.epilepsyfoundationmn.org/event/shining-stars-splash-at-arrowwood/
LOCATION:Arrowwod Indoor Waterpark\, 2100 Arrowwood Lane\, Alexandra\, MN\, 56308\, United States
END:VEVENT
BEGIN:VEVENT
DTSTART;TZID=America/Chicago:20230509T183000
DTEND;TZID=America/Chicago:20230509T193000
DTSTAMP:20260421T055604
CREATED:20230318T143438Z
LAST-MODIFIED:20230318T143438Z
UID:50777-1683657000-1683660600@www.epilepsyfoundationmn.org
SUMMARY:Teen Connect Group
DESCRIPTION:This space is for teens with epilepsy to meet others who understand the journey they’re on. Join us to hang out\, make new friends\, and talk about growing up and living with epilepsy. For more information\, please contact Lisa Necastro at lisa.necastro@efmn.org or 651-287-2358
URL:https://www.epilepsyfoundationmn.org/event/teen-connect-group-2/
LOCATION:Virtual Event via Zoom Meeting
CATEGORIES:Virtual
END:VEVENT
BEGIN:VEVENT
DTSTART;TZID=America/Chicago:20230509T190000
DTEND;TZID=America/Chicago:20230509T200000
DTSTAMP:20260421T055604
CREATED:20230318T141332Z
LAST-MODIFIED:20230417T153832Z
UID:50770-1683658800-1683662400@www.epilepsyfoundationmn.org
SUMMARY:Parents with Epilepsy Connect Group
DESCRIPTION:Parents living with epilepsy come together to meet others\, share the triumphs and challenges of living with seizures and connect with those who understand the epilepsy journey. For more information\, please contact Lisa Peterson at lisa.peterson@efmn.org or 218-624-1330.
URL:https://www.epilepsyfoundationmn.org/event/parents-with-epilepsy-connect-group-2/
LOCATION:Virtual Event via Zoom Meeting
CATEGORIES:Virtual
END:VEVENT
BEGIN:VEVENT
DTSTART;TZID=America/Chicago:20230513T130000
DTEND;TZID=America/Chicago:20230513T170000
DTSTAMP:20260421T055604
CREATED:20230509T210259Z
LAST-MODIFIED:20230509T210259Z
UID:51165-1683982800-1683997200@www.epilepsyfoundationmn.org
SUMMARY:Adler Presents: Art Therapy Discovery Day!
DESCRIPTION:Join Adler Graduate School for a fun-filled afternoon of learning\, experiencing and understanding art therapy.  This is an open house style public event for anyone interested in learning more about the profession\, the Art Therapy Program at Adler Graduate School\, and the positive impact art therapy has in the community.\n\nGo to  https://www.alfredadler.edu/ to learn more.\n\n \n\n 
URL:https://www.epilepsyfoundationmn.org/event/adler-presents-art-therapy-discovery-day/
LOCATION:Adler Graduate School\, 10225 Yellow Circle Drive\, Minnetonka\, MN\, 55343
END:VEVENT
BEGIN:VEVENT
DTSTART;TZID=America/Chicago:20230516T170000
DTEND;TZID=America/Chicago:20230516T183000
DTSTAMP:20260421T055604
CREATED:20230321T202154Z
LAST-MODIFIED:20230321T202154Z
UID:50840-1684256400-1684261800@www.epilepsyfoundationmn.org
SUMMARY:Bemidji Pizza Night
DESCRIPTION:Individuals and family members of all ages impacted by epilepsy are invited to join EFMN for pizza and time to connect with others at Pizza Ranch. The pizza buffet is free for individuals living with epilepsy and $5 per individual guest or $10 per family. For more information contact Lisa Necastro at lisa.necastro@efmn.org or 651-287-2358
URL:https://www.epilepsyfoundationmn.org/event/bemidji-pizza-night/
LOCATION:Bemidji Pizza Ranch\, 1635 Paul Bunyan Dr NW\, Bemidji\, MN\, 56601\, United States
CATEGORIES:Fargo/Moorhead Region
END:VEVENT
BEGIN:VEVENT
DTSTART;TZID=America/Chicago:20230516T183000
DTEND;TZID=America/Chicago:20230516T193000
DTSTAMP:20260421T055604
CREATED:20230318T150552Z
LAST-MODIFIED:20230318T151848Z
UID:50786-1684261800-1684265400@www.epilepsyfoundationmn.org
SUMMARY:Loss of Loved One Connect Group
DESCRIPTION:Losing a loved one to epilepsy is a difficult journey. EFMN invites you to attend our quarterly Loss of Loved One Connect Group to find peer support\, helpful resources\, and to talk honestly about your grieving process. This group is specifically open to anyone who has lost a loved one to an epilepsy-related death. For more information contact Amy Haugen\, Programs and Regional Outreach Director at amy.haugen@efmn.org or 320.203.9722
URL:https://www.epilepsyfoundationmn.org/event/loss-of-loved-one-connect-group/
LOCATION:Virtual Event via Zoom Meeting
CATEGORIES:Virtual
END:VEVENT
BEGIN:VEVENT
DTSTART;TZID=America/Chicago:20230517T173000
DTEND;TZID=America/Chicago:20230517T183000
DTSTAMP:20260421T055604
CREATED:20230318T144238Z
LAST-MODIFIED:20230417T184153Z
UID:50781-1684344600-1684348200@www.epilepsyfoundationmn.org
SUMMARY:Grupo de conexión en Español\,17 de mayo
DESCRIPTION:Miercoles\, 17 de mayo \,  La epilepsia puede ser una condición aislante sin el apoyo de otros\, pero creemos que nadie debería tener que enfrentar la epilepsia\nsolo. Esta reunión virtual es una oportunidad para conectarse con otras personas hispanohablantes\, compartir experiencias y dar/recibir apoyo. Son bienvenidos personas con epilepsia\, cuidadores\, padres\, u otros seres queridos de alguien con epilepsia. Si tiene preguntas\, por favor contacte a Angela (651-368-6209\, llamada/texto).\n\nUnirse a la reunión de zoom\n\nID de reunión: 821 8828 4802\n\n 
URL:https://www.epilepsyfoundationmn.org/event/spanish-connect-group/
LOCATION:Virtual Event via Zoom Meeting
CATEGORIES:Virtual
END:VEVENT
BEGIN:VEVENT
DTSTART;TZID=America/Chicago:20230518T183000
DTEND;TZID=America/Chicago:20230518T193000
DTSTAMP:20260421T055604
CREATED:20230318T140329Z
LAST-MODIFIED:20230318T140329Z
UID:50767-1684434600-1684438200@www.epilepsyfoundationmn.org
SUMMARY:Parent/Caregiver Connect Group
DESCRIPTION:Meet other parents\, grandparents\, and caregivers who live day-to-day caring for a child with seizures and/or epilepsy. This is an opportunity to meet others\, offer peer-to-peer support\, share resources and experiences\, and talk honestly about the triumphs and challenges of a child’s epilepsy journey. For more information\, please contact Lisa Necastro at lisa.necastro@efmn.org or 651-287-2358
URL:https://www.epilepsyfoundationmn.org/event/parent-caregiver-connect-group/
LOCATION:Virtual Event via Zoom Meeting
CATEGORIES:Virtual
END:VEVENT
BEGIN:VEVENT
DTSTART;TZID=America/Chicago:20230520T100000
DTEND;TZID=America/Chicago:20230520T120000
DTSTAMP:20260421T055604
CREATED:20230421T142907Z
LAST-MODIFIED:20230426T184206Z
UID:51027-1684576800-1684584000@www.epilepsyfoundationmn.org
SUMMARY:Camp Oz Orientation and Tour
DESCRIPTION:Camp families are encouraged to attend this orientation to Camp Oz session\, being held at Camp St. Croix in Hudson\, WI. Time will be spent providing information about the camp experience\, and a tour of the camp grounds. Any Camp Oz family is invited to attend; new camp families are strongly encouraged to attend. Have questions about this event? Contact Amy Haugen at amy.haugen@efmn.org or Erik Williams at ewilliams@efmn.org.\nRegister below.
URL:https://www.epilepsyfoundationmn.org/event/camp-oz-orientation-and-tour/
LOCATION:YMCA Camp St. Croix\, 532 County Rd F\, Hudson\, WI\, 54016\, United States
END:VEVENT
BEGIN:VEVENT
DTSTART;TZID=America/Chicago:20230522T170000
DTEND;TZID=America/Chicago:20230522T183000
DTSTAMP:20260421T055604
CREATED:20230321T202755Z
LAST-MODIFIED:20230321T202755Z
UID:50845-1684774800-1684780200@www.epilepsyfoundationmn.org
SUMMARY:Marshall Pizza Night
DESCRIPTION:Individuals and family members of all ages impacted by epilepsy are invited to join EFMN for pizza and time to connect with others at Pizza Ranch. The pizza buffet is free for individuals living with epilepsy and $5 per individual guest or $10 per family. For more information contact Lisa Necastro at lisa.necastro@efmn.org or 651-287-2358
URL:https://www.epilepsyfoundationmn.org/event/marshall-pizza-night/
LOCATION:Marshall Pizza Ranch\, 1420 Boyer Dr.\, Marshall\, MN\, 56258\, United States
CATEGORIES:Fargo/Moorhead Region
END:VEVENT
BEGIN:VEVENT
DTSTART;TZID=America/Chicago:20230522T180000
DTEND;TZID=America/Chicago:20230522T193000
DTSTAMP:20260421T055604
CREATED:20230421T131235Z
LAST-MODIFIED:20230421T131235Z
UID:51019-1684778400-1684783800@www.epilepsyfoundationmn.org
SUMMARY:Roseville Community Pizza Party
DESCRIPTION:Come share connections and stories with other individuals and families impacted by epilepsy while enjoying a pizza dinner at Davanni’s in Roseville. All ages are welcome\, dinner is free for the person living with epilepsy and additional family and friends are invited for $5 per person or $10 per family. EFMN is committed to supporting all people who would like to attend our social events. If you need financial support\, please check the box in the payment section of the below form. If you have any questions\, please contact Amy Haugen\, Director of Regional Outreach and Programs at 320.203.9722 or amy.haugen@efmn.org
URL:https://www.epilepsyfoundationmn.org/event/roseville-community-pizza-party/
LOCATION:Davanni’s Roseville\, 1905W Perimeter Dr\, Roseville\, 55113\, United States
CATEGORIES:Twin Cities Region
END:VEVENT
BEGIN:VEVENT
DTSTART;TZID=America/Chicago:20230523T180000
DTEND;TZID=America/Chicago:20230523T193000
DTSTAMP:20260421T055604
CREATED:20230321T204318Z
LAST-MODIFIED:20230321T204318Z
UID:50848-1684864800-1684870200@www.epilepsyfoundationmn.org
SUMMARY:Minnetrista Big Stone Mini Golf Event
DESCRIPTION:Meet up with other individuals and families living with epilepsy at Big Stone Mini Golf and Sculpture Garden to test your golf skills in a wonderfully art-filled course. This event is open to youth\, teens\, and adults with epilepsy along with their family. Mini Golfing is free for those living with epilepsy and additional family and friends are welcome for a cost of $5 per individual guest or $10 per family.\n\nIf you have questions\, please contact West Metro Regional Outreach Manager Erik Williams at ewilliams@efmn.org or 651.287.2319.
URL:https://www.epilepsyfoundationmn.org/event/minnetrista-big-stone-mini-golf-event/
LOCATION:Big Stone Mini Golf\, 7110 County Rd 110 Ext W\, Minnetrista\, MN\, 55364\, United States
CATEGORIES:Twin Cities Region
END:VEVENT
BEGIN:VEVENT
DTSTART;TZID=America/Chicago:20230525T183000
DTEND;TZID=America/Chicago:20230525T193000
DTSTAMP:20260421T055604
CREATED:20230318T142552Z
LAST-MODIFIED:20230321T133615Z
UID:50774-1685039400-1685043000@www.epilepsyfoundationmn.org
SUMMARY:Adult Connect Group
DESCRIPTION:Adults living with epilepsy come together to meet others\, share the triumphs and challenges of living with seizures and connect with those who understand the epilepsy journey. For more information\, please contact Amy Haugen at amy.haugen@efmn.org or 320.203.9722
URL:https://www.epilepsyfoundationmn.org/event/adult-connect-group-2/
LOCATION:Virtual Event via Zoom Meeting
CATEGORIES:Virtual
END:VEVENT
BEGIN:VEVENT
DTSTART;TZID=America/Chicago:20230530T173000
DTEND;TZID=America/Chicago:20230530T183000
DTSTAMP:20260421T055604
CREATED:20230318T162517Z
LAST-MODIFIED:20230426T184319Z
UID:50810-1685467800-1685471400@www.epilepsyfoundationmn.org
SUMMARY:Ellis and Friends Family Connect
DESCRIPTION:This group gives kids a safe environment to play with their peers and their siblings\, while parents share experiences with each other in regard to epilepsy. RSVP to lacey@tntfitness.org.
URL:https://www.epilepsyfoundationmn.org/event/ellis-and-friends-family-connect-2/
CATEGORIES:Fargo/Moorhead Region
END:VEVENT
END:VCALENDAR