BEGIN:VCALENDAR
VERSION:2.0
PRODID:-//Epilepsy Foundation of Minnesota - ECPv6.15.13//NONSGML v1.0//EN
CALSCALE:GREGORIAN
METHOD:PUBLISH
X-WR-CALNAME:Epilepsy Foundation of Minnesota
X-ORIGINAL-URL:https://www.epilepsyfoundationmn.org
X-WR-CALDESC:Events for Epilepsy Foundation of Minnesota
REFRESH-INTERVAL;VALUE=DURATION:PT1H
X-Robots-Tag:noindex
X-PUBLISHED-TTL:PT1H
BEGIN:VTIMEZONE
TZID:America/Chicago
BEGIN:DAYLIGHT
TZOFFSETFROM:-0600
TZOFFSETTO:-0500
TZNAME:CDT
DTSTART:20250309T080000
END:DAYLIGHT
BEGIN:STANDARD
TZOFFSETFROM:-0500
TZOFFSETTO:-0600
TZNAME:CST
DTSTART:20251102T070000
END:STANDARD
BEGIN:DAYLIGHT
TZOFFSETFROM:-0600
TZOFFSETTO:-0500
TZNAME:CDT
DTSTART:20260308T080000
END:DAYLIGHT
BEGIN:STANDARD
TZOFFSETFROM:-0500
TZOFFSETTO:-0600
TZNAME:CST
DTSTART:20261101T070000
END:STANDARD
BEGIN:DAYLIGHT
TZOFFSETFROM:-0600
TZOFFSETTO:-0500
TZNAME:CDT
DTSTART:20270314T080000
END:DAYLIGHT
BEGIN:STANDARD
TZOFFSETFROM:-0500
TZOFFSETTO:-0600
TZNAME:CST
DTSTART:20271107T070000
END:STANDARD
END:VTIMEZONE
BEGIN:VEVENT
DTSTART;TZID=America/Chicago:20260303T190000
DTEND;TZID=America/Chicago:20260303T200000
DTSTAMP:20260422T140749
CREATED:20260213T180420Z
LAST-MODIFIED:20260213T180817Z
UID:55909-1772564400-1772568000@www.epilepsyfoundationmn.org
SUMMARY:Moms Supporting Moms of Adult Children with Epilepsy Peer Led Connect Group
DESCRIPTION:Moms of adult children with epilepsy are invited to attend this support group where moms of adult children come together and share their journey and experiences. We support each by providing a safe space for everyone to express how they are feeling and share about the challenges and joys of being a parent of an adult child with epilepsy. Please contact Shelly Torgerson at shellynd@yahoo.com or 701-381-2083 to RSVP or to ask questions. Find them on Facebook: https://www.facebook.com/groups/1431507547698535
URL:https://www.epilepsyfoundationmn.org/event/moms-supporting-moms-of-adult-children-with-epilepsy-peer-led-connect-group-5/
LOCATION:Virtual Event via Zoom Meeting
CATEGORIES:Virtual
END:VEVENT
BEGIN:VEVENT
DTSTART;TZID=America/Chicago:20260305T183000
DTEND;TZID=America/Chicago:20260305T193000
DTSTAMP:20260422T140749
CREATED:20260204T174639Z
LAST-MODIFIED:20260204T175716Z
UID:55861-1772735400-1772739000@www.epilepsyfoundationmn.org
SUMMARY:Young Adult Connect
DESCRIPTION:A space for young adults with epilepsy to meet others and talk about life updates\, challenges\, and successes with others who understand the epilepsy journey. This is a young adult-led group looking to create peer-to-peer support and connection. For more information\, please contact Erik Williams at Ewilliams@efmn.org or 651-287-2319.
URL:https://www.epilepsyfoundationmn.org/event/young-adult-connect-13/
LOCATION:Virtual Event via Zoom Meeting
CATEGORIES:Virtual
END:VEVENT
BEGIN:VEVENT
DTSTART;TZID=America/Chicago:20260305T190000
DTEND;TZID=America/Chicago:20260305T200000
DTSTAMP:20260422T140749
CREATED:20260212T193917Z
LAST-MODIFIED:20260212T194904Z
UID:55906-1772737200-1772740800@www.epilepsyfoundationmn.org
SUMMARY:Partners of Someone with Epilepsy Peer Led Connect
DESCRIPTION:Join other partners for an hour to discuss the highs and lows of your journey and hear from other significant others about how we best care for ourselves while caring for our loved ones with epilepsy.   For questions or to RSVP\, contact James Schaefer at james.schaefer84@gmail.com or 612.280.9643\, Chris Merrill at cmerrill1@gmail.com or 612-805-1440.\n\nFind them on Facebook:\nhttps://www.facebook.com/groups/1215068256936784/?rdid=X0aShBou5twD736b#
URL:https://www.epilepsyfoundationmn.org/event/partners-of-someone-with-epilepsy-peer-led-connect-3/
LOCATION:Virtual Event via Zoom Meeting
CATEGORIES:Virtual
END:VEVENT
BEGIN:VEVENT
DTSTART;TZID=America/Chicago:20260310T183000
DTEND;TZID=America/Chicago:20260310T193000
DTSTAMP:20260422T140749
CREATED:20260213T182040Z
LAST-MODIFIED:20260213T182706Z
UID:55912-1773167400-1773171000@www.epilepsyfoundationmn.org
SUMMARY:Parents/Caregivers of a Nonverbal Child with Epilepsy Peer Led Connect Group
DESCRIPTION:Join other parents/caregivers of a nonverbal child with epilepsy for a space to share your experiences and support and encourage one another. This group meets quarterly over Zoom\, and it is led by EFMN volunteers Joel Virtue and Carissa Burns. To RSVP or ask questions\, you can reach Joel by email at joeljvirtue@gmail.com or text/call at (612) 730-0351  or Carissa at crpfarr@gmail.com or 612-644-9201  Find them on Facebook: https://www.facebook.com/nonverbalepilepsykids
URL:https://www.epilepsyfoundationmn.org/event/parents-caregivers-of-a-nonverbal-child-with-epilepsy-peer-led-connect-group-3/
LOCATION:Virtual Event via Zoom Meeting
CATEGORIES:Virtual
END:VEVENT
BEGIN:VEVENT
DTSTART;TZID=America/Chicago:20260310T190000
DTEND;TZID=America/Chicago:20260310T200000
DTSTAMP:20260422T140749
CREATED:20260217T171610Z
LAST-MODIFIED:20260217T172626Z
UID:55925-1773169200-1773172800@www.epilepsyfoundationmn.org
SUMMARY:Parenting with Epilepsy Peer Led Connect Group
DESCRIPTION:Adults parenting while living with epilepsy are\ninvited to come together to meet others\, share the triumphs and challenges of living with seizures and connect with those who understand the epilepsy journey.   Significant others and children of the adult with epilepsy are welcome to join the meeting with their person.   For questions or to RSVP\, please contact Kelly Schaefer at kelannschaefer@gmail.com or 952.412.1904 or KariAnn Buntrock at buntrock@bektel.com or 701.400.9017.\nFind them on Facebook:  https://www.facebook.com/groups/parentswithepilepsy/?ref=share&mibextid=NSMWBT
URL:https://www.epilepsyfoundationmn.org/event/parenting-with-epilepsy-peer-led-connect-group-9/
LOCATION:Virtual Event via Zoom Meeting
CATEGORIES:Virtual
END:VEVENT
BEGIN:VEVENT
DTSTART;TZID=America/Chicago:20260317T173000
DTEND;TZID=America/Chicago:20260317T183000
DTSTAMP:20260422T140749
CREATED:20260204T174246Z
LAST-MODIFIED:20260204T174352Z
UID:55859-1773768600-1773772200@www.epilepsyfoundationmn.org
SUMMARY:Spanish Connect Group
DESCRIPTION:La epilepsia puede ser una condición aislante sin el apoyo de otros\, pero creemos que nadie debería tener que enfrentar la epilepsia solo. Esta reunión virtual es una oportunidad para conectarse con otras personas hispanohablantes\, compartir experiencias y dar/recibir apoyo. Son bienvenidos personas con epilepsia\, cuidadores\, padres\, u otros seres queridos de alguien con epilepsia. Si tiene preguntas\, por favor contacte a Angela (651-368-6209\, llamada/texto). enlace de zoom: https://us02web.zoom.us/j/82188284802
URL:https://www.epilepsyfoundationmn.org/event/spanish-connect-group-13/
LOCATION:Virtual Event via Zoom Meeting
CATEGORIES:Virtual
END:VEVENT
BEGIN:VEVENT
DTSTART;TZID=America/Chicago:20260319T183000
DTEND;TZID=America/Chicago:20260319T193000
DTSTAMP:20260422T140749
CREATED:20260204T180727Z
LAST-MODIFIED:20260204T181721Z
UID:55864-1773945000-1773948600@www.epilepsyfoundationmn.org
SUMMARY:Parent/Caregiver Connect Group
DESCRIPTION:Meet other parents\, grandparents\, and caregivers who live day-to-day caring for a child with seizures and/or epilepsy. This is an opportunity to meet others\, offer peer-to-peer support\, share resources and experiences\, and talk honestly about the triumphs and challenges of a child’s epilepsy journey. For more information\, please contact Lisa Necastro at Lisa.necastro@efmn.org or 651-287-2358.
URL:https://www.epilepsyfoundationmn.org/event/parent-caregiver-connect-group-13/
LOCATION:Virtual Event via Zoom Meeting
CATEGORIES:Virtual
ORGANIZER;CN="Lisa Necastro":MAILTO:lisa.necastro@efmn.org
END:VEVENT
BEGIN:VEVENT
DTSTART;TZID=America/Chicago:20260326T183000
DTEND;TZID=America/Chicago:20260326T193000
DTSTAMP:20260422T140749
CREATED:20260204T183433Z
LAST-MODIFIED:20260204T184633Z
UID:55867-1774549800-1774553400@www.epilepsyfoundationmn.org
SUMMARY:Adult Connect Group
DESCRIPTION:Adults living with epilepsy come together to meet others\, share the triumphs and challenges of living with seizures and connect with those who understand the epilepsy journey. For more information\, please contact Lisa Peterson at Lisa.peterson@efmn.org or 218-624-1330.
URL:https://www.epilepsyfoundationmn.org/event/adult-connect-group-17/
LOCATION:Virtual Event via Zoom Meeting
CATEGORIES:Virtual
ORGANIZER;CN="Lisa Peterson":MAILTO:lisa.peterson@efmn.org
END:VEVENT
END:VCALENDAR