BEGIN:VCALENDAR
VERSION:2.0
PRODID:-//Epilepsy Foundation of Minnesota - ECPv6.15.13//NONSGML v1.0//EN
CALSCALE:GREGORIAN
METHOD:PUBLISH
X-ORIGINAL-URL:https://www.epilepsyfoundationmn.org
X-WR-CALDESC:Events for Epilepsy Foundation of Minnesota
REFRESH-INTERVAL;VALUE=DURATION:PT1H
X-Robots-Tag:noindex
X-PUBLISHED-TTL:PT1H
BEGIN:VTIMEZONE
TZID:America/Chicago
BEGIN:DAYLIGHT
TZOFFSETFROM:-0600
TZOFFSETTO:-0500
TZNAME:CDT
DTSTART:20240310T080000
END:DAYLIGHT
BEGIN:STANDARD
TZOFFSETFROM:-0500
TZOFFSETTO:-0600
TZNAME:CST
DTSTART:20241103T070000
END:STANDARD
BEGIN:DAYLIGHT
TZOFFSETFROM:-0600
TZOFFSETTO:-0500
TZNAME:CDT
DTSTART:20250309T080000
END:DAYLIGHT
BEGIN:STANDARD
TZOFFSETFROM:-0500
TZOFFSETTO:-0600
TZNAME:CST
DTSTART:20251102T070000
END:STANDARD
BEGIN:DAYLIGHT
TZOFFSETFROM:-0600
TZOFFSETTO:-0500
TZNAME:CDT
DTSTART:20260308T080000
END:DAYLIGHT
BEGIN:STANDARD
TZOFFSETFROM:-0500
TZOFFSETTO:-0600
TZNAME:CST
DTSTART:20261101T070000
END:STANDARD
END:VTIMEZONE
BEGIN:VEVENT
DTSTART;TZID=America/Chicago:20251108T090000
DTEND;TZID=America/Chicago:20251108T110000
DTSTAMP:20260420T101344
CREATED:20250929T155313Z
LAST-MODIFIED:20250929T155313Z
UID:54974-1762592400-1762599600@www.epilepsyfoundationmn.org
SUMMARY:Twin Cities Creative Writing Group for Individuals Impacted by Epilepsy Peer Led Connect
DESCRIPTION:Individuals impacted by epilepsy are welcome to join Babs Larson\, retired librarian and author living with epilepsy to connect with others as part of creative writing group that meets monthly in Minneapolis at Mojo Coffee Gallery. Bring your notebook or computer\, and food and beverage are available for purchase.  Please contact Babs Larson to ask questions at babsandbeijing@icloud.com  or (612) 231-4373.
URL:https://www.epilepsyfoundationmn.org/event/twin-cities-creative-writing-group-for-individuals-impacted-by-epilepsy-peer-led-connect/
LOCATION:Mojo Coffee Gallery 2205 California St NE\, Minneapolis\, MN 55418
CATEGORIES:Twin Cities Region
END:VEVENT
BEGIN:VEVENT
DTSTART;TZID=America/Chicago:20251108T140000
DTEND;TZID=America/Chicago:20251108T160000
DTSTAMP:20260420T101344
CREATED:20250915T162452Z
LAST-MODIFIED:20250915T162452Z
UID:54804-1762610400-1762617600@www.epilepsyfoundationmn.org
SUMMARY:Creative Arts Program
DESCRIPTION: Join art therapist leaders at the Adler Graduate School Open Art Studio for bi-weekly sessions of creative expression and social engagement through art. Individuals living with epilepsy ages 12 and up can focus on their own artwork or follow guided projects using different art mediums each session. Family members over 12 are welcome to participate as well. No creative skills are required.\n\nCreative Arts Dates: October 11th\, October 25th\, November 8th\, November 22nd\, December 6th\, January 17th\, January 31st\, February 14th\, February 28th\, March 14th. Attendance at each session is not required but preference will be given to those who can committ to the most sessions.\n\nCost: Free\n\nContact Pat Welch at Patricia.Welch@Alfredadler.edu or 651-983-5966 to register and/or ask questions.
URL:https://www.epilepsyfoundationmn.org/event/creative-arts-program-3/
LOCATION:Adler Graduate School\, 10225 Yellow Circle Drive\, Minnetonka\, MN\, 55343
CATEGORIES:Twin Cities Region
END:VEVENT
BEGIN:VEVENT
DTSTART;TZID=America/Chicago:20251122T140000
DTEND;TZID=America/Chicago:20251122T160000
DTSTAMP:20260420T101344
CREATED:20250915T162723Z
LAST-MODIFIED:20250915T162723Z
UID:54809-1763820000-1763827200@www.epilepsyfoundationmn.org
SUMMARY:Creative Arts Program
DESCRIPTION: Join art therapist leaders at the Adler Graduate School Open Art Studio for bi-weekly sessions of creative expression and social engagement through art. Individuals living with epilepsy ages 12 and up can focus on their own artwork or follow guided projects using different art mediums each session. Family members over 12 are welcome to participate as well. No creative skills are required.\n\nCreative Arts Dates: October 11th\, October 25th\, November 8th\, November 22nd\, December 6th\, January 17th\, January 31st\, February 14th\, February 28th\, March 14th. Attendance at each session is not required but preference will be given to those who can committ to the most sessions.\n\nCost: Free\n\nContact Pat Welch at Patricia.Welch@Alfredadler.edu or 651-983-5966 to register and/or ask questions.
URL:https://www.epilepsyfoundationmn.org/event/creative-arts-program-4/
LOCATION:Adler Graduate School\, 10225 Yellow Circle Drive\, Minnetonka\, MN\, 55343
CATEGORIES:Twin Cities Region
END:VEVENT
END:VCALENDAR