BEGIN:VCALENDAR
VERSION:2.0
PRODID:-//Epilepsy Foundation of Minnesota - ECPv6.15.20//NONSGML v1.0//EN
CALSCALE:GREGORIAN
METHOD:PUBLISH
X-ORIGINAL-URL:https://www.epilepsyfoundationmn.org
X-WR-CALDESC:Events for Epilepsy Foundation of Minnesota
REFRESH-INTERVAL;VALUE=DURATION:PT1H
X-Robots-Tag:noindex
X-PUBLISHED-TTL:PT1H
BEGIN:VTIMEZONE
TZID:America/Chicago
BEGIN:DAYLIGHT
TZOFFSETFROM:-0600
TZOFFSETTO:-0500
TZNAME:CDT
DTSTART:20210314T080000
END:DAYLIGHT
BEGIN:STANDARD
TZOFFSETFROM:-0500
TZOFFSETTO:-0600
TZNAME:CST
DTSTART:20211107T070000
END:STANDARD
BEGIN:DAYLIGHT
TZOFFSETFROM:-0600
TZOFFSETTO:-0500
TZNAME:CDT
DTSTART:20220313T080000
END:DAYLIGHT
BEGIN:STANDARD
TZOFFSETFROM:-0500
TZOFFSETTO:-0600
TZNAME:CST
DTSTART:20221106T070000
END:STANDARD
BEGIN:DAYLIGHT
TZOFFSETFROM:-0600
TZOFFSETTO:-0500
TZNAME:CDT
DTSTART:20230312T080000
END:DAYLIGHT
BEGIN:STANDARD
TZOFFSETFROM:-0500
TZOFFSETTO:-0600
TZNAME:CST
DTSTART:20231105T070000
END:STANDARD
END:VTIMEZONE
BEGIN:VEVENT
DTSTART;TZID=America/Chicago:20220207T183000
DTEND;TZID=America/Chicago:20220207T193000
DTSTAMP:20260424T085943
CREATED:20220121T204639Z
LAST-MODIFIED:20220121T205247Z
UID:46654-1644258600-1644262200@www.epilepsyfoundationmn.org
SUMMARY:Adult Virtual Social Event: Create and Chat
DESCRIPTION:Adults living with epilepsy are invited to gather virtually for a time to get creative and connect. Join us with whatever project or creative activity you enjoy – knitting\, coloring\, scrapbooking\, origami – anything goes! Don’t have a current project? Join us to get new ideas and learn a new craft that only requires paper and scissors. We’ll have a chance to share our chosen creative activity or project and chat about life as we create from our own homes. \n\nIf you have questions\, please contact East Metro Regional Outreach Manager Angela Bowles Edwards at abedwards@efmn.org or 651.287.2315.\n\n\nTo provide the best experience possible\, we need a few things from you. Before registering for this event\, please make sure you have the following:\n\n 	A device that enables you to communicate with others – through a computer\, tablet\, or phone. A camera is preferred so that you can see others and they can see you\, but it is not required.
URL:https://www.epilepsyfoundationmn.org/event/adult-virtual-social-event-create-and-chat/
LOCATION:Virtual Event via Zoom Meeting
CATEGORIES:Duluth Region,Fargo/Moorhead Region,Rochester Region,St Cloud Region,Twin Cities Region,Virtual
END:VEVENT
END:VCALENDAR