BEGIN:VCALENDAR
VERSION:2.0
PRODID:-//Epilepsy Foundation of Minnesota - ECPv6.15.13//NONSGML v1.0//EN
CALSCALE:GREGORIAN
METHOD:PUBLISH
X-WR-CALNAME:Epilepsy Foundation of Minnesota
X-ORIGINAL-URL:https://www.epilepsyfoundationmn.org
X-WR-CALDESC:Events for Epilepsy Foundation of Minnesota
REFRESH-INTERVAL;VALUE=DURATION:PT1H
X-Robots-Tag:noindex
X-PUBLISHED-TTL:PT1H
BEGIN:VTIMEZONE
TZID:America/Chicago
BEGIN:DAYLIGHT
TZOFFSETFROM:-0600
TZOFFSETTO:-0500
TZNAME:CDT
DTSTART:20200308T080000
END:DAYLIGHT
BEGIN:STANDARD
TZOFFSETFROM:-0500
TZOFFSETTO:-0600
TZNAME:CST
DTSTART:20201101T070000
END:STANDARD
BEGIN:DAYLIGHT
TZOFFSETFROM:-0600
TZOFFSETTO:-0500
TZNAME:CDT
DTSTART:20210314T080000
END:DAYLIGHT
BEGIN:STANDARD
TZOFFSETFROM:-0500
TZOFFSETTO:-0600
TZNAME:CST
DTSTART:20211107T070000
END:STANDARD
BEGIN:DAYLIGHT
TZOFFSETFROM:-0600
TZOFFSETTO:-0500
TZNAME:CDT
DTSTART:20220313T080000
END:DAYLIGHT
BEGIN:STANDARD
TZOFFSETFROM:-0500
TZOFFSETTO:-0600
TZNAME:CST
DTSTART:20221106T070000
END:STANDARD
END:VTIMEZONE
BEGIN:VEVENT
DTSTART;TZID=America/Chicago:20211113T100000
DTEND;TZID=America/Chicago:20211113T110000
DTSTAMP:20260422T213227
CREATED:20210803T001154Z
LAST-MODIFIED:20210803T001213Z
UID:44734-1636797600-1636801200@www.epilepsyfoundationmn.org
SUMMARY:Open to Everyone Virtual Connect Group
DESCRIPTION:All are welcome to come together for peer-to-peer support\, connecting with others\, sharing resources\, and spending time in honest conversation about the epilepsy journey.  This group is open to anyone who has a connection to epilepsy\, including but not limited to\, individuals living with epilepsy\, caregivers and parents\, those who have loved ones living with epilepsy\, and people who work with individuals diagnosed with epilepsy. For more information\, contact Erik Williams at ewilliams@efmn.org or 651-262-9345.\n\n\n\nIn order to ensure we can provide the best experience possible\, we need a few things from you. Before registering for this group\, please make sure you have the following:\n\n 	A device that enables you to communicate with others – through a computer\, tablet\, or phone. A camera is preferred so that you can see others and they can see you\, but it is not required.\n 	Pair of headphones and a quiet space in your home. This is to ensure confidentiality and to provide you with the best experience as a member of the group.\n\n\n\n\nEmergency Contact Information: Should a seizure or other medical situation arise for you during the group time\, we need to have access to an emergency contact (name and phone number)\, and your physical location address. This information is not shared outside of EFMN staff unless they need to contact EMS services to respond to your home to provide medical care.
URL:https://www.epilepsyfoundationmn.org/event/open-to-everyone-11-13/
LOCATION:MN
CATEGORIES:Duluth Region,Fargo/Moorhead Region,Rochester Region,St Cloud Region,Twin Cities Region
END:VEVENT
END:VCALENDAR