BEGIN:VCALENDAR
VERSION:2.0
PRODID:-//Epilepsy Foundation of Minnesota - ECPv6.15.13//NONSGML v1.0//EN
CALSCALE:GREGORIAN
METHOD:PUBLISH
X-ORIGINAL-URL:https://www.epilepsyfoundationmn.org
X-WR-CALDESC:Events for Epilepsy Foundation of Minnesota
REFRESH-INTERVAL;VALUE=DURATION:PT1H
X-Robots-Tag:noindex
X-PUBLISHED-TTL:PT1H
BEGIN:VTIMEZONE
TZID:America/Chicago
BEGIN:DAYLIGHT
TZOFFSETFROM:-0600
TZOFFSETTO:-0500
TZNAME:CDT
DTSTART:20200308T080000
END:DAYLIGHT
BEGIN:STANDARD
TZOFFSETFROM:-0500
TZOFFSETTO:-0600
TZNAME:CST
DTSTART:20201101T070000
END:STANDARD
BEGIN:DAYLIGHT
TZOFFSETFROM:-0600
TZOFFSETTO:-0500
TZNAME:CDT
DTSTART:20210314T080000
END:DAYLIGHT
BEGIN:STANDARD
TZOFFSETFROM:-0500
TZOFFSETTO:-0600
TZNAME:CST
DTSTART:20211107T070000
END:STANDARD
BEGIN:DAYLIGHT
TZOFFSETFROM:-0600
TZOFFSETTO:-0500
TZNAME:CDT
DTSTART:20220313T080000
END:DAYLIGHT
BEGIN:STANDARD
TZOFFSETFROM:-0500
TZOFFSETTO:-0600
TZNAME:CST
DTSTART:20221106T070000
END:STANDARD
END:VTIMEZONE
BEGIN:VEVENT
DTSTART;TZID=America/Chicago:20211109T183000
DTEND;TZID=America/Chicago:20211109T194500
DTSTAMP:20260423T031121
CREATED:20211019T182130Z
LAST-MODIFIED:20211019T182149Z
UID:45565-1636482600-1636487100@www.epilepsyfoundationmn.org
SUMMARY:Webinar: Accessing Healthcare in Epilepsy That’s Right for You
DESCRIPTION:Choosing the appropriate level of medical care can make a major difference in the successful management of epilepsy\, but many people are unaware of their options or unsure about which type of healthcare provider is best for them. In this webinar\, Dr. Katherine Nickels of Mayo Clinic will explore the various types of providers and care settings available for the treatment of epilepsy\, when it’s time to seek out a specialist or comprehensive epilepsy center\, and how to access the care that best meets your needs.\n\n \n\nREGISTER HERE
URL:https://www.epilepsyfoundationmn.org/event/webinar-accessing-healthcare-in-epilepsy-thats-right-for-you/
LOCATION:MN
CATEGORIES:Duluth Region,Fargo/Moorhead Region,Rochester Region,St Cloud Region,Twin Cities Region
END:VEVENT
END:VCALENDAR