BEGIN:VCALENDAR
VERSION:2.0
PRODID:-//Epilepsy Foundation of Minnesota - ECPv6.15.13//NONSGML v1.0//EN
CALSCALE:GREGORIAN
METHOD:PUBLISH
X-WR-CALNAME:Epilepsy Foundation of Minnesota
X-ORIGINAL-URL:https://www.epilepsyfoundationmn.org
X-WR-CALDESC:Events for Epilepsy Foundation of Minnesota
REFRESH-INTERVAL;VALUE=DURATION:PT1H
X-Robots-Tag:noindex
X-PUBLISHED-TTL:PT1H
BEGIN:VTIMEZONE
TZID:America/Chicago
BEGIN:DAYLIGHT
TZOFFSETFROM:-0600
TZOFFSETTO:-0500
TZNAME:CDT
DTSTART:20200308T080000
END:DAYLIGHT
BEGIN:STANDARD
TZOFFSETFROM:-0500
TZOFFSETTO:-0600
TZNAME:CST
DTSTART:20201101T070000
END:STANDARD
BEGIN:DAYLIGHT
TZOFFSETFROM:-0600
TZOFFSETTO:-0500
TZNAME:CDT
DTSTART:20210314T080000
END:DAYLIGHT
BEGIN:STANDARD
TZOFFSETFROM:-0500
TZOFFSETTO:-0600
TZNAME:CST
DTSTART:20211107T070000
END:STANDARD
BEGIN:DAYLIGHT
TZOFFSETFROM:-0600
TZOFFSETTO:-0500
TZNAME:CDT
DTSTART:20220313T080000
END:DAYLIGHT
BEGIN:STANDARD
TZOFFSETFROM:-0500
TZOFFSETTO:-0600
TZNAME:CST
DTSTART:20221106T070000
END:STANDARD
END:VTIMEZONE
BEGIN:VEVENT
DTSTART;TZID=America/Chicago:20211027T181500
DTEND;TZID=America/Chicago:20211027T193000
DTSTAMP:20260423T065023
CREATED:20210429T205143Z
LAST-MODIFIED:20211026T145639Z
UID:43767-1635358500-1635363000@www.epilepsyfoundationmn.org
SUMMARY:Wellness Wednesday Webinar Series: Employment and Epilepsy
DESCRIPTION:Title I of the Americans with Disabilities Act of 1990 prohibits private employers\, State and local governments\, employment agencies\, and labor unions from discriminating against qualified individuals with disabilities in job application procedures\, hiring\, firing\, advancement\, compensation\, job training\, and other terms\, conditions\, and privileges of employment. We welcome Cindy Tarshish\, Director of ADA Minnesota to provide information on the ADA\, disability definition\, disclosure\, reasonable accommodation\, and local and national resources for individuals who have epilepsy.\n\nRegister Today!
URL:https://www.epilepsyfoundationmn.org/event/wellness-wednesday-webinar-series-employment-and-epilepsy/
LOCATION:MN
CATEGORIES:Duluth Region,Fargo/Moorhead Region,Rochester Region,St Cloud Region,Twin Cities Region
END:VEVENT
END:VCALENDAR