BEGIN:VCALENDAR
VERSION:2.0
PRODID:-//Epilepsy Foundation of Minnesota - ECPv6.15.20//NONSGML v1.0//EN
CALSCALE:GREGORIAN
METHOD:PUBLISH
X-ORIGINAL-URL:https://www.epilepsyfoundationmn.org
X-WR-CALDESC:Events for Epilepsy Foundation of Minnesota
REFRESH-INTERVAL;VALUE=DURATION:PT1H
X-Robots-Tag:noindex
X-PUBLISHED-TTL:PT1H
BEGIN:VTIMEZONE
TZID:America/Chicago
BEGIN:DAYLIGHT
TZOFFSETFROM:-0600
TZOFFSETTO:-0500
TZNAME:CDT
DTSTART:20190310T080000
END:DAYLIGHT
BEGIN:STANDARD
TZOFFSETFROM:-0500
TZOFFSETTO:-0600
TZNAME:CST
DTSTART:20191103T070000
END:STANDARD
BEGIN:DAYLIGHT
TZOFFSETFROM:-0600
TZOFFSETTO:-0500
TZNAME:CDT
DTSTART:20200308T080000
END:DAYLIGHT
BEGIN:STANDARD
TZOFFSETFROM:-0500
TZOFFSETTO:-0600
TZNAME:CST
DTSTART:20201101T070000
END:STANDARD
BEGIN:DAYLIGHT
TZOFFSETFROM:-0600
TZOFFSETTO:-0500
TZNAME:CDT
DTSTART:20210314T080000
END:DAYLIGHT
BEGIN:STANDARD
TZOFFSETFROM:-0500
TZOFFSETTO:-0600
TZNAME:CST
DTSTART:20211107T070000
END:STANDARD
END:VTIMEZONE
BEGIN:VEVENT
DTSTART;TZID=America/Chicago:20200812T110000
DTEND;TZID=America/Chicago:20200812T120000
DTSTAMP:20260424T092129
CREATED:20200715T221230Z
LAST-MODIFIED:20200717T031529Z
UID:39635-1597230000-1597233600@www.epilepsyfoundationmn.org
SUMMARY:Caring for One's Mental Health Webinar
DESCRIPTION:During this webinar\, Dr. Heck will discuss common difficulties that children and adults experience while living with epilepsy. He will emphasize the importance of taking care of one’s mental health as well as their seizure control and will assist the audience in understanding the conditions of depression\, anxiety\, and low self-esteem in people with epilepsy. He will provide examples and strategies for developing effective coping strategies\, how to utilize one’s strengths\, and ways to enhance one’s self-esteem.\n\n\n\nRegister here!
URL:https://www.epilepsyfoundationmn.org/event/living-with-epilepsy-caring-for-ones-mental-health/
LOCATION:MN
CATEGORIES:Duluth Region,Fargo/Moorhead Region,Rochester Region,St Cloud Region,Twin Cities Region
END:VEVENT
END:VCALENDAR