BEGIN:VCALENDAR
VERSION:2.0
PRODID:-//Epilepsy Foundation of Minnesota - ECPv6.15.20//NONSGML v1.0//EN
CALSCALE:GREGORIAN
METHOD:PUBLISH
X-ORIGINAL-URL:https://www.epilepsyfoundationmn.org
X-WR-CALDESC:Events for Epilepsy Foundation of Minnesota
REFRESH-INTERVAL;VALUE=DURATION:PT1H
X-Robots-Tag:noindex
X-PUBLISHED-TTL:PT1H
BEGIN:VTIMEZONE
TZID:America/Chicago
BEGIN:DAYLIGHT
TZOFFSETFROM:-0600
TZOFFSETTO:-0500
TZNAME:CDT
DTSTART:20190310T080000
END:DAYLIGHT
BEGIN:STANDARD
TZOFFSETFROM:-0500
TZOFFSETTO:-0600
TZNAME:CST
DTSTART:20191103T070000
END:STANDARD
BEGIN:DAYLIGHT
TZOFFSETFROM:-0600
TZOFFSETTO:-0500
TZNAME:CDT
DTSTART:20200308T080000
END:DAYLIGHT
BEGIN:STANDARD
TZOFFSETFROM:-0500
TZOFFSETTO:-0600
TZNAME:CST
DTSTART:20201101T070000
END:STANDARD
BEGIN:DAYLIGHT
TZOFFSETFROM:-0600
TZOFFSETTO:-0500
TZNAME:CDT
DTSTART:20210314T080000
END:DAYLIGHT
BEGIN:STANDARD
TZOFFSETFROM:-0500
TZOFFSETTO:-0600
TZNAME:CST
DTSTART:20211107T070000
END:STANDARD
END:VTIMEZONE
BEGIN:VEVENT
DTSTART;TZID=America/Chicago:20200623T123000
DTEND;TZID=America/Chicago:20200623T130000
DTSTAMP:20260424T092138
CREATED:20200512T193850Z
LAST-MODIFIED:20200512T204909Z
UID:38134-1592915400-1592917200@www.epilepsyfoundationmn.org
SUMMARY:Basic Seizure Smart Webinar (30 minutes)
DESCRIPTION:This condensed 30-minute version of EFMN’s Seizure Smart Training goes over general seizure recognition and response basics\, while also being quick and easy to fit into busy schedules. (This training does not qualify for CEUs. Visit efmn.org to find CEU options that may work for you.) \n\nRegister here: https://attendee.gotowebinar.com/register/1087568039821432333
URL:https://www.epilepsyfoundationmn.org/event/basic-seizure-smart-webinar-30-minutes-2/
LOCATION:MN
CATEGORIES:Duluth Region,Fargo/Moorhead Region,Rochester Region,St Cloud Region,Twin Cities Region
END:VEVENT
BEGIN:VEVENT
DTSTART;TZID=America/Chicago:20200623T180000
DTEND;TZID=America/Chicago:20200623T190000
DTSTAMP:20260424T092138
CREATED:20200512T214109Z
LAST-MODIFIED:20200623T152138Z
UID:38150-1592935200-1592938800@www.epilepsyfoundationmn.org
SUMMARY:Virtual Social Group Activity: Talent Show
DESCRIPTION:Stay connected during this “safe at home” time and join EFMN’s Virtual Talent Show! Do you have a hidden talent that you want to show the rest of the world? Now’s your chance. EFMN is calling on all performers for our first ever EFMN Talent Show!\n\nJoin us on June 23rd at 6pm for a showcase of everyone’s talents. We will show pre-submitted videos or pictures of people’s talents during the Talent Show\, so no need to work up your anxiety or stage fright! Instructions on how to participate as a performer:\n\n 	Register on the EFMN calendar\n 	Follow the instructions on your confirmation email on how to record/photograph and submit your talent\n 	During the event\, you will introduce yourself and describe your talent before we play your submission.\n\nSome example talents include\, but are not limited to\, juggling\, singing\, showing off your recent quarantine baking achievements\, paintings\, pet talents. Whatever achievement or ability you want to share!\n\nDeadline for submissions is June 21st.\n\nAdults\, teens\, and families living with epilepsy are invited to join us in sharing our talents while creating connections with others from across our service area. Contact Erik Williams with any questions at ewilliams@efmn.org or 651-262-9345.
URL:https://www.epilepsyfoundationmn.org/event/virtual-social-group-activity-talent-show/
LOCATION:MN
CATEGORIES:Duluth Region,Fargo/Moorhead Region,Rochester Region,St Cloud Region,Twin Cities Region
END:VEVENT
END:VCALENDAR