BEGIN:VCALENDAR
VERSION:2.0
PRODID:-//Epilepsy Foundation of Minnesota - ECPv6.15.13//NONSGML v1.0//EN
CALSCALE:GREGORIAN
METHOD:PUBLISH
X-ORIGINAL-URL:https://www.epilepsyfoundationmn.org
X-WR-CALDESC:Events for Epilepsy Foundation of Minnesota
REFRESH-INTERVAL;VALUE=DURATION:PT1H
X-Robots-Tag:noindex
X-PUBLISHED-TTL:PT1H
BEGIN:VTIMEZONE
TZID:America/Chicago
BEGIN:DAYLIGHT
TZOFFSETFROM:-0600
TZOFFSETTO:-0500
TZNAME:CDT
DTSTART:20200308T080000
END:DAYLIGHT
BEGIN:STANDARD
TZOFFSETFROM:-0500
TZOFFSETTO:-0600
TZNAME:CST
DTSTART:20201101T070000
END:STANDARD
BEGIN:DAYLIGHT
TZOFFSETFROM:-0600
TZOFFSETTO:-0500
TZNAME:CDT
DTSTART:20210314T080000
END:DAYLIGHT
BEGIN:STANDARD
TZOFFSETFROM:-0500
TZOFFSETTO:-0600
TZNAME:CST
DTSTART:20211107T070000
END:STANDARD
BEGIN:DAYLIGHT
TZOFFSETFROM:-0600
TZOFFSETTO:-0500
TZNAME:CDT
DTSTART:20220313T080000
END:DAYLIGHT
BEGIN:STANDARD
TZOFFSETFROM:-0500
TZOFFSETTO:-0600
TZNAME:CST
DTSTART:20221106T070000
END:STANDARD
END:VTIMEZONE
BEGIN:VEVENT
DTSTART;TZID=America/Chicago:20211214T183000
DTEND;TZID=America/Chicago:20211214T193000
DTSTAMP:20260423T044910
CREATED:20211103T053046Z
LAST-MODIFIED:20211103T053046Z
UID:45813-1639506600-1639510200@www.epilepsyfoundationmn.org
SUMMARY:Teen Virtual Connect Group
DESCRIPTION:This space is for teens with epilepsy to meet others who understand the journey they’re on. Join us to hang out\, make new friends\, and talk about growing up and living with epilepsy. For more information\, contact Angela Bowles Edwards at abedwards@efmn.org or 651-368-6209.\n\n\n\nIn order to ensure we can provide the best experience possible\, we need a few things from you. Before registering for this group\, please make sure you have the following:\n\n 	A device that enables you to communicate with others – through a computer\, tablet\, or phone. A camera is preferred so that you can see others and they can see you\, but it is not required.\n 	Pair of headphones and a quiet space in your home. This is to ensure confidentiality and to provide you with the best experience as a member of the group.\n\n\n\n\nEmergency Contact Information: Should a seizure or other medical situation arise for you during the group time\, we need to have access to an emergency contact (name and phone number)\, and your physical location address. This information is not shared outside of EFMN staff unless they need to contact EMS services to respond to your home to provide medical care.
URL:https://www.epilepsyfoundationmn.org/event/teen-virtual-connect-group-1214/
LOCATION:MN
CATEGORIES:Duluth Region,Fargo/Moorhead Region,Rochester Region,St Cloud Region,Twin Cities Region
END:VEVENT
BEGIN:VEVENT
DTSTART;TZID=America/Chicago:20211216T183000
DTEND;TZID=America/Chicago:20211216T193000
DTSTAMP:20260423T044910
CREATED:20211103T043148Z
LAST-MODIFIED:20211103T043408Z
UID:45807-1639679400-1639683000@www.epilepsyfoundationmn.org
SUMMARY:Parent Virtual Connect Group
DESCRIPTION:Meet other parents\, grandparents\, and caregivers who live day-to-day caring for a child with seizures and/or epilepsy. This is an opportunity to meet others\, offer peer-to-peer support\, share resources and experiences\, and talk honestly about the triumphs and challenges of a child’s epilepsy journey. For more information\, contact Amy Haugen at amy.haugen@efmn.org or 320-203-9722.\n\n\n\nIn order to ensure we can provide the best experience possible\, we need a few things from you. Before registering for this group\, please make sure you have the following:\n\n 	A device that enables you to communicate with others – through a computer\, tablet\, or phone. A camera is preferred so that you can see others and they can see you\, but it is not required.\n 	Pair of headphones and a quiet space in your home. This is to ensure confidentiality and to provide you with the best experience as a member of the group.\n\n\n\n\nEmergency Contact Information: Should a seizure or other medical situation arise for you during the group time\, we need to have access to an emergency contact (name and phone number)\, and your physical location address. This information is not shared outside of EFMN staff unless they need to contact EMS services to respond to your home to provide medical care.
URL:https://www.epilepsyfoundationmn.org/event/parent-virtual-connect-group-9/
LOCATION:MN
CATEGORIES:Duluth Region,Fargo/Moorhead Region,Rochester Region,St Cloud Region,Twin Cities Region
END:VEVENT
BEGIN:VEVENT
DTSTART;TZID=America/Chicago:20211221T183000
DTEND;TZID=America/Chicago:20211221T193000
DTSTAMP:20260423T044910
CREATED:20211103T044449Z
LAST-MODIFIED:20211103T050842Z
UID:45811-1640111400-1640115000@www.epilepsyfoundationmn.org
SUMMARY:Adult Virtual Connect Group
DESCRIPTION:Adults living with epilepsy come together to meet others\, share the triumphs and challenges of living with seizures and connect with those who understand the epilepsy journey. For more information\, contact Martin Hernandez at mhernandez@efmn.org or 507-287-2103.\n\n\n\nIn order to ensure we can provide the best experience possible\, we need a few things from you. Before registering for this group\, please make sure you have the following:\n\n 	A device that enables you to communicate with others – through a computer\, tablet\, or phone. A camera is preferred so that you can see others and they can see you\, but it is not required.\n 	Pair of headphones and a quiet space in your home. This is to ensure confidentiality and to provide you with the best experience as a member of the group.\n\n\n\n\nEmergency Contact Information: Should a seizure or other medical situation arise for you during the group time\, we need to have access to an emergency contact (name and phone number)\, and your physical location address. This information is not shared outside of EFMN staff unless they need to contact EMS services to respond to your home to provide medical care.
URL:https://www.epilepsyfoundationmn.org/event/adult-virtual-connect-group-7/
LOCATION:MN
CATEGORIES:Duluth Region,Fargo/Moorhead Region,Rochester Region,St Cloud Region,Twin Cities Region
END:VEVENT
END:VCALENDAR