BEGIN:VCALENDAR
VERSION:2.0
PRODID:-//Epilepsy Foundation of Minnesota - ECPv6.15.13//NONSGML v1.0//EN
CALSCALE:GREGORIAN
METHOD:PUBLISH
X-ORIGINAL-URL:https://www.epilepsyfoundationmn.org
X-WR-CALDESC:Events for Epilepsy Foundation of Minnesota
REFRESH-INTERVAL;VALUE=DURATION:PT1H
X-Robots-Tag:noindex
X-PUBLISHED-TTL:PT1H
BEGIN:VTIMEZONE
TZID:America/Chicago
BEGIN:DAYLIGHT
TZOFFSETFROM:-0600
TZOFFSETTO:-0500
TZNAME:CDT
DTSTART:20200308T080000
END:DAYLIGHT
BEGIN:STANDARD
TZOFFSETFROM:-0500
TZOFFSETTO:-0600
TZNAME:CST
DTSTART:20201101T070000
END:STANDARD
BEGIN:DAYLIGHT
TZOFFSETFROM:-0600
TZOFFSETTO:-0500
TZNAME:CDT
DTSTART:20210314T080000
END:DAYLIGHT
BEGIN:STANDARD
TZOFFSETFROM:-0500
TZOFFSETTO:-0600
TZNAME:CST
DTSTART:20211107T070000
END:STANDARD
BEGIN:DAYLIGHT
TZOFFSETFROM:-0600
TZOFFSETTO:-0500
TZNAME:CDT
DTSTART:20220313T080000
END:DAYLIGHT
BEGIN:STANDARD
TZOFFSETFROM:-0500
TZOFFSETTO:-0600
TZNAME:CST
DTSTART:20221106T070000
END:STANDARD
END:VTIMEZONE
BEGIN:VEVENT
DTSTART;TZID=America/Chicago:20210630T181500
DTEND;TZID=America/Chicago:20210630T193000
DTSTAMP:20260423T080346
CREATED:20210429T205336Z
LAST-MODIFIED:20210621T181211Z
UID:43769-1625076900-1625081400@www.epilepsyfoundationmn.org
SUMMARY:Wellness Wednesday Webinar Series: Striving for Independence
DESCRIPTION:What does independence mean to you and what tools can help you safely work towards your independence goals? In this webinar\, Kevin Thomas\, MSW and Kelly Mick BA\, will help attendees consider different ways independence can look for individuals living with epilepsy. Along the way\, they’ll explore aspects of navigating housing and home supports\, healthcare\, and transportation through two handy websites: DB101 and HB101.\n\nRegister Today!
URL:https://www.epilepsyfoundationmn.org/event/wellness-wednesday-webinar-series-epilepsy-in-an-educational-setting-environment-webinar/
LOCATION:MN
CATEGORIES:Duluth Region,Fargo/Moorhead Region,Rochester Region,St Cloud Region,Twin Cities Region
END:VEVENT
END:VCALENDAR