BEGIN:VCALENDAR
VERSION:2.0
PRODID:-//Epilepsy Foundation of Minnesota - ECPv6.15.20//NONSGML v1.0//EN
CALSCALE:GREGORIAN
METHOD:PUBLISH
X-WR-CALNAME:Epilepsy Foundation of Minnesota
X-ORIGINAL-URL:https://www.epilepsyfoundationmn.org
X-WR-CALDESC:Events for Epilepsy Foundation of Minnesota
REFRESH-INTERVAL;VALUE=DURATION:PT1H
X-Robots-Tag:noindex
X-PUBLISHED-TTL:PT1H
BEGIN:VTIMEZONE
TZID:America/Chicago
BEGIN:DAYLIGHT
TZOFFSETFROM:-0600
TZOFFSETTO:-0500
TZNAME:CDT
DTSTART:20250309T080000
END:DAYLIGHT
BEGIN:STANDARD
TZOFFSETFROM:-0500
TZOFFSETTO:-0600
TZNAME:CST
DTSTART:20251102T070000
END:STANDARD
BEGIN:DAYLIGHT
TZOFFSETFROM:-0600
TZOFFSETTO:-0500
TZNAME:CDT
DTSTART:20260308T080000
END:DAYLIGHT
BEGIN:STANDARD
TZOFFSETFROM:-0500
TZOFFSETTO:-0600
TZNAME:CST
DTSTART:20261101T070000
END:STANDARD
BEGIN:DAYLIGHT
TZOFFSETFROM:-0600
TZOFFSETTO:-0500
TZNAME:CDT
DTSTART:20270314T080000
END:DAYLIGHT
BEGIN:STANDARD
TZOFFSETFROM:-0500
TZOFFSETTO:-0600
TZNAME:CST
DTSTART:20271107T070000
END:STANDARD
END:VTIMEZONE
BEGIN:VEVENT
DTSTART;TZID=America/Chicago:20260115T180000
DTEND;TZID=America/Chicago:20260115T190000
DTSTAMP:20260424T085051
CREATED:20251212T185709Z
LAST-MODIFIED:20251215T171051Z
UID:55603-1768500000-1768503600@www.epilepsyfoundationmn.org
SUMMARY:Duluth Area Adults with Epilepsy Peer Led Connect
DESCRIPTION:Adults impacted by epilepsy are welcome to attend this monthly peer-led in-person group to meet others who can relate to their experiences of managing epilepsy. The group will meet at an open table\, guests are welcome to order their own food/beverage\, and you can text any or the facilitators listed below to confirm the table location once you arrive. Find them on Facebook: https://www.facebook.com/groups/1575034473435235 Facilitators : Codi Saran:  codig21494@yahoo.com\, 715-250-3993 JhonRae Reeves: jhonrae11@gmail.com\, 218-576-8446 Desiree Gregorich: pugtekk@gmail.com\, 218-310-4885
URL:https://www.epilepsyfoundationmn.org/event/duluth-area-adults-with-epilepsy-peer-led-connect/
LOCATION:Caribou Coffee – Duluth\, 2100 London Rd\, Duluth\, MN\, 55812\, United States
CATEGORIES:Northeast
END:VEVENT
END:VCALENDAR