BEGIN:VCALENDAR
VERSION:2.0
PRODID:-//Epilepsy Foundation of Minnesota - ECPv6.15.13//NONSGML v1.0//EN
CALSCALE:GREGORIAN
METHOD:PUBLISH
X-WR-CALNAME:Epilepsy Foundation of Minnesota
X-ORIGINAL-URL:https://www.epilepsyfoundationmn.org
X-WR-CALDESC:Events for Epilepsy Foundation of Minnesota
REFRESH-INTERVAL;VALUE=DURATION:PT1H
X-Robots-Tag:noindex
X-PUBLISHED-TTL:PT1H
BEGIN:VTIMEZONE
TZID:America/Chicago
BEGIN:DAYLIGHT
TZOFFSETFROM:-0600
TZOFFSETTO:-0500
TZNAME:CDT
DTSTART:20220313T080000
END:DAYLIGHT
BEGIN:STANDARD
TZOFFSETFROM:-0500
TZOFFSETTO:-0600
TZNAME:CST
DTSTART:20221106T070000
END:STANDARD
BEGIN:DAYLIGHT
TZOFFSETFROM:-0600
TZOFFSETTO:-0500
TZNAME:CDT
DTSTART:20230312T080000
END:DAYLIGHT
BEGIN:STANDARD
TZOFFSETFROM:-0500
TZOFFSETTO:-0600
TZNAME:CST
DTSTART:20231105T070000
END:STANDARD
BEGIN:DAYLIGHT
TZOFFSETFROM:-0600
TZOFFSETTO:-0500
TZNAME:CDT
DTSTART:20240310T080000
END:DAYLIGHT
BEGIN:STANDARD
TZOFFSETFROM:-0500
TZOFFSETTO:-0600
TZNAME:CST
DTSTART:20241103T070000
END:STANDARD
END:VTIMEZONE
BEGIN:VEVENT
DTSTART;TZID=America/Chicago:20231121T163000
DTEND;TZID=America/Chicago:20231121T180000
DTSTAMP:20260422T231152
CREATED:20231018T153054Z
LAST-MODIFIED:20231018T153054Z
UID:51936-1700584200-1700589600@www.epilepsyfoundationmn.org
SUMMARY:Moorhead Tree Lighting
DESCRIPTION:Individuals and family members of all ages impacted by epilepsy are invited to join EFMN to kick off the holiday season at the Moorhead Holiday Tree Lighting. Let’s meet up at Third Drop Coffee 115 4th St S\, in Moorhead then walk around the corner with a warm beverage to the tree lighting at Rourke Art Gallery.
URL:https://www.epilepsyfoundationmn.org/event/moorhead-tree-lighting/
LOCATION:Third Drop Coffee\, 115 4th Street South\, Moorhead\, MN\, 56560\, United States
CATEGORIES:Fargo/Moorhead Region
END:VEVENT
END:VCALENDAR