BEGIN:VCALENDAR
VERSION:2.0
PRODID:-//Epilepsy Foundation of Minnesota - ECPv6.15.20//NONSGML v1.0//EN
CALSCALE:GREGORIAN
METHOD:PUBLISH
X-ORIGINAL-URL:https://www.epilepsyfoundationmn.org
X-WR-CALDESC:Events for Epilepsy Foundation of Minnesota
REFRESH-INTERVAL;VALUE=DURATION:PT1H
X-Robots-Tag:noindex
X-PUBLISHED-TTL:PT1H
BEGIN:VTIMEZONE
TZID:America/Chicago
BEGIN:DAYLIGHT
TZOFFSETFROM:-0600
TZOFFSETTO:-0500
TZNAME:CDT
DTSTART:20180311T080000
END:DAYLIGHT
BEGIN:STANDARD
TZOFFSETFROM:-0500
TZOFFSETTO:-0600
TZNAME:CST
DTSTART:20181104T070000
END:STANDARD
BEGIN:DAYLIGHT
TZOFFSETFROM:-0600
TZOFFSETTO:-0500
TZNAME:CDT
DTSTART:20190310T080000
END:DAYLIGHT
BEGIN:STANDARD
TZOFFSETFROM:-0500
TZOFFSETTO:-0600
TZNAME:CST
DTSTART:20191103T070000
END:STANDARD
BEGIN:DAYLIGHT
TZOFFSETFROM:-0600
TZOFFSETTO:-0500
TZNAME:CDT
DTSTART:20200308T080000
END:DAYLIGHT
BEGIN:STANDARD
TZOFFSETFROM:-0500
TZOFFSETTO:-0600
TZNAME:CST
DTSTART:20201101T070000
END:STANDARD
END:VTIMEZONE
BEGIN:VEVENT
DTSTART;VALUE=DATE:20190907
DTEND;VALUE=DATE:20190908
DTSTAMP:20260424T062536
CREATED:20190507T005801Z
LAST-MODIFIED:20190829T152256Z
UID:20483-1567814400-1567900799@www.epilepsyfoundationmn.org
SUMMARY:Family Camp
DESCRIPTION:Family Camp is for youth ages 6-17 with additional medical\, developmental\, social\, or emotional needs that cannot be accommodated at Camp Oz. Each camper is required to have at least one parent or guardian attend camp with them. Activities include arts and crafts\, climbing wall\, games\, team building\, and more.\n\n \n\nVisit efmn.org/camp for more information & to register\, or contact mmeuwissen@efmn.org with any questions.
URL:https://www.epilepsyfoundationmn.org/event/family-camp/
LOCATION:Camp Christmas Tree\, 6365 Game Farm Rd. E\, Mound\, MN\, 55364\, United States
CATEGORIES:Duluth Region,Fargo/Moorhead Region,Rochester Region,St Cloud Region,Twin Cities Region
END:VEVENT
BEGIN:VEVENT
DTSTART;TZID=America/Chicago:20190912T173000
DTEND;TZID=America/Chicago:20190912T190000
DTSTAMP:20260424T062536
CREATED:20190508T212929Z
LAST-MODIFIED:20200605T045104Z
UID:27425-1568309400-1568314800@www.epilepsyfoundationmn.org
SUMMARY:Adult Connect Group
DESCRIPTION:Join us to connect with other adults affected by epilepsy. September’s discussion topic is “Living your best with epilepsy.” The MN Room is located on the first floor across from the cafeteria. Light refreshments available. Contact Lisa Peterson at lisa.peterson@efmn.org or 218.624.1330 with any questions.
URL:https://www.epilepsyfoundationmn.org/event/adult-connect-group/
LOCATION:MN
CATEGORIES:Duluth Region
END:VEVENT
BEGIN:VEVENT
DTSTART;TZID=America/Chicago:20190924T173000
DTEND;TZID=America/Chicago:20190924T190000
DTSTAMP:20260424T062536
CREATED:20190506T213127Z
LAST-MODIFIED:20200210T211111Z
UID:14216-1569346200-1569351600@www.epilepsyfoundationmn.org
SUMMARY:CANCELED - Connect Group - Deer River
DESCRIPTION:Sorry but this event has been canceled.
URL:https://www.epilepsyfoundationmn.org/event/connect-group-northland-deer-river-9-24-2019/
LOCATION:MN
CATEGORIES:Duluth Region
END:VEVENT
BEGIN:VEVENT
DTSTART;TZID=America/Chicago:20190930T173000
DTEND;TZID=America/Chicago:20190930T193000
DTSTAMP:20260424T062536
CREATED:20190507T035455Z
LAST-MODIFIED:20191004T162843Z
UID:25556-1569864600-1569871800@www.epilepsyfoundationmn.org
SUMMARY:Family Connect Group
DESCRIPTION:Join us to connect with other parents and caregivers. This month our discussion topic is “Seizures and school.” Dinner and kid-friendly activities available.\n\nContact Lisa Peterson at lisa.peterson@efmn.org or 218.624.1330 with any questions.
URL:https://www.epilepsyfoundationmn.org/event/connect-group-northland-9-30-2019/
LOCATION:MN
CATEGORIES:Duluth Region
END:VEVENT
END:VCALENDAR