BEGIN:VCALENDAR
VERSION:2.0
PRODID:-//Epilepsy Foundation of Minnesota - ECPv6.15.20//NONSGML v1.0//EN
CALSCALE:GREGORIAN
METHOD:PUBLISH
X-WR-CALNAME:Epilepsy Foundation of Minnesota
X-ORIGINAL-URL:https://www.epilepsyfoundationmn.org
X-WR-CALDESC:Events for Epilepsy Foundation of Minnesota
REFRESH-INTERVAL;VALUE=DURATION:PT1H
X-Robots-Tag:noindex
X-PUBLISHED-TTL:PT1H
BEGIN:VTIMEZONE
TZID:America/Chicago
BEGIN:DAYLIGHT
TZOFFSETFROM:-0600
TZOFFSETTO:-0500
TZNAME:CDT
DTSTART:20180311T080000
END:DAYLIGHT
BEGIN:STANDARD
TZOFFSETFROM:-0500
TZOFFSETTO:-0600
TZNAME:CST
DTSTART:20181104T070000
END:STANDARD
BEGIN:DAYLIGHT
TZOFFSETFROM:-0600
TZOFFSETTO:-0500
TZNAME:CDT
DTSTART:20190310T080000
END:DAYLIGHT
BEGIN:STANDARD
TZOFFSETFROM:-0500
TZOFFSETTO:-0600
TZNAME:CST
DTSTART:20191103T070000
END:STANDARD
BEGIN:DAYLIGHT
TZOFFSETFROM:-0600
TZOFFSETTO:-0500
TZNAME:CDT
DTSTART:20200308T080000
END:DAYLIGHT
BEGIN:STANDARD
TZOFFSETFROM:-0500
TZOFFSETTO:-0600
TZNAME:CST
DTSTART:20201101T070000
END:STANDARD
END:VTIMEZONE
BEGIN:VEVENT
DTSTART;TZID=America/Chicago:20190801T170000
DTEND;TZID=America/Chicago:20190801T200000
DTSTAMP:20260424T091422
CREATED:20190506T234859Z
LAST-MODIFIED:20190507T171405Z
UID:17723-1564678800-1564689600@www.epilepsyfoundationmn.org
SUMMARY:Rise Above Seizures Walk - Duluth
DESCRIPTION:The Epilepsy Foundation of Minnesota (EFMN)’s annual Rise Above Seizures Walk is the single largest fundraising and awareness event in Minnesota and North Dakota to benefit people with seizures. The walk began in 1999 in Rochester\, MN and since then has expanded to four additional cities; Minneapolis/St. Paul\, Duluth\, St. Cloud\, and Fargo/Moorhead.\n\nThe Rise Above Seizures Walk celebrates people with seizures and raises awareness and funds to support services for the many people EFMN serves annually. Over 3\,500 walkers in five communities come together as a powerful force to help people with epilepsy realize their full potential and stop seizures. Funds raised from the walk are used to educate\, connect and empower people living with seizures and honor their loved ones. 100% of the funds raised in each of our regions are reinvested directly back into the community!\n\n 
URL:https://www.epilepsyfoundationmn.org/event/rise-above-seizures-walk-duluth/
LOCATION:Park Point Pavilion & Beach House\, 5000 Minnesota Ave\, Duluth\, MN\, 55802\, United States
CATEGORIES:Duluth Region
ORGANIZER;CN="Lisa Peterson":MAILTO:lisa.peterson@efmn.org
END:VEVENT
BEGIN:VEVENT
DTSTART;TZID=America/Chicago:20190823T170000
DTEND;TZID=America/Chicago:20190823T190000
DTSTAMP:20260424T091422
CREATED:20190507T024345Z
LAST-MODIFIED:20190827T195652Z
UID:22953-1566579600-1566586800@www.epilepsyfoundationmn.org
SUMMARY:Adult Social Event - Glensheen Mansion
DESCRIPTION:Adults are invited to join us and explore the Glensheen Mansion and connect with others affected by epilepsy. This event is free for people with epilepsy and $5 for each additional family member. \n\n5:00 tour of the grounds (optional) but please plan to arrive by 5:45 if possible. Guided tour from 6:00-7:00 PM. The lower level and main floor are wheelchair accessible. Guests should plan to eat before they arrive. Contact Lisa Peterson at lisa.peterson@efmn.org or 218.624.1330 with any questions
URL:https://www.epilepsyfoundationmn.org/event/social-event-northland-8-22-2019/
LOCATION:MN
CATEGORIES:Duluth Region
END:VEVENT
END:VCALENDAR