BEGIN:VCALENDAR
VERSION:2.0
PRODID:-//Epilepsy Foundation of Minnesota - ECPv6.15.13//NONSGML v1.0//EN
CALSCALE:GREGORIAN
METHOD:PUBLISH
X-WR-CALNAME:Epilepsy Foundation of Minnesota
X-ORIGINAL-URL:https://www.epilepsyfoundationmn.org
X-WR-CALDESC:Events for Epilepsy Foundation of Minnesota
REFRESH-INTERVAL;VALUE=DURATION:PT1H
X-Robots-Tag:noindex
X-PUBLISHED-TTL:PT1H
BEGIN:VTIMEZONE
TZID:America/Chicago
BEGIN:DAYLIGHT
TZOFFSETFROM:-0600
TZOFFSETTO:-0500
TZNAME:CDT
DTSTART:20220313T080000
END:DAYLIGHT
BEGIN:STANDARD
TZOFFSETFROM:-0500
TZOFFSETTO:-0600
TZNAME:CST
DTSTART:20221106T070000
END:STANDARD
BEGIN:DAYLIGHT
TZOFFSETFROM:-0600
TZOFFSETTO:-0500
TZNAME:CDT
DTSTART:20230312T080000
END:DAYLIGHT
BEGIN:STANDARD
TZOFFSETFROM:-0500
TZOFFSETTO:-0600
TZNAME:CST
DTSTART:20231105T070000
END:STANDARD
BEGIN:DAYLIGHT
TZOFFSETFROM:-0600
TZOFFSETTO:-0500
TZNAME:CDT
DTSTART:20240310T080000
END:DAYLIGHT
BEGIN:STANDARD
TZOFFSETFROM:-0500
TZOFFSETTO:-0600
TZNAME:CST
DTSTART:20241103T070000
END:STANDARD
END:VTIMEZONE
BEGIN:VEVENT
DTSTART;TZID=America/Chicago:20231002T183000
DTEND;TZID=America/Chicago:20231002T200000
DTSTAMP:20260420T104331
CREATED:20230926T192134Z
LAST-MODIFIED:20230926T192134Z
UID:51829-1696271400-1696276800@www.epilepsyfoundationmn.org
SUMMARY:Metro In Person Connect Group
DESCRIPTION:Individuals and family members impacted by epilepsy are invited to come together to meet others\, share the triumphs and challenges of living with seizures\, and connect with those who understand the epilepsy journey at the EFMN Office in Bloomington. If you have questions\, please contact Metro Outreach Manager Erik Williams at ewilliams@efmn.org or 651.287.2319.
URL:https://www.epilepsyfoundationmn.org/event/metro-in-person-connect-group/
LOCATION:Epilepsy Foundation of Minnesota\, 7760 France Avenue South\, Suite 210\, Bloomington\, MN\, 55435\, United States
CATEGORIES:Twin Cities Region
END:VEVENT
END:VCALENDAR