BEGIN:VCALENDAR
VERSION:2.0
PRODID:-//Epilepsy Foundation of Minnesota - ECPv6.15.13//NONSGML v1.0//EN
CALSCALE:GREGORIAN
METHOD:PUBLISH
X-WR-CALNAME:Epilepsy Foundation of Minnesota
X-ORIGINAL-URL:https://www.epilepsyfoundationmn.org
X-WR-CALDESC:Events for Epilepsy Foundation of Minnesota
REFRESH-INTERVAL;VALUE=DURATION:PT1H
X-Robots-Tag:noindex
X-PUBLISHED-TTL:PT1H
BEGIN:VTIMEZONE
TZID:America/Chicago
BEGIN:DAYLIGHT
TZOFFSETFROM:-0600
TZOFFSETTO:-0500
TZNAME:CDT
DTSTART:20220313T080000
END:DAYLIGHT
BEGIN:STANDARD
TZOFFSETFROM:-0500
TZOFFSETTO:-0600
TZNAME:CST
DTSTART:20221106T070000
END:STANDARD
BEGIN:DAYLIGHT
TZOFFSETFROM:-0600
TZOFFSETTO:-0500
TZNAME:CDT
DTSTART:20230312T080000
END:DAYLIGHT
BEGIN:STANDARD
TZOFFSETFROM:-0500
TZOFFSETTO:-0600
TZNAME:CST
DTSTART:20231105T070000
END:STANDARD
BEGIN:DAYLIGHT
TZOFFSETFROM:-0600
TZOFFSETTO:-0500
TZNAME:CDT
DTSTART:20240310T080000
END:DAYLIGHT
BEGIN:STANDARD
TZOFFSETFROM:-0500
TZOFFSETTO:-0600
TZNAME:CST
DTSTART:20241103T070000
END:STANDARD
END:VTIMEZONE
BEGIN:VEVENT
DTSTART;TZID=America/Chicago:20230817T183000
DTEND;TZID=America/Chicago:20230817T193000
DTSTAMP:20260421T202323
CREATED:20230615T153110Z
LAST-MODIFIED:20230615T153110Z
UID:51453-1692297000-1692300600@www.epilepsyfoundationmn.org
SUMMARY:Parent/Caregiver  Virtual Connect Group
DESCRIPTION:Meet other parents\, grandparents\, and caregivers who live day-to-day caring for a child with seizures and/or epilepsy. This is an opportunity to meet others\, offer peer-to-peer support\, share resources and experiences\, and talk honestly about the triumphs and challenges of a child’s epilepsy journey. For more information\, please contact Erik Williams at ewilliams@efmn.org or 651-262-9345
URL:https://www.epilepsyfoundationmn.org/event/parent-caregiver-virtual-connect-group-9/
LOCATION:Virtual Event via Zoom Meeting
CATEGORIES:Virtual
END:VEVENT
END:VCALENDAR