BEGIN:VCALENDAR
VERSION:2.0
PRODID:-//Epilepsy Foundation of Minnesota - ECPv6.15.13//NONSGML v1.0//EN
CALSCALE:GREGORIAN
METHOD:PUBLISH
X-WR-CALNAME:Epilepsy Foundation of Minnesota
X-ORIGINAL-URL:https://www.epilepsyfoundationmn.org
X-WR-CALDESC:Events for Epilepsy Foundation of Minnesota
REFRESH-INTERVAL;VALUE=DURATION:PT1H
X-Robots-Tag:noindex
X-PUBLISHED-TTL:PT1H
BEGIN:VTIMEZONE
TZID:America/Chicago
BEGIN:DAYLIGHT
TZOFFSETFROM:-0600
TZOFFSETTO:-0500
TZNAME:CDT
DTSTART:20220313T080000
END:DAYLIGHT
BEGIN:STANDARD
TZOFFSETFROM:-0500
TZOFFSETTO:-0600
TZNAME:CST
DTSTART:20221106T070000
END:STANDARD
BEGIN:DAYLIGHT
TZOFFSETFROM:-0600
TZOFFSETTO:-0500
TZNAME:CDT
DTSTART:20230312T080000
END:DAYLIGHT
BEGIN:STANDARD
TZOFFSETFROM:-0500
TZOFFSETTO:-0600
TZNAME:CST
DTSTART:20231105T070000
END:STANDARD
BEGIN:DAYLIGHT
TZOFFSETFROM:-0600
TZOFFSETTO:-0500
TZNAME:CDT
DTSTART:20240310T080000
END:DAYLIGHT
BEGIN:STANDARD
TZOFFSETFROM:-0500
TZOFFSETTO:-0600
TZNAME:CST
DTSTART:20241103T070000
END:STANDARD
END:VTIMEZONE
BEGIN:VEVENT
DTSTART;TZID=America/Chicago:20230621T173000
DTEND;TZID=America/Chicago:20230621T183000
DTSTAMP:20260422T055930
CREATED:20230318T154048Z
LAST-MODIFIED:20230417T184155Z
UID:50793-1687368600-1687372200@www.epilepsyfoundationmn.org
SUMMARY:Grupo de conexión en Español\, 21 de junio
DESCRIPTION:Miercoles\, 21 de junio\, 5:30-6:30pm.  La epilepsia puede ser una condición aislante sin el apoyo de otros\, pero creemos que nadie debería tener que enfrentar la epilepsia\nsolo. Esta reunión virtual es una oportunidad para conectarse con otras personas hispanohablantes\, compartir experiencias y dar/recibir apoyo. Son bienvenidos personas con epilepsia\, cuidadores\, padres\, u otros seres queridos de alguien con epilepsia. Si tiene preguntas\, por favor contacte a Angela (651-368-6209\, llamada/texto).Unirse a la reunión de zoom\n\nID de reunión: 821 8828 4802
URL:https://www.epilepsyfoundationmn.org/event/grupo-de-conexion-en-espanol-5/
LOCATION:Virtual Event via Zoom Meeting
CATEGORIES:Virtual
END:VEVENT
BEGIN:VEVENT
DTSTART;TZID=America/Chicago:20230621T183000
DTEND;TZID=America/Chicago:20230621T194500
DTSTAMP:20260422T055930
CREATED:20230426T181447Z
LAST-MODIFIED:20230524T133906Z
UID:51041-1687372200-1687376700@www.epilepsyfoundationmn.org
SUMMARY:Wellness Wednesday Webinar: Making the Epilepsy Diagnosis - The Overall Process and Testing that Plays a Role
DESCRIPTION:An individual who has experienced one or more seizures may undergo an array of tests on the way to a diagnosis of epilepsy\, and it can be confusing to understand why they are being done and what the results mean. Join Elaine Wirrell\, MD\, director of Pediatric Epilepsy at Mayo Clinic\, for a comprehensive discussion of the diagnostic process\, including exams\, assessments and common tests – how they are done\, what information they provide\, and the implications of the results in diagnosis and treatment.\nRegister today.\nSponsored by Mayo Clinic.
URL:https://www.epilepsyfoundationmn.org/event/wellness-wednesday-webinar-making-the-epilepsy-diagnosis-the-overall-process-and-testing-that-plays-a-role/
LOCATION:Virtual Event
CATEGORIES:Virtual
END:VEVENT
END:VCALENDAR