BEGIN:VCALENDAR
VERSION:2.0
PRODID:-//Epilepsy Foundation of Minnesota - ECPv6.15.13//NONSGML v1.0//EN
CALSCALE:GREGORIAN
METHOD:PUBLISH
X-WR-CALNAME:Epilepsy Foundation of Minnesota
X-ORIGINAL-URL:https://www.epilepsyfoundationmn.org
X-WR-CALDESC:Events for Epilepsy Foundation of Minnesota
REFRESH-INTERVAL;VALUE=DURATION:PT1H
X-Robots-Tag:noindex
X-PUBLISHED-TTL:PT1H
BEGIN:VTIMEZONE
TZID:America/Chicago
BEGIN:DAYLIGHT
TZOFFSETFROM:-0600
TZOFFSETTO:-0500
TZNAME:CDT
DTSTART:20220313T080000
END:DAYLIGHT
BEGIN:STANDARD
TZOFFSETFROM:-0500
TZOFFSETTO:-0600
TZNAME:CST
DTSTART:20221106T070000
END:STANDARD
BEGIN:DAYLIGHT
TZOFFSETFROM:-0600
TZOFFSETTO:-0500
TZNAME:CDT
DTSTART:20230312T080000
END:DAYLIGHT
BEGIN:STANDARD
TZOFFSETFROM:-0500
TZOFFSETTO:-0600
TZNAME:CST
DTSTART:20231105T070000
END:STANDARD
BEGIN:DAYLIGHT
TZOFFSETFROM:-0600
TZOFFSETTO:-0500
TZNAME:CDT
DTSTART:20240310T080000
END:DAYLIGHT
BEGIN:STANDARD
TZOFFSETFROM:-0500
TZOFFSETTO:-0600
TZNAME:CST
DTSTART:20241103T070000
END:STANDARD
END:VTIMEZONE
BEGIN:VEVENT
DTSTART;TZID=America/Chicago:20230522T170000
DTEND;TZID=America/Chicago:20230522T183000
DTSTAMP:20260421T044739
CREATED:20230321T202755Z
LAST-MODIFIED:20230321T202755Z
UID:50845-1684774800-1684780200@www.epilepsyfoundationmn.org
SUMMARY:Marshall Pizza Night
DESCRIPTION:Individuals and family members of all ages impacted by epilepsy are invited to join EFMN for pizza and time to connect with others at Pizza Ranch. The pizza buffet is free for individuals living with epilepsy and $5 per individual guest or $10 per family. For more information contact Lisa Necastro at lisa.necastro@efmn.org or 651-287-2358
URL:https://www.epilepsyfoundationmn.org/event/marshall-pizza-night/
LOCATION:Marshall Pizza Ranch\, 1420 Boyer Dr.\, Marshall\, MN\, 56258\, United States
CATEGORIES:Fargo/Moorhead Region
END:VEVENT
BEGIN:VEVENT
DTSTART;TZID=America/Chicago:20230522T180000
DTEND;TZID=America/Chicago:20230522T193000
DTSTAMP:20260421T044739
CREATED:20230421T131235Z
LAST-MODIFIED:20230421T131235Z
UID:51019-1684778400-1684783800@www.epilepsyfoundationmn.org
SUMMARY:Roseville Community Pizza Party
DESCRIPTION:Come share connections and stories with other individuals and families impacted by epilepsy while enjoying a pizza dinner at Davanni’s in Roseville. All ages are welcome\, dinner is free for the person living with epilepsy and additional family and friends are invited for $5 per person or $10 per family. EFMN is committed to supporting all people who would like to attend our social events. If you need financial support\, please check the box in the payment section of the below form. If you have any questions\, please contact Amy Haugen\, Director of Regional Outreach and Programs at 320.203.9722 or amy.haugen@efmn.org
URL:https://www.epilepsyfoundationmn.org/event/roseville-community-pizza-party/
LOCATION:Davanni’s Roseville\, 1905W Perimeter Dr\, Roseville\, 55113\, United States
CATEGORIES:Twin Cities Region
END:VEVENT
END:VCALENDAR