BEGIN:VCALENDAR
VERSION:2.0
PRODID:-//Epilepsy Foundation of Minnesota - ECPv6.15.13//NONSGML v1.0//EN
CALSCALE:GREGORIAN
METHOD:PUBLISH
X-WR-CALNAME:Epilepsy Foundation of Minnesota
X-ORIGINAL-URL:https://www.epilepsyfoundationmn.org
X-WR-CALDESC:Events for Epilepsy Foundation of Minnesota
REFRESH-INTERVAL;VALUE=DURATION:PT1H
X-Robots-Tag:noindex
X-PUBLISHED-TTL:PT1H
BEGIN:VTIMEZONE
TZID:America/Chicago
BEGIN:DAYLIGHT
TZOFFSETFROM:-0600
TZOFFSETTO:-0500
TZNAME:CDT
DTSTART:20220313T080000
END:DAYLIGHT
BEGIN:STANDARD
TZOFFSETFROM:-0500
TZOFFSETTO:-0600
TZNAME:CST
DTSTART:20221106T070000
END:STANDARD
BEGIN:DAYLIGHT
TZOFFSETFROM:-0600
TZOFFSETTO:-0500
TZNAME:CDT
DTSTART:20230312T080000
END:DAYLIGHT
BEGIN:STANDARD
TZOFFSETFROM:-0500
TZOFFSETTO:-0600
TZNAME:CST
DTSTART:20231105T070000
END:STANDARD
BEGIN:DAYLIGHT
TZOFFSETFROM:-0600
TZOFFSETTO:-0500
TZNAME:CDT
DTSTART:20240310T080000
END:DAYLIGHT
BEGIN:STANDARD
TZOFFSETFROM:-0500
TZOFFSETTO:-0600
TZNAME:CST
DTSTART:20241103T070000
END:STANDARD
END:VTIMEZONE
BEGIN:VEVENT
DTSTART;TZID=America/Chicago:20230520T100000
DTEND;TZID=America/Chicago:20230520T120000
DTSTAMP:20260421T193119
CREATED:20230421T142907Z
LAST-MODIFIED:20230426T184206Z
UID:51027-1684576800-1684584000@www.epilepsyfoundationmn.org
SUMMARY:Camp Oz Orientation and Tour
DESCRIPTION:Camp families are encouraged to attend this orientation to Camp Oz session\, being held at Camp St. Croix in Hudson\, WI. Time will be spent providing information about the camp experience\, and a tour of the camp grounds. Any Camp Oz family is invited to attend; new camp families are strongly encouraged to attend. Have questions about this event? Contact Amy Haugen at amy.haugen@efmn.org or Erik Williams at ewilliams@efmn.org.\nRegister below.
URL:https://www.epilepsyfoundationmn.org/event/camp-oz-orientation-and-tour/
LOCATION:YMCA Camp St. Croix\, 532 County Rd F\, Hudson\, WI\, 54016\, United States
END:VEVENT
END:VCALENDAR