BEGIN:VCALENDAR
VERSION:2.0
PRODID:-//Epilepsy Foundation of Minnesota - ECPv6.15.13//NONSGML v1.0//EN
CALSCALE:GREGORIAN
METHOD:PUBLISH
X-ORIGINAL-URL:https://www.epilepsyfoundationmn.org
X-WR-CALDESC:Events for Epilepsy Foundation of Minnesota
REFRESH-INTERVAL;VALUE=DURATION:PT1H
X-Robots-Tag:noindex
X-PUBLISHED-TTL:PT1H
BEGIN:VTIMEZONE
TZID:America/Chicago
BEGIN:DAYLIGHT
TZOFFSETFROM:-0600
TZOFFSETTO:-0500
TZNAME:CDT
DTSTART:20220313T080000
END:DAYLIGHT
BEGIN:STANDARD
TZOFFSETFROM:-0500
TZOFFSETTO:-0600
TZNAME:CST
DTSTART:20221106T070000
END:STANDARD
BEGIN:DAYLIGHT
TZOFFSETFROM:-0600
TZOFFSETTO:-0500
TZNAME:CDT
DTSTART:20230312T080000
END:DAYLIGHT
BEGIN:STANDARD
TZOFFSETFROM:-0500
TZOFFSETTO:-0600
TZNAME:CST
DTSTART:20231105T070000
END:STANDARD
BEGIN:DAYLIGHT
TZOFFSETFROM:-0600
TZOFFSETTO:-0500
TZNAME:CDT
DTSTART:20240310T080000
END:DAYLIGHT
BEGIN:STANDARD
TZOFFSETFROM:-0500
TZOFFSETTO:-0600
TZNAME:CST
DTSTART:20241103T070000
END:STANDARD
END:VTIMEZONE
BEGIN:VEVENT
DTSTART;TZID=America/Chicago:20230429T150000
DTEND;TZID=America/Chicago:20230429T170000
DTSTAMP:20260423T025722
CREATED:20230317T133539Z
LAST-MODIFIED:20230317T133539Z
UID:50743-1682780400-1682787600@www.epilepsyfoundationmn.org
SUMMARY:Grand Rapids Tacos & Game Night
DESCRIPTION:Individuals and family members of all ages impacted by epilepsy are invited to join EFMN for tacos and potatoe ole’s from Taco John’s\, conversation\, and activities including pool table\, corn hole\, and board games. You’re welcome to bring a store bought potluck item to share. For more information contact Lisa Peterson at lisa.peterson@efmn.org or 218-624-1330.
URL:https://www.epilepsyfoundationmn.org/event/grand-rapids-tacos-game-night/
LOCATION:Kiesler Wellness Center\, 3130 SE 2nd Ave\, Grand Rapids\, MN\, 55744\, United States
CATEGORIES:Duluth Region
END:VEVENT
END:VCALENDAR