BEGIN:VCALENDAR
VERSION:2.0
PRODID:-//Epilepsy Foundation of Minnesota - ECPv6.15.20//NONSGML v1.0//EN
CALSCALE:GREGORIAN
METHOD:PUBLISH
X-WR-CALNAME:Epilepsy Foundation of Minnesota
X-ORIGINAL-URL:https://www.epilepsyfoundationmn.org
X-WR-CALDESC:Events for Epilepsy Foundation of Minnesota
REFRESH-INTERVAL;VALUE=DURATION:PT1H
X-Robots-Tag:noindex
X-PUBLISHED-TTL:PT1H
BEGIN:VTIMEZONE
TZID:America/Chicago
BEGIN:DAYLIGHT
TZOFFSETFROM:-0600
TZOFFSETTO:-0500
TZNAME:CDT
DTSTART:20180311T080000
END:DAYLIGHT
BEGIN:STANDARD
TZOFFSETFROM:-0500
TZOFFSETTO:-0600
TZNAME:CST
DTSTART:20181104T070000
END:STANDARD
BEGIN:DAYLIGHT
TZOFFSETFROM:-0600
TZOFFSETTO:-0500
TZNAME:CDT
DTSTART:20190310T080000
END:DAYLIGHT
BEGIN:STANDARD
TZOFFSETFROM:-0500
TZOFFSETTO:-0600
TZNAME:CST
DTSTART:20191103T070000
END:STANDARD
BEGIN:DAYLIGHT
TZOFFSETFROM:-0600
TZOFFSETTO:-0500
TZNAME:CDT
DTSTART:20200308T080000
END:DAYLIGHT
BEGIN:STANDARD
TZOFFSETFROM:-0500
TZOFFSETTO:-0600
TZNAME:CST
DTSTART:20201101T070000
END:STANDARD
END:VTIMEZONE
BEGIN:VEVENT
DTSTART;TZID=America/Chicago:20190910T180000
DTEND;TZID=America/Chicago:20190910T190000
DTSTAMP:20260425T130034
CREATED:20190809T224903Z
LAST-MODIFIED:20200210T211110Z
UID:30025-1568138400-1568142000@www.epilepsyfoundationmn.org
SUMMARY:Seizure Smart Training Webinar
DESCRIPTION:1 in 10 people will have a seizure in their lifetime and 1 in 26 will develop epilepsy\, this FREE TRAINING provides useful information so you can be prepared. With the convenience of a webinar you can do it at your home or you can set it up for all your staff to view. Register today!\n\n\nThis training is a resource to help participants identify seizures\, learn seizure first aid\, and overcome the myths surrounding epilepsy. \n\n\nParticipants will learn what epilepsy is and isn’t\, common types of seizures\, how to recognize and respond to epileptic seizures\, andwhen to call 911 and when it is not necessary. \n\n\nEach participant can be awarded 1 CEU for attending the ENTIRE webinar if desired.\n\n\nRegister here: https://attendee.gotowebinar.com/register/4668821441698193163
URL:https://www.epilepsyfoundationmn.org/event/seizure-smart-training-webinar/
CATEGORIES:Twin Cities Region
END:VEVENT
END:VCALENDAR